Workbook

Sheet Raw results fibers
B1: PES BEFORE | E1: PES AFTER | H1: PA BEFORE | K1: PA AFTER | N1: PMMA BEFORE | Q1: PMMA AFTER | T1: PE BEFORE | W1: PE AFTER | Z1: COTTON BEFORE | AC1: COTTON AFTER | AF1: WOOL BEFORE | AI1: WOOL AFTER | AM1: CELLULOSE BEFORE | AP1: CELLULOSE AFTER
B2: 6 estimated fiber diameter per replicate (µm) | E2: 6 estimated fiber diameter per replicate (µm) | H2: 6 estimated fiber diameter per replicate (µm) | K2: 6 estimated fiber diameter per replicate (µm) | N2: 6 estimated fiber diameter per replicate (µm) | Q2: 6 estimated fiber diameter per replicate (µm) | T2: 6 estimated fiber diameter per replicate (µm) | W2: 6 estimated fiber diameter per replicate (µm) | Z2: 6 estimated fiber diameter per replicate (µm) | AC2: 6 estimated fiber diameter per replicate (µm) | AF2: 6 estimated fiber diameter per replicate (µm) | AI2: 6 estimated fiber diameter per replicate (µm) | AM2: Estimation of the total surface area and the surface area of the holes in the samples (µm2) | AP2: Estimation of the total surface area and the surface area of the holes in the samples (µm2)
A3: Replicate : | B3: 1 | C3: 2 | D3: 3 | E3: 1 | F3: 2 | G3: 3 | H3: 1 | I3: 2 | J3: 3 | K3: 1 | L3: 2 | M3: 3 | N3: 1 | O3: 2 | P3: 3 | Q3: 1 | R3: 2 | S3: 3 | T3: 1 | U3: 2 | V3: 3 | W3: 1 | X3: 2 | Y3: 3 | Z3: 1 | AA3: 2 | AB3: 3 | AC3: 1 | AD3: 2 | AE3: 3 | AF3: 1 | AG3: 2 | AH3: 3 | AI3: 1 | AJ3: 2 | AK3: 3 | AM3: 1 | AN3: 2 | AO3: 3 | AP3: 1 | AQ3: 2 | AR3: 3
A4: 10 M NaOH RT | B4: 25.79 | C4: 26.6 | D4: 28.15 | E4: 26.31 | F4: 25.35 | G4: 28.17 | H4: 16.67 | I4: 18.67 | J4: 15.97 | K4: 15.38 | L4: 13.18 | M4: 16.31 | N4: 24.6 | O4: 14.86 | P4: 23.07 | Q4: 25.37 | R4: 21.94 | S4: 22.34 | T4: 19.01 | U4: 21.68 | V4: 20.86 | W4: 21.61 | X4: 22.59 | Y4: 22.99 | Z4: 23.67 | AA4: 21.23 | AB4: 17.44 | AC4: 18.3 | AD4: 19.55 | AE4: 16.45 | AF4: 32.79 | AG4: 26.84 | AH4: 29.94 | AI4: 12.49 | AJ4: 20.38 | AK4: 50.55 | AL4: Total area | AM4: 1329374.3 | AN4: 1853287.4 | AO4: 1200504.1 | AP4: 447886.47 | AQ4: 531922 | AR4: 722973
B5: 26.03 | C5: 26.6 | D5: 26.5 | E5: 26.03 | F5: 24.79 | G5: 27.85 | H5: 15.34 | I5: 17.57 | J5: 16.22 | K5: 16.61 | L5: 13.43 | M5: 16.73 | N5: 24.58 | O5: 15.2 | P5: 23.15 | Q5: 24.91 | R5: 23.2 | S5: 23.66 | T5: 18.83 | U5: 22.77 | V5: 19.64 | W5: 21.18 | X5: 17.63 | Y5: 21.84 | Z5: 15.19 | AA5: 24.08 | AB5: 17.44 | AC5: 19.64 | AD5: 21.22 | AE5: 17.75 | AF5: 31.58 | AG5: 28.57 | AH5: 29.03 | AI5: 11.67 | AJ5: 18.05 | AK5: 56.65 | AL5: Holes Area | AM5: =729*139.514 -> 101705.71 | AN5: =226.7213*1070 -> 242591.79 | AO5: =495*186.1602 -> 92149.299 | AP5: =982*77.8646 -> 76463.037 | AQ5: =715*72.2476 -> 51657.034 | AR5: =853*112.5006 -> 95963.012
B6: 24.58 | C6: 25.14 | D6: 26.89 | E6: 25.53 | F6: 24.04 | G6: 26.6 | H6: 15.38 | I6: 17.57 | J6: 15.32 | K6: 15.99 | L6: 14.47 | M6: 15.38 | N6: 24.06 | O6: 15.71 | P6: 24.39 | Q6: 26.35 | R6: 25.28 | S6: 22.46 | T6: 21.05 | U6: 19.77 | V6: 20.74 | W6: 20.87 | X6: 22.41 | Y6: 21.02 | Z6: 15.46 | AA6: 21.32 | AB6: 17.13 | AC6: 19.71 | AD6: 17.87 | AE6: 20.18 | AF6: 30.07 | AG6: 26.89 | AH6: 27.9 | AI6: 12.37 | AJ6: 17.64 | AK6: 54.87
B7: 26.28 | C7: 26.18 | D7: 28.12 | E7: 26.27 | F7: 23.53 | G7: 26.31 | H7: 16.01 | I7: 17.3 | J7: 12.63 | K7: 15.94 | L7: 11.97 | M7: 15.48 | N7: 24.36 | O7: 14.55 | P7: 25.45 | Q7: 21.87 | R7: 27.5 | S7: 21.79 | T7: 18.53 | U7: 20.79 | V7: 20.15 | W7: 17.87 | X7: 21.74 | Y7: 21.75 | Z7: 12.64 | AA7: 20.48 | AB7: 16.34 | AC7: 19.64 | AD7: 17.47 | AE7: 21.6 | AF7: 30.44 | AG7: 29 | AH7: 29.59 | AI7: 10.35 | AJ7: 17.07 | AK7: 49.54
B8: 26.83 | C8: 25.78 | D8: 26.94 | E8: 26.24 | F8: 24.05 | G8: 24.9 | H8: 14.46 | I8: 17.86 | J8: 14.86 | K8: 15.54 | L8: 14.48 | M8: 13.31 | N8: 24.43 | O8: 18.63 | P8: 26.27 | Q8: 20.72 | R8: 23.9 | S8: 17.96 | T8: 21.53 | U8: 20.31 | V8: 18.93 | W8: 21.76 | X8: 24.55 | Y8: 21 | Z8: 19.43 | AA8: 21.76 | AB8: 21.94 | AC8: 20.08 | AD8: 21.77 | AE8: 20.06 | AF8: 32.38 | AG8: 28.36 | AH8: 28.47 | AI8: 12.74 | AJ8: 22.59 | AK8: 55.49
B9: 26.98 | C9: 27.68 | D9: 27.05 | E9: 25.32 | F9: 23.16 | G9: 25.86 | H9: 15.03 | I9: 15.66 | J9: 14.45 | K9: 16.4 | L9: 13.46 | M9: 16.31 | N9: 24.33 | O9: 19.15 | P9: 23.11 | Q9: 23.1 | R9: 26.17 | S9: 17.9 | T9: 20.31 | U9: 20.96 | V9: 20.35 | W9: 17.59 | X9: 19.88 | Y9: 19.75 | Z9: 18.25 | AA9: 19.33 | AB9: 22.98 | AC9: 17.47 | AD9: 18.61 | AE9: 20.55 | AF9: 33.33 | AG9: 29.95 | AH9: 31.81 | AI9: 10.12 | AJ9: 22.07 | AK9: 51.41
A10: 3 % NaOCl | B10: 27.38 | C10: 26.11 | D10: 23.02 | E10: 23.58 | F10: 25.62 | G10: 22.4 | H10: 15.37 | I10: 18.6 | J10: 15.6 | K10: 12.9 | L10: 17.28 | M10: 16.47 | N10: 29.83 | O10: 20.11 | P10: 24.98 | Q10: 29.31 | R10: 15.79 | S10: 20.81 | T10: 18.63 | U10: 17.4 | V10: 19.49 | W10: 18.6 | X10: 21.42 | Y10: 20.51 | Z10: 20.02 | AA10: 24.26 | AB10: 28.79 | AC10: 11.91 | AD10: 12.31 | AE10: 20.14 | AF10: 27.06 | AG10: 29 | AH10: 30.06 | AL10: Total area | AM10: =396505.1212*4 -> 1586020.5 | AN10: 1160993.9 | AO10: 1099250.6 | AP10: 467141 | AQ10: 370665 | AR10: =790797.3926+303453.1659 -> 1094250.6
B11: 27.46 | C11: 25.09 | D11: 22.15 | E11: 24.07 | F11: 26.1 | G11: 21.77 | H11: 15.22 | I11: 16.33 | J11: 16.58 | K11: 14.83 | L11: 12.81 | M11: 15.62 | N11: 29.3 | O11: 19.65 | P11: 25.13 | Q11: 22.46 | R11: 17.36 | S11: 21.32 | T11: 17.93 | U11: 20.84 | V11: 20.87 | W11: 16.96 | X11: 21.76 | Y11: 19.18 | Z11: 18.84 | AA11: 19.49 | AB11: 23.89 | AC11: 13.33 | AD11: 13.41 | AE11: 13.99 | AF11: 27.44 | AG11: 29.01 | AH11: 29.17 | AL11: Holes Area | AM11: =168*543.3089 -> 91275.895 | AN11: =91*485.74 -> 44202.34 | AO11: =138.1618*586 -> 80962.815 | AP11: =391*144.3478 -> 56439.99 | AQ11: =151*57.5629 -> 8691.9979 | AR11: =569*142.2302 -> 80928.984
B12: 26.01 | C12: 27.34 | D12: 21.74 | E12: 23.44 | F12: 25.01 | G12: 21.6 | H12: 14.16 | I12: 17.19 | J12: 14.62 | K12: 13.46 | L12: 14.42 | M12: 15.97 | N12: 30.77 | O12: 19.65 | P12: 24.58 | Q12: 25.83 | R12: 17.9 | S12: 23.24 | T12: 19.04 | U12: 19.57 | V12: 21.74 | W12: 19.5 | X12: 22.28 | Y12: 23.25 | Z12: 18.8 | AA12: 19.18 | AB12: 21.62 | AC12: 12.74 | AD12: 13.14 | AE12: 15.09 | AF12: 25.61 | AG12: 27.1 | AH12: 29.88
B13: 25.54 | C13: 25.05 | D13: 21.44 | E13: 23.73 | F13: 25.81 | G13: 20.11 | H13: 15.34 | I13: 17.9 | J13: 18.71 | K13: 15.1 | L13: 15.93 | M13: 16.94 | N13: 30.88 | O13: 19.77 | P13: 23.43 | Q13: 23.54 | R13: 19.22 | S13: 21.41 | T13: 21.7 | U13: 20.26 | V13: 21.71 | W13: 19.18 | X13: 19.77 | Y13: 19.58 | Z13: 17.43 | AA13: 16.73 | AB13: 21.05 | AC13: 12.16 | AD13: 11.2 | AE13: 13.6 | AF13: 24.6 | AG13: 31.02 | AH13: 28.75
B14: 28.22 | C14: 25.04 | D14: 21.36 | E14: 23.76 | F14: 25.64 | G14: 20.44 | H14: 12.94 | I14: 18.25 | J14: 16.7 | K14: 14.83 | L14: 14.09 | M14: 15.34 | N14: 30.53 | O14: 17.26 | P14: 27.12 | Q14: 19.6 | R14: 16.03 | S14: 27.48 | T14: 18.56 | U14: 20.98 | V14: 22.06 | W14: 16.93 | X14: 21.6 | Y14: 19.13 | Z14: 24.31 | AA14: 18.76 | AB14: 17.07 | AC14: 13.56 | AD14: 10.94 | AE14: 13.73 | AF14: 28.1 | AG14: 30.11 | AH14: 28.99
B15: 26.9 | C15: 25.07 | D15: 21.52 | E15: 24.56 | F15: 26.43 | G15: 21.08 | H15: 15.64 | I15: 17.2 | J15: 17.39 | K15: 15.39 | L15: 14.25 | M15: 14.45 | N15: 28.54 | O15: 18.34 | P15: 25.41 | Q15: 18.15 | R15: 16.99 | S15: 25.92 | T15: 21.64 | U15: 19.58 | V15: 18.31 | W15: 17.37 | X15: 21.34 | Y15: 20.33 | Z15: 23.79 | AA15: 15.55 | AB15: 18.34 | AC15: 10.72 | AD15: 11.35 | AE15: 11.82 | AF15: 25.9 | AG15: 28.14 | AH15: 29.44
A16: 30 % H2O2 RT | B16: 25.09 | C16: 27.47 | D16: 23.61 | E16: 26.36 | F16: 23.63 | G16: 23.24 | H16: 16.91 | I16: 20.49 | J16: 14.7 | K16: 14.59 | L16: 16.65 | M16: 14.9 | N16: 20.01 | O16: 24.09 | P16: 21.43 | Q16: 22.23 | R16: 26.8 | S16: 21.95 | T16: 23.02 | U16: 19.08 | V16: 20.57 | W16: 19.61 | X16: 19.8 | Y16: 18.28 | Z16: 11.47 | AA16: 10.13 | AB16: 11.08 | AC16: 11.2 | AD16: 10.44 | AE16: 9.84 | AF16: 33.84 | AG16: 37.67 | AH16: 40.36 | AJ16: 12.91 | AK16: 12.53 | AL16: Total area | AM16: 1108447.7 | AN16: 1279952.6 | AO16: 2738312.1
B17: 24.89 | C17: 27.5 | D17: 22.87 | E17: 26.24 | F17: 24.17 | G17: 23.6 | H17: 17.09 | I17: 17.19 | J17: 15.36 | K17: 16.21 | L17: 14.36 | M17: 14.27 | N17: 22.31 | O17: 24.59 | P17: 21.16 | Q17: 20.61 | R17: 26.02 | S17: 21.26 | T17: 19.77 | U17: 20.15 | V17: 20.5 | W17: 18.56 | X17: 19.12 | Y17: 21.26 | Z17: 11.79 | AA17: 10.91 | AB17: 11.28 | AC17: 11.12 | AD17: 10.83 | AE17: 11.44 | AF17: 38.74 | AG17: 37.13 | AH17: 39.09 | AJ17: 15.78 | AK17: 12.94 | AL17: Holes Area | AM17: =479*104.9186 -> 50256.009 | AN17: =102.6369*570 -> 58503.033 | AO17: =525.2162*336 -> 176472.64
B18: 24.25 | C18: 27.94 | D18: 23.22 | E18: 24.45 | F18: 23.27 | G18: 23.12 | H18: 15.05 | I18: 21.12 | J18: 15.43 | K18: 14.76 | L18: 13.43 | M18: 14.94 | N18: 20.07 | O18: 24.23 | P18: 20.35 | Q18: 18.74 | R18: 19.2 | S18: 23.27 | T18: 21.58 | U18: 19.7 | V18: 19.13 | W18: 19.4 | X18: 18.59 | Y18: 17.91 | Z18: 11.55 | AA18: 10 | AB18: 10.67 | AC18: 11.2 | AD18: 11.27 | AE18: 9.77 | AF18: 38.87 | AG18: 33.94 | AH18: 36.76 | AJ18: 16.45 | AK18: 11.79
B19: 22.5 | C19: 26.33 | D19: 22.9 | E19: 22.54 | F19: 24.42 | G19: 22.27 | H19: 13.02 | I19: 19.12 | J19: 15.23 | K19: 16.31 | L19: 13.27 | M19: 14.32 | N19: 18.29 | O19: 24.51 | P19: 21.06 | Q19: 21.57 | R19: 20.21 | S19: 22.25 | T19: 21.11 | U19: 20.46 | V19: 18.49 | W19: 18.5 | X19: 19.99 | Y19: 20.21 | Z19: 11.73 | AA19: 11.6 | AB19: 9.65 | AC19: 10.56 | AD19: 10.34 | AE19: 11.22 | AF19: 36.81 | AG19: 36.54 | AH19: 38.1 | AJ19: 15.31 | AK19: 13.12
B20: 25.41 | C20: 25.3 | D20: 22.46 | E20: 23.97 | F20: 25.13 | G20: 23.43 | H20: 13.55 | I20: 18.71 | J20: 13.34 | K20: 16.32 | L20: 15.51 | M20: 14.82 | N20: 20.83 | O20: 24.15 | P20: 21.41 | Q20: 20.2 | R20: 16.2 | S20: 21.75 | T20: 20.05 | U20: 22.31 | V20: 17.58 | W20: 22.78 | X20: 20.4 | Y20: 18.9 | Z20: 11.21 | AA20: 12.45 | AB20: 11.86 | AC20: 10.29 | AD20: 11.73 | AE20: 9.87 | AF20: 36.9 | AG20: 35.6 | AH20: 37.15 | AJ20: 14.13 | AK20: 14.12
B21: 24.4 | C21: 25.73 | D21: 20.71 | E21: 23.67 | F21: 24.35 | G21: 22.45 | H21: 14.57 | I21: 17.91 | J21: 12.9 | K21: 14.55 | L21: 15.24 | M21: 18.76 | N21: 18.9 | O21: 22.77 | P21: 20.89 | Q21: 18.56 | R21: 15.93 | S21: 21.42 | T21: 19.35 | U21: 23.06 | V21: 17 | W21: 20.87 | X21: 19.58 | Y21: 19.48 | Z21: 10.61 | AA21: 10.5 | AB21: 11.45 | AC21: 11.17 | AD21: 10.16 | AE21: 10.27 | AF21: 35.8 | AG21: 37.76 | AH21: 40.39 | AJ21: 15.13 | AK21: 13.32
A22: CWPO | B22: 22.03 | C22: 25.02 | D22: 21.98 | E22: 21.56 | F22: 26.5 | G22: 22.29 | H22: 16.9 | I22: 13.69 | J22: 14.86 | K22: 17.01 | L22: 14.64 | M22: 13.18 | N22: 22.01 | O22: 28.56 | P22: 19.25 | Q22: 17.21 | R22: 30.51 | S22: 31.08 | T22: 23.98 | U22: 19.41 | V22: 20.93 | W22: 20.62 | X22: 20.3 | Y22: 19.03 | Z22: 19.9 | AA22: 22.62 | AB22: 19.04 | AC22: 20.8 | AD22: 20.57 | AE22: 16.15 | AF22: 42 | AG22: 43.2 | AH22: 44.02 | AI22: 39.51 | AJ22: 44.86 | AK22: 42.38 | AL22: Total area | AM22: 1297819.1 | AN22: 1756254.4 | AO22: 1657623.3
B23: 21.06 | C23: 24.23 | D23: 21.2 | E23: 21.77 | F23: 27.09 | G23: 23.06 | H23: 17.33 | I23: 16.54 | J23: 15.03 | K23: 18.08 | L23: 15.17 | M23: 13.89 | N23: 22.55 | O23: 28.55 | P23: 17.82 | Q23: 16.12 | R23: 31.71 | S23: 31.34 | T23: 21.76 | U23: 19.18 | V23: 20.08 | W23: 19.34 | X23: 20.61 | Y23: 21.15 | Z23: 18.01 | AA23: 15.92 | AB23: 16.69 | AC23: 17.36 | AD23: 19.26 | AE23: 17.5 | AF23: 38.54 | AG23: 43.5 | AH23: 42.78 | AI23: 34.84 | AJ23: 45.6 | AK23: 36.92 | AL23: Holes Area | AM23: =262.4266*119 -> 31228.765 | AN23: =266*831.9372 -> 221295.3 | AO23: =166*721.6443 -> 119792.95
B24: 21.97 | C24: 23.6 | D24: 21.46 | E24: 21.94 | F24: 28.32 | G24: 27.24 | H24: 17.15 | I24: 16.51 | J24: 16.82 | K24: 14.57 | L24: 14.27 | M24: 14.37 | N24: 22.13 | O24: 19.14 | P24: 16.18 | Q24: 17.28 | R24: 22.2 | S24: 27.48 | T24: 20.57 | U24: 19.77 | V24: 22.3 | W24: 19.41 | X24: 19.82 | Y24: 19.53 | Z24: 19.43 | AA24: 15.41 | AB24: 22.47 | AC24: 20.97 | AD24: 18.66 | AE24: 17.75 | AF24: 40.93 | AG24: 43.41 | AH24: 41.23 | AI24: 44.06 | AJ24: 43.5 | AK24: 38.13
B25: 20.77 | C25: 23.04 | D25: 21.16 | E25: 22.72 | F25: 28.98 | G25: 23.34 | H25: 16.91 | I25: 15.91 | J25: 16.71 | K25: 16.46 | L25: 14.27 | M25: 13.18 | N25: 20.58 | O25: 17.01 | P25: 18.37 | Q25: 16.7 | R25: 24.03 | S25: 29.92 | T25: 20.05 | U25: 18.67 | V25: 23.01 | W25: 18.81 | X25: 20.83 | Y25: 18.82 | Z25: 17.32 | AA25: 17.58 | AB25: 19.33 | AC25: 14.39 | AD25: 14.64 | AE25: 17.72 | AF25: 40.2 | AG25: 42.61 | AH25: 38.9 | AI25: 44.35 | AJ25: 44.21 | AK25: 34.99
B26: 21.75 | C26: 24.82 | D26: 20.74 | E26: 22.18 | F26: 25.82 | G26: 22.31 | H26: 16.21 | I26: 16.38 | J26: 16.74 | K26: 15.46 | L26: 15.03 | M26: 15.85 | N26: 20.38 | O26: 27.83 | P26: 17.99 | Q26: 18.42 | R26: 24.05 | S26: 25.43 | T26: 20.52 | U26: 19.35 | V26: 19.21 | W26: 21.23 | X26: 20.95 | Y26: 19.53 | Z26: 19.92 | AA26: 18.02 | AB26: 20.49 | AC26: 17.07 | AD26: 11.32 | AE26: 18.92 | AF26: 42.77 | AG26: 42.79 | AH26: 38.89 | AI26: 38.61 | AJ26: 42.84 | AK26: 40.45
B27: 22.09 | C27: 24.41 | D27: 20.81 | E27: 22.28 | F27: 25.67 | G27: 25.21 | H27: 16.72 | I27: 14.57 | J27: 13.77 | K27: 15.19 | L27: 14.34 | M27: 15.04 | N27: 22.68 | O27: 29.69 | P27: 17.22 | Q27: 18.96 | R27: 27.19 | S27: 25.04 | T27: 23.2 | U27: 21.73 | V27: 20.81 | W27: 17.99 | X27: 19.29 | Y27: 20.53 | Z27: 22.04 | AA27: 17.07 | AB27: 20.25 | AC27: 18.04 | AD27: 17.48 | AE27: 16.73 | AF27: 42.5 | AG27: 42.11 | AH27: 40.15 | AI27: 41.04 | AJ27: 39.67 | AK27: 41.63
A28: KOH | B28: 23.5 | C28: 26.3 | D28: 19.77 | E28: 20.39 | F28: 24.47 | G28: 18.98 | H28: 17.16 | I28: 14.07 | J28: 15.74 | K28: 14.41 | L28: 14.74 | M28: 19.51 | N28: 26.29 | O28: 26.99 | P28: 22.26 | Q28: 28.82 | R28: 24.34 | S28: 26.28 | T28: 18.97 | U28: 19.66 | V28: 18.96 | W28: 18.31 | X28: 18.91 | Y28: 19.82 | Z28: 17.19 | AA28: 22.61 | AB28: 21.19 | AC28: 22.11 | AD28: 20.9 | AE28: 16.45 | AF28: 38.83 | AG28: 41.61 | AH28: 39.95 | AL28: Total area | AM28: 2031039.2 | AN28: 1525991.1 | AO28: 1386144.7 | AP28: 2339658 | AQ28: 466796.59 | AR28: 943544.57
B29: 22.97 | C29: 26.67 | D29: 20.13 | E29: 23.55 | F29: 23.09 | G29: 19.54 | H29: 15.38 | I29: 15.02 | J29: 15.57 | K29: 17.15 | L29: 13.51 | M29: 21.01 | N29: 26.41 | O29: 25.43 | P29: 22.05 | Q29: 27.83 | R29: 22.88 | S29: 25.13 | T29: 19.63 | U29: 18.09 | V29: 17.96 | W29: 18.37 | X29: 18.65 | Y29: 19.02 | Z29: 17.05 | AA29: 17.52 | AB29: 17.75 | AC29: 14.44 | AD29: 17.61 | AE29: 16.45 | AF29: 41.16 | AG29: 41.82 | AH29: 39.27 | AL29: Holes Area | AM29: =688.39*138 -> 94997.82 | AN29: =603.0904*180 -> 108556.27 | AO29: =826*147.0371 -> 121452.64 | AP29: =234*37.9744 -> 8886.0096 | AQ29: =1111*87.5347 -> 97251.052 | AR29: =152*29.6184 -> 4501.9968
B30: 23.13 | C30: 27.27 | D30: 20.13 | E30: 23.8 | F30: 21.97 | G30: 20.15 | H30: 18.12 | I30: 14.05 | J30: 17.61 | K30: 17.73 | L30: 14.15 | M30: 19.82 | N30: 26.22 | O30: 22 | P30: 21.88 | Q30: 21.96 | R30: 23.66 | S30: 20.83 | T30: 22.79 | U30: 19.44 | V30: 20.31 | W30: 21.01 | X30: 19.64 | Y30: 19.02 | Z30: 17.19 | AA30: 16.48 | AB30: 20.5 | AC30: 15.64 | AD30: 16.25 | AE30: 17.45 | AF30: 39.87 | AG30: 40.7 | AH30: 38.85
B31: 23.87 | C31: 25 | D31: 21.34 | E31: 22.27 | F31: 21.96 | G31: 23.36 | H31: 17.31 | I31: 13.85 | J31: 17.59 | K31: 17.29 | L31: 17.33 | M31: 17.74 | N31: 28.08 | O31: 24.27 | P31: 23.35 | Q31: 25.26 | R31: 23.54 | S31: 22.04 | T31: 22.84 | U31: 19.77 | V31: 18.84 | W31: 20.67 | X31: 18.7 | Y31: 20.5 | Z31: 18.18 | AA31: 16.32 | AB31: 15.72 | AC31: 19.11 | AD31: 19.03 | AE31: 15.27 | AF31: 32.96 | AG31: 39.15 | AH31: 36.95
B32: 23.58 | C32: 24.77 | D32: 19.82 | E32: 22.1 | F32: 21.96 | G32: 23.53 | H32: 17.65 | I32: 13.43 | J32: 15.46 | K32: 16.18 | L32: 12.77 | M32: 16.01 | N32: 27.16 | O32: 21.7 | P32: 22 | Q32: 28.93 | R32: 22.1 | S32: 19.76 | T32: 20.79 | U32: 19.17 | V32: 21.97 | W32: 21.45 | X32: 19.09 | Y32: 18.67 | Z32: 18.3 | AA32: 20.4 | AB32: 14.83 | AC32: 20.58 | AD32: 21.77 | AE32: 19.27 | AF32: 35.29 | AG32: 39.24 | AH32: 41.73
B33: 24.8 | C33: 24.84 | D33: 21.34 | E33: 22.61 | F33: 23.44 | G33: 20.5 | H33: 15.78 | I33: 12.95 | J33: 16.85 | K33: 16.15 | L33: 13.01 | M33: 14.09 | N33: 24.34 | O33: 21.25 | P33: 17.82 | Q33: 27.45 | R33: 24.4 | S33: 19.61 | T33: 21.64 | U33: 20.96 | V33: 21.11 | W33: 20 | X33: 19.97 | Y33: 19.71 | Z33: 21.48 | AA33: 18.25 | AB33: 15.64 | AC33: 15.73 | AD33: 17.66 | AE33: 17.09 | AF33: 39.61 | AG33: 38.69 | AH33: 41.96
A34: H2O2 40°C | B34: 22.8 | C34: 26.19 | D34: 27.21 | E34: 22.79 | F34: 24.38 | G34: 22.97 | H34: 16.63 | I34: 16.64 | J34: 15.8 | K34: 17.18 | L34: 14.29 | M34: 14.62 | N34: 25.24 | O34: 20.05 | P34: 25.7 | Q34: 29.57 | R34: 24.04 | S34: 32.31 | T34: 17.7 | U34: 18.66 | V34: 20.42 | W34: 18.93 | X34: 20.95 | Y34: 19.32 | Z34: 21.71 | AA34: 17.87 | AB34: 16.57 | AC34: 21.22 | AD34: 11.63 | AE34: 19.89 | AF34: 22.53 | AG34: 22.36 | AH34: 38.69 | AI34: 26.82 | AJ34: 35.35 | AK34: 36.12 | AL34: Total area | AM34: 1063036.2 | AN34: 2918630.7 | AO34: 1591443.9
B35: 22.04 | C35: 27.47 | D35: 26.04 | E35: 22.1 | F35: 24.02 | G35: 22.61 | H35: 16.41 | I35: 15.89 | J35: 14.41 | K35: 17.63 | L35: 16.32 | M35: 16.91 | N35: 23.89 | O35: 19.98 | P35: 26.13 | Q35: 29.42 | R35: 24.39 | S35: 31.43 | T35: 21.07 | U35: 20.79 | V35: 20.66 | W35: 20.88 | X35: 20.51 | Y35: 19.16 | Z35: 20.34 | AA35: 22.36 | AB35: 18.67 | AC35: 17.89 | AD35: 13.75 | AE35: 19.58 | AF35: 25.62 | AG35: 22.26 | AH35: 36.75 | AI35: 21.04 | AJ35: 35.14 | AK35: 39.63 | AL35: Holes Area | AM35: =305.6638*134 -> 40958.949 | AN35: =340*803.2904 -> 273118.74 | AO35: =176*427.8809 -> 75307.038
B36: 22.57 | C36: 27.12 | D36: 26.36 | E36: 20.79 | F36: 25.86 | G36: 25.56 | H36: 14.69 | I36: 13.49 | J36: 12.8 | K36: 17.87 | L36: 17.79 | M36: 14.1 | N36: 24.77 | O36: 21.34 | P36: 29.83 | Q36: 31.04 | R36: 21.96 | S36: 19.77 | T36: 19.37 | U36: 20.96 | V36: 19.95 | W36: 20.25 | X36: 19.85 | Y36: 19.04 | Z36: 19.18 | AA36: 20.51 | AB36: 16.73 | AC36: 19.85 | AD36: 12.27 | AE36: 18.52 | AF36: 20.47 | AG36: 21.12 | AH36: 38.69 | AI36: 22.33 | AJ36: 32.95 | AK36: 37.03
B37: 23.79 | C37: 28.01 | D37: 26.02 | E37: 21.67 | F37: 23.37 | G37: 23.67 | H37: 13.2 | I37: 16.58 | J37: 15.2 | K37: 16.05 | L37: 17.32 | M37: 15.27 | N37: 26.32 | O37: 23.09 | P37: 30.4 | Q37: 30.72 | R37: 22.05 | S37: 22.33 | T37: 19.73 | U37: 22.18 | V37: 20.67 | W37: 18.89 | X37: 20.61 | Y37: 18.52 | Z37: 20.94 | AA37: 16.85 | AB37: 17.21 | AC37: 14.76 | AD37: 16.35 | AE37: 18.52 | AF37: 26.08 | AG37: 20.6 | AH37: 36.81 | AI37: 26.82 | AJ37: 31.37 | AK37: 36.64
B38: 23.55 | C38: 25.09 | D38: 25.59 | E38: 21.54 | F38: 27.17 | G38: 23.98 | H38: 15.25 | I38: 16.21 | J38: 15.02 | K38: 16.94 | L38: 17.28 | M38: 15.15 | N38: 27.79 | O38: 20.14 | P38: 23.41 | Q38: 33.63 | R38: 24.57 | S38: 28.15 | T38: 19.61 | U38: 19.55 | V38: 22.08 | W38: 19.51 | X38: 20.86 | Y38: 21.53 | Z38: 16.64 | AA38: 17.36 | AB38: 18.98 | AC38: 16.34 | AD38: 14.17 | AE38: 21.74 | AF38: 27.67 | AG38: 22.51 | AH38: 37.8 | AI38: 23.8 | AJ38: 30.4 | AK38: 39.78
B39: 24.16 | C39: 24.93 | D39: 24.33 | E39: 22.21 | F39: 23.45 | G39: 24.06 | H39: 12.92 | I39: 14.53 | J39: 15.14 | K39: 15.9 | L39: 18.2 | M39: 15.3 | N39: 27.82 | O39: 20.15 | P39: 24.63 | Q39: 28.15 | R39: 23.84 | S39: 26.01 | T39: 20.41 | U39: 21.58 | V39: 21.52 | W39: 21.17 | X39: 21.18 | Y39: 18.52 | Z39: 24.24 | AA39: 18.65 | AB39: 20.04 | AC39: 14.82 | AD39: 17.86 | AE39: 15.14 | AF39: 28.57 | AG39: 22.15 | AH39: 34.17 | AI39: 24.83 | AJ39: 28.15 | AK39: 39.63
A40: NaOH 40 °C | B40: 25.44 | C40: 23.45 | D40: 23.61 | E40: 16.03 | F40: 18.48 | G40: 24.75 | H40: 13.21 | I40: 16.58 | J40: 14.74 | K40: 14.98 | L40: 15.37 | M40: 16.47 | N40: 21.96 | O40: 21.93 | P40: 30.05 | Q40: 24.19 | R40: 22.7 | S40: 28.92 | T40: 23.38 | U40: 22.33 | V40: 19.45 | W40: 21.09 | X40: 19.45 | Y40: 20.06 | Z40: 19.68 | AA40: 17.26 | AB40: 21.61 | AC40: 25.05 | AD40: 18.59 | AE40: 10.94 | AF40: 26.67 | AG40: 40.4 | AH40: 35.97 | AI40: 19.33 | AJ40: 25.24 | AK40: 30.92 | AL40: Total area | AM40: 2339906.2 | AN40: 1967287.8 | AO40: 2199890.7 | AP40: 1040903.1 | AQ40: 378048 | AR40: 925413.45
...

Sheet General results
A1: Microplastic type | B1: PES BEFORE | N1: PES AFTER
A2: Measured parameter | B2: Mean diameter (µm) | N2: Mean diameter (µm)
A3: N° Replicate | B3: 1 | C3: 2 | D3: 3 | E3: Mean | F3: Standard deviation | G3: 95% confidence interval (mean ± indicated value) | H3: Mean-2*standard deviation | I3: Mean+2*standard deviation | J3: Outliers Replicate 1 | K3: Outliers Replicate 2 | L3: Outliers Replicate 3 | M3: Normality Shapiro-Wilk test | N3: 1 | O3: 2 | P3: 3 | Q3: Mean | R3: Standard deviation | S3: 95% confidence interval (mean ± indicated value) | T3: Mean-2*standard deviation | U3: Mean+2*standard deviation | V3: Outliers Replicate 1 | W3: Outliers Replicate 2 | X3: Outliers Replicate 3 | Z3: T-TEST | AA3: Significant variation (at 95%) | AB3: Normality Shapiro-Wilk test
A4: NaOH 10M RT | B4: =AVERAGE('Raw results fibers'!B4:B9) -> 26.081667 | C4: =AVERAGE('Raw results fibers'!C4:C9) -> 26.33 | D4: =AVERAGE('Raw results fibers'!D4:D9) -> 27.275 | E4: =AVERAGE(B4:D4) -> 26.562222 | F4: =_xlfn.STDEV.S(B4:D4) -> 0.6296479 | G4: =_xlfn.CONFIDENCE.NORM(0.05, F4, 3) -> 0.71250058 | H4: =E4-2*F4 -> 25.302926 | I4: =E4+2*F4 -> 27.821518 | J4: =+IF(OR(B4<H4,B4>I4),"Valeur aberrante","") | K4: =+IF(OR(C4<H4,C4>I4),"Valeur aberrante","") | L4: =+IF(OR(D4<H4,D4>I4),"Valeur aberrante","") | N4: =AVERAGE('Raw results fibers'!E4:E9) -> 25.95 | O4: =AVERAGE('Raw results fibers'!F4:F9) -> 24.153333 | P4: =AVERAGE('Raw results fibers'!G4:G9) -> 26.615 | Q4: =AVERAGE(N4:P4) -> 25.572778 | R4: =_xlfn.STDEV.S(N4:P4) -> 1.2734493 | S4: =_xlfn.CONFIDENCE.NORM(0.05, R4, 3) -> 1.4410171 | T4: =Q4-2*R4 -> 23.025879 | U4: =Q4+2*R4 -> 28.119676 | V4: =+IF(OR(N4<T4,N4>U4),"Valeur aberrante","") | W4: =+IF(OR(O4<T4,O4>U4),"Valeur aberrante","") | X4: =+IF(OR(P4<T4,P4>U4),"Valeur aberrante","") | Z4: =_xlfn.T.TEST(B4:D4,N4:P4,2,1) -> 0.2477983 | AA4: =IF(Z4<0.05,"YES","NO") -> NO
A5: NaOCl 3% | B5: =AVERAGE('Raw results fibers'!B10:B15) -> 26.918333 | C5: =AVERAGE('Raw results fibers'!C10:C15) -> 25.616667 | D5: =AVERAGE('Raw results fibers'!D10:D15) -> 21.871667 | E5: =AVERAGE(B5:D5) -> 24.802222 | F5: =_xlfn.STDEV.S(B5:D5) -> 2.6200574 | G5: =_xlfn.CONFIDENCE.NORM(0.05, F5, 3) -> 2.9648196 | H5: =E5-2*F5 -> 19.562107 | I5: =E5+2*F5 -> 30.042337 | J5: =+IF(OR(B5<H5,B5>I5),"Valeur aberrante","") | K5: =+IF(OR(C5<H5,C5>I5),"Valeur aberrante","") | L5: =+IF(OR(D5<H5,D5>I5),"Valeur aberrante","") | N5: =AVERAGE('Raw results fibers'!E10:E15) -> 23.856667 | O5: =AVERAGE('Raw results fibers'!F10:F15) -> 25.768333 | P5: =AVERAGE('Raw results fibers'!G10:G15) -> 21.233333 | Q5: =AVERAGE(N5:P5) -> 23.619444 | R5: =_xlfn.STDEV.S(N5:P5) -> 2.2767877 | S5: =_xlfn.CONFIDENCE.NORM(0.05, R5, 3) -> 2.5763804 | T5: =Q5-2*R5 -> 19.065869 | U5: =Q5+2*R5 -> 28.17302 | V5: =+IF(OR(N5<T5,N5>U5),"Valeur aberrante","") | W5: =+IF(OR(O5<T5,O5>U5),"Valeur aberrante","") | X5: =+IF(OR(P5<T5,P5>U5),"Valeur aberrante","") | Z5: =_xlfn.T.TEST(B5:D5,N5:P5,2,1) -> 0.34573145 | AA5: =IF(Z5<0.05,"YES","NO") -> NO
A6: H2O2 30% RT | B6: =AVERAGE('Raw results fibers'!B16:B21) -> 24.423333 | C6: =AVERAGE('Raw results fibers'!C16:C21) -> 26.711667 | D6: =AVERAGE('Raw results fibers'!D16:D21) -> 22.628333 | E6: =AVERAGE(B6:D6) -> 24.587778 | F6: =_xlfn.STDEV.S(B6:D6) -> 2.0466275 | G6: =_xlfn.CONFIDENCE.NORM(0.05, F6, 3) -> 2.3159345 | H6: =E6-2*F6 -> 20.494523 | I6: =E6+2*F6 -> 28.681033 | J6: =+IF(OR(B6<H6,B6>I6),"Valeur aberrante","") | K6: =+IF(OR(C6<H6,C6>I6),"Valeur aberrante","") | L6: =+IF(OR(D6<H6,D6>I6),"Valeur aberrante","") | N6: =AVERAGE('Raw results fibers'!E16:E21) -> 24.538333 | O6: =AVERAGE('Raw results fibers'!F16:F21) -> 24.161667 | P6: =AVERAGE('Raw results fibers'!G16:G21) -> 23.018333 | Q6: =AVERAGE(N6:P6) -> 23.906111 | R6: =_xlfn.STDEV.S(N6:P6) -> 0.791569 | S6: =_xlfn.CONFIDENCE.NORM(0.05, R6, 3) -> 0.89572819 | T6: =Q6-2*R6 -> 22.322973 | U6: =Q6+2*R6 -> 25.489249 | V6: =+IF(OR(N6<T6,N6>U6),"Valeur aberrante","") | W6: =+IF(OR(O6<T6,O6>U6),"Valeur aberrante","") | X6: =+IF(OR(P6<T6,P6>U6),"Valeur aberrante","") | Z6: =_xlfn.T.TEST(B6:D6,N6:P6,2,1) -> 0.54276382 | AA6: =IF(Z6<0.05,"YES","NO") -> NO
A7: CWPO | B7: =AVERAGE('Raw results fibers'!B22:B27) -> 21.611667 | C7: =AVERAGE('Raw results fibers'!C22:C27) -> 24.186667 | D7: =AVERAGE('Raw results fibers'!D22:D27) -> 21.225 | E7: =AVERAGE(B7:D7) -> 22.341111 | F7: =_xlfn.STDEV.S(B7:D7) -> 1.6099485 | G7: =_xlfn.CONFIDENCE.NORM(0.05, F7, 3) -> 1.8217948 | H7: =E7-2*F7 -> 19.121214 | I7: =E7+2*F7 -> 25.561008 | J7: =+IF(OR(B7<H7,B7>I7),"Valeur aberrante","") | K7: =+IF(OR(C7<H7,C7>I7),"Valeur aberrante","") | L7: =+IF(OR(D7<H7,D7>I7),"Valeur aberrante","") | N7: =AVERAGE('Raw results fibers'!E22:E27) -> 22.075 | O7: =AVERAGE('Raw results fibers'!F22:F27) -> 27.063333 | P7: =AVERAGE('Raw results fibers'!G22:G27) -> 23.908333 | Q7: =AVERAGE(N7:P7) -> 24.348889 | R7: =_xlfn.STDEV.S(N7:P7) -> 2.5231794 | S7: =_xlfn.CONFIDENCE.NORM(0.05, R7, 3) -> 2.8551938 | T7: =Q7-2*R7 -> 19.30253 | U7: =Q7+2*R7 -> 29.395248 | V7: =+IF(OR(N7<T7,N7>U7),"Valeur aberrante","") | W7: =+IF(OR(O7<T7,O7>U7),"Valeur aberrante","") | X7: =+IF(OR(P7<T7,P7>U7),"Valeur aberrante","") | Z7: =_xlfn.T.TEST(B7:D7,N7:P7,2,1) -> 0.12206474 | AA7: =IF(Z7<0.05,"YES","NO") -> NO
A8: KOH | B8: =AVERAGE('Raw results fibers'!B28:B33) -> 23.641667 | C8: =AVERAGE('Raw results fibers'!C28:C33) -> 25.808333 | D8: =AVERAGE('Raw results fibers'!D28:D33) -> 20.421667 | E8: =AVERAGE(B8:D8) -> 23.290556 | F8: =_xlfn.STDEV.S(B8:D8) -> 2.7104435 | G8: =_xlfn.CONFIDENCE.NORM(0.05, F8, 3) -> 3.0670991 | H8: =E8-2*F8 -> 17.869669 | I8: =E8+2*F8 -> 28.711442 | J8: =+IF(OR(B8<H8,B8>I8),"Valeur aberrante","") | K8: =+IF(OR(C8<H8,C8>I8),"Valeur aberrante","") | L8: =+IF(OR(D8<H8,D8>I8),"Valeur aberrante","") | N8: =AVERAGE('Raw results fibers'!E28:E33) -> 22.453333 | O8: =AVERAGE('Raw results fibers'!F28:F33) -> 22.815 | P8: =AVERAGE('Raw results fibers'!G28:G33) -> 21.01 | Q8: =AVERAGE(N8:P8) -> 22.092778 | R8: =_xlfn.STDEV.S(N8:P8) -> 0.9549903 | S8: =_xlfn.CONFIDENCE.NORM(0.05, R8, 3) -> 1.0806534 | T8: =Q8-2*R8 -> 20.182797 | U8: =Q8+2*R8 -> 24.002758 | V8: =+IF(OR(N8<T8,N8>U8),"Valeur aberrante","") | W8: =+IF(OR(O8<T8,O8>U8),"Valeur aberrante","") | X8: =+IF(OR(P8<T8,P8>U8),"Valeur aberrante","") | Z8: =_xlfn.T.TEST(B8:D8,N8:P8,2,1) -> 0.36631477 | AA8: =IF(Z8<0.05,"YES","NO") -> NO
A9: H2O2 40°C | B9: =AVERAGE('Raw results fibers'!B34:B39) -> 23.151667 | C9: =AVERAGE('Raw results fibers'!C34:C39) -> 26.468333 | D9: =AVERAGE('Raw results fibers'!D34:D39) -> 25.925 | E9: =AVERAGE(B9:D9) -> 25.181667 | F9: =_xlfn.STDEV.S(B9:D9) -> 1.7788979 | G9: =_xlfn.CONFIDENCE.NORM(0.05, F9, 3) -> 2.0129755 | H9: =E9-2*F9 -> 21.623871 | I9: =E9+2*F9 -> 28.739462 | J9: =+IF(OR(B9<H9,B9>I9),"Valeur aberrante","") | K9: =+IF(OR(C9<H9,C9>I9),"Valeur aberrante","") | L9: =+IF(OR(D9<H9,D9>I9),"Valeur aberrante","") | N9: =AVERAGE('Raw results fibers'!E34:E39) -> 21.85 | O9: =AVERAGE('Raw results fibers'!F34:F39) -> 24.708333 | P9: =AVERAGE('Raw results fibers'!G34:G39) -> 23.808333 | Q9: =AVERAGE(N9:P9) -> 23.455556 | R9: =_xlfn.STDEV.S(N9:P9) -> 1.461457 | S9: =_xlfn.CONFIDENCE.NORM(0.05, R9, 3) -> 1.6537639 | T9: =Q9-2*R9 -> 20.532642 | U9: =Q9+2*R9 -> 26.378469 | V9: =+IF(OR(N9<T9,N9>U9),"Valeur aberrante","") | W9: =+IF(OR(O9<T9,O9>U9),"Valeur aberrante","") | X9: =+IF(OR(P9<T9,P9>U9),"Valeur aberrante","") | Z9: =_xlfn.T.TEST(B9:D9,N9:P9,2,1) -> 0.018166932 | AA9: =IF(Z9<0.05,"YES","NO") -> YES
A10: NaOH 40°C | B10: =AVERAGE('Raw results fibers'!B40:B45) -> 24.231667 | C10: =AVERAGE('Raw results fibers'!C40:C45) -> 23.996667 | D10: =AVERAGE('Raw results fibers'!D40:D45) -> 22.808333 | E10: =AVERAGE(B10:D10) -> 23.678889 | F10: =_xlfn.STDEV.S(B10:D10) -> 0.76302456 | G10: =_xlfn.CONFIDENCE.NORM(0.05, F10, 3) -> 0.86342771 | H10: =E10-2*F10 -> 22.15284 | I10: =E10+2*F10 -> 25.204938 | J10: =+IF(OR(B10<H10,B10>I10),"Valeur aberrante","") | K10: =+IF(OR(C10<H10,C10>I10),"Valeur aberrante","") | L10: =+IF(OR(D10<H10,D10>I10),"Valeur aberrante","") | N10: =AVERAGE('Raw results fibers'!E40:E45) -> 17.505 | O10: =AVERAGE('Raw results fibers'!F40:F45) -> 20.278333 | P10: =AVERAGE('Raw results fibers'!G40:G45) -> 25.311667 | Q10: =AVERAGE(N10:P10) -> 21.031667 | R10: =_xlfn.STDEV.S(N10:P10) -> 3.9574796 | S10: =_xlfn.CONFIDENCE.NORM(0.05, R10, 3) -> 4.4782274 | T10: =Q10-2*R10 -> 13.116708 | U10: =Q10+2*R10 -> 28.946626 | V10: =+IF(OR(N10<T10,N10>U10),"Valeur aberrante","") | W10: =+IF(OR(O10<T10,O10>U10),"Valeur aberrante","") | X10: =+IF(OR(P10<T10,P10>U10),"Valeur aberrante","") | Z10: =_xlfn.T.TEST(B10:D10,N10:P10,2,1) -> 0.43277018 | AA10: =IF(Z10<0.05,"YES","NO") -> NO
A11: Enzymatic | B11: =AVERAGE('Raw results fibers'!B46:B51) -> 25.061667 | C11: =AVERAGE('Raw results fibers'!C46:C51) -> 26.37 | D11: =AVERAGE('Raw results fibers'!D46:D51) -> 24.831667 | E11: =AVERAGE(B11:D11) -> 25.421111 | F11: =_xlfn.STDEV.S(B11:D11) -> 0.8297696 | G11: =_xlfn.CONFIDENCE.NORM(0.05, F11, 3) -> 0.93895544 | H11: =E11-2*F11 -> 23.761572 | I11: =E11+2*F11 -> 27.08065 | J11: =+IF(OR(B11<H11,B11>I11),"Valeur aberrante","") | K11: =+IF(OR(C11<H11,C11>I11),"Valeur aberrante","") | L11: =+IF(OR(D11<H11,D11>I11),"Valeur aberrante","") | N11: =AVERAGE('Raw results fibers'!E46:E51) -> 21.361667 | O11: =AVERAGE('Raw results fibers'!F46:F51) -> 21.355 | P11: =AVERAGE('Raw results fibers'!G46:G51) -> 20.62 | Q11: =AVERAGE(N11:P11) -> 21.112222 | R11: =_xlfn.STDEV.S(N11:P11) -> 0.42628998 | S11: =_xlfn.CONFIDENCE.NORM(0.05, R11, 3) -> 0.48238366 | T11: =Q11-2*R11 -> 20.259642 | U11: =Q11+2*R11 -> 21.964802 | V11: =+IF(OR(N11<T11,N11>U11),"Valeur aberrante","") | W11: =+IF(OR(O11<T11,O11>U11),"Valeur aberrante","") | X11: =+IF(OR(P11<T11,P11>U11),"Valeur aberrante","") | Z11: =_xlfn.T.TEST(B11:D11,N11:P11,2,1) -> 0.0077965311 | AA11: =IF(Z11<0.05,"YES","NO") -> YES | AB11: NO
A12: ASTM protocol | B12: =AVERAGE('Raw results fibers'!B58:B63) -> 39.626667 | C12: =AVERAGE('Raw results fibers'!C58:C63) -> 40.145 | D12: =AVERAGE('Raw results fibers'!D58:D63) -> 40.503333 | E12: =AVERAGE(B12:D12) -> 40.091667 | F12: =_xlfn.STDEV.S(B12:D12) -> 0.44076008 | G12: =_xlfn.CONFIDENCE.NORM(0.05, F12, 3) -> 0.49875781 | H12: =E12-2*F12 -> 39.210147 | I12: =E12+2*F12 -> 40.973187 | N12: =AVERAGE('Raw results fibers'!E58:E63) -> 39.533333 | O12: =AVERAGE('Raw results fibers'!F58:F63) -> 40.981667 | P12: =AVERAGE('Raw results fibers'!G58:G63) -> 40.488333 | Q12: =AVERAGE(N12:P12) -> 40.334444 | R12: =_xlfn.STDEV.S(N12:P12) -> 0.73632785 | S12: =_xlfn.CONFIDENCE.NORM(0.05, R12, 3) -> 0.83321809 | T12: =Q12-2*R12 -> 38.861789 | U12: =Q12+2*R12 -> 41.8071 | Z12: =_xlfn.T.TEST(B12:D12,N12:P12,2,1) -> 0.50058382 | AA12: =IF(Z12<0.05,"YES","NO") -> NO
A13: Blank | B13: =AVERAGE('Raw results fibers'!B52:B57) -> 26.25 | C13: =AVERAGE('Raw results fibers'!C52:C57) -> 24.241667 | D13: =AVERAGE('Raw results fibers'!D52:D57) -> 26.103333 | E13: =AVERAGE(B13:D13) -> 25.531667 | F13: =_xlfn.STDEV.S(B13:D13) -> 1.1195771 | G13: =_xlfn.CONFIDENCE.NORM(0.05, F13, 3) -> 1.2668974 | H13: =E13-2*F13 -> 23.292513 | I13: =E13+2*F13 -> 27.770821 | J13: =+IF(OR(B13<H13,B13>I13),"Valeur aberrante","") | K13: =+IF(OR(C13<H13,C13>I13),"Valeur aberrante","") | L13: =+IF(OR(D13<H13,D13>I13),"Valeur aberrante","") | N13: =AVERAGE('Raw results fibers'!E52:E57) -> 24.65 | O13: =AVERAGE('Raw results fibers'!F52:F57) -> 25.743333 | P13: =AVERAGE('Raw results fibers'!G52:G57) -> 24.166667 | Q13: =AVERAGE(N13:P13) -> 24.853333 | R13: =_xlfn.STDEV.S(N13:P13) -> 0.80776097 | S13: =_xlfn.CONFIDENCE.NORM(0.05, R13, 3) -> 0.91405079 | T13: =Q13-2*R13 -> 23.237811 | U13: =Q13+2*R13 -> 26.468855 | V13: =+IF(OR(N13<T13,N13>U13),"Valeur aberrante","") | W13: =+IF(OR(O13<T13,O13>U13),"Valeur aberrante","") | X13: =+IF(OR(P13<T13,P13>U13),"Valeur aberrante","") | Z13: =_xlfn.T.TEST(B13:D13,N13:P13,2,1) -> 0.59855796 | AA13: =IF(Z13<0.05,"YES","NO") -> NO
A14: Microplastic type | B14: PA BEFORE | N14: PA AFTER | W14: =+IF(OR(O14<T14,O14>U14),"Valeur aberrante","") | X14: =+IF(OR(P14<T14,P14>U14),"Valeur aberrante","") | AA14: =IF(Z14<0.05,"YES","NO") -> YES
A15: Measured parameter | B15: Mean diameter (µm) | N15: Mean diameter (µm) | W15: =+IF(OR(O15<T15,O15>U15),"Valeur aberrante","") | X15: =+IF(OR(P15<T15,P15>U15),"Valeur aberrante","") | AA15: =IF(Z15<0.05,"YES","NO") -> YES
A16: N° Replicate | B16: 1 | C16: 2 | D16: 3 | E16: Mean | F16: Standard deviation | G16: 95% confidence interval (mean ± indicated value) | H16: Mean-2*standard deviation | I16: Mean+2*standard deviation | J16: Outliers Replicate 1 | K16: Outliers Replicate 2 | L16: Outliers Replicate 3 | M16: Normality Shapiro-Wilk test | N16: 1 | O16: 2 | P16: 3 | Q16: Mean | R16: Standard deviation | S16: 95% confidence interval (mean ± indicated value) | T16: Mean-2*standard deviation | U16: Mean+2*standard deviation | V16: Outliers Replicate 1 | W16: Outliers Replicate 2 | X16: Outliers Replicate 3 | AA16: =IF(Z16<0.05,"YES","NO") -> YES
A17: NaOH 10M RT | B17: =AVERAGE('Raw results fibers'!H4:H9) -> 15.481667 | C17: =AVERAGE('Raw results fibers'!I4:I9) -> 17.438333 | D17: =AVERAGE('Raw results fibers'!J4:J9) -> 14.908333 | E17: =AVERAGE(B17:D17) -> 15.942778 | F17: =_xlfn.STDEV.S(B17:D17) -> 1.3265341 | G17: =_xlfn.CONFIDENCE.NORM(0.05, F17, 3) -> 1.501087 | H17: =E17-2*F17 -> 13.28971 | I17: =E17+2*F17 -> 18.595846 | J17: =+IF(OR(B17<H17,B17>I17),"Valeur aberrante","") | K17: =+IF(OR(C17<H17,C17>I17),"Valeur aberrante","") | L17: =+IF(OR(D17<H17,D17>I17),"Valeur aberrante","") | N17: =AVERAGE('Raw results fibers'!K4:K9) -> 15.976667 | O17: =AVERAGE('Raw results fibers'!L4:L9) -> 13.498333 | P17: =AVERAGE('Raw results fibers'!M4:M9) -> 15.586667 | Q17: =AVERAGE(N17:P17) -> 15.020556 | R17: =_xlfn.STDEV.S(N17:P17) -> 1.3326272 | S17: =_xlfn.CONFIDENCE.NORM(0.05, R17, 3) -> 1.507982 | T17: =Q17-2*R17 -> 12.355301 | U17: =Q17+2*R17 -> 17.68581 | V17: =+IF(OR(N17<T17,N17>U17),"Valeur aberrante","") | W17: =+IF(OR(O17<T17,O17>U17),"Valeur aberrante","") | X17: =+IF(OR(P17<T17,P17>U17),"Valeur aberrante","") | Z17: =_xlfn.T.TEST(B17:D17,N17:P17,2,1) -> 0.60349056 | AA17: =IF(Z17<0.05,"YES","NO") -> NO
A18: NaOCl 3% | B18: =AVERAGE('Raw results fibers'!H10:H15) -> 14.778333 | C18: =AVERAGE('Raw results fibers'!I10:I15) -> 17.578333 | D18: =AVERAGE('Raw results fibers'!J10:J15) -> 16.6 | E18: =AVERAGE(B18:D18) -> 16.318889 | F18: =_xlfn.STDEV.S(B18:D18) -> 1.4210094 | G18: =_xlfn.CONFIDENCE.NORM(0.05, F18, 3) -> 1.6079939 | H18: =E18-2*F18 -> 13.47687 | I18: =E18+2*F18 -> 19.160908 | J18: =+IF(OR(B18<H18,B18>I18),"Valeur aberrante","") | K18: =+IF(OR(C18<H18,C18>I18),"Valeur aberrante","") | L18: =+IF(OR(D18<H18,D18>I18),"Valeur aberrante","") | N18: =AVERAGE('Raw results fibers'!K10:K15) -> 14.418333 | O18: =AVERAGE('Raw results fibers'!L10:L15) -> 14.796667 | P18: =AVERAGE('Raw results fibers'!M10:M15) -> 15.798333 | Q18: =AVERAGE(N18:P18) -> 15.004444 | R18: =_xlfn.STDEV.S(N18:P18) -> 0.71307693 | S18: =_xlfn.CONFIDENCE.NORM(0.05, R18, 3) -> 0.80690768 | T18: =Q18-2*R18 -> 13.578291 | U18: =Q18+2*R18 -> 16.430598 | V18: =+IF(OR(N18<T18,N18>U18),"Valeur aberrante","") | W18: =+IF(OR(O18<T18,O18>U18),"Valeur aberrante","") | X18: =+IF(OR(P18<T18,P18>U18),"Valeur aberrante","") | Z18: =_xlfn.T.TEST(B18:D18,N18:P18,2,1) -> 0.21955978 | AA18: =IF(Z18<0.05,"YES","NO") -> NO
A19: H2O2 30% RT | B19: =AVERAGE('Raw results fibers'!H16:H21) -> 15.031667 | C19: =AVERAGE('Raw results fibers'!I16:I21) -> 19.09 | D19: =AVERAGE('Raw results fibers'!J16:J21) -> 14.493333 | E19: =AVERAGE(B19:D19) -> 16.205 | F19: =_xlfn.STDEV.S(B19:D19) -> 2.5129404 | G19: =_xlfn.CONFIDENCE.NORM(0.05, F19, 3) -> 2.8436075 | H19: =E19-2*F19 -> 11.179119 | I19: =E19+2*F19 -> 21.230881 | J19: =+IF(OR(B19<H19,B19>I19),"Valeur aberrante","") | K19: =+IF(OR(C19<H19,C19>I19),"Valeur aberrante","") | L19: =+IF(OR(D19<H19,D19>I19),"Valeur aberrante","") | N19: =AVERAGE('Raw results fibers'!K16:K21) -> 15.456667 | O19: =AVERAGE('Raw results fibers'!L16:L21) -> 14.743333 | P19: =AVERAGE('Raw results fibers'!M16:M21) -> 15.335 | Q19: =AVERAGE(N19:P19) -> 15.178333 | R19: =_xlfn.STDEV.S(N19:P19) -> 0.38160116 | S19: =_xlfn.CONFIDENCE.NORM(0.05, R19, 3) -> 0.43181443 | T19: =Q19-2*R19 -> 14.415131 | U19: =Q19+2*R19 -> 15.941536 | V19: =+IF(OR(N19<T19,N19>U19),"Valeur aberrante","") | W19: =+IF(OR(O19<T19,O19>U19),"Valeur aberrante","") | X19: =+IF(OR(P19<T19,P19>U19),"Valeur aberrante","") | Z19: =_xlfn.T.TEST(B19:D19,N19:P19,2,1) -> 0.60019421 | AA19: =IF(Z19<0.05,"YES","NO") -> NO
A20: CWPO | B20: =AVERAGE('Raw results fibers'!H22:H27) -> 16.87 | C20: =AVERAGE('Raw results fibers'!I22:I27) -> 15.6 | D20: =AVERAGE('Raw results fibers'!J22:J27) -> 15.655 | E20: =AVERAGE(B20:D20) -> 16.041667 | F20: =_xlfn.STDEV.S(B20:D20) -> 0.71788462 | G20: =_xlfn.CONFIDENCE.NORM(0.05, F20, 3) -> 0.812348 | H20: =E20-2*F20 -> 14.605897 | I20: =E20+2*F20 -> 17.477436 | J20: =+IF(OR(B20<H20,B20>I20),"Valeur aberrante","") | K20: =+IF(OR(C20<H20,C20>I20),"Valeur aberrante","") | L20: =+IF(OR(D20<H20,D20>I20),"Valeur aberrante","") | N20: =AVERAGE('Raw results fibers'!K22:K27) -> 16.128333 | O20: =AVERAGE('Raw results fibers'!L22:L27) -> 14.62 | P20: =AVERAGE('Raw results fibers'!M22:M27) -> 14.251667 | Q20: =AVERAGE(N20:P20) -> 15 | R20: =_xlfn.STDEV.S(N20:P20) -> 0.99436887 | S20: =_xlfn.CONFIDENCE.NORM(0.05, R20, 3) -> 1.1252136 | T20: =Q20-2*R20 -> 13.011262 | U20: =Q20+2*R20 -> 16.988738 | V20: =+IF(OR(N20<T20,N20>U20),"Valeur aberrante","") | W20: =+IF(OR(O20<T20,O20>U20),"Valeur aberrante","") | X20: =+IF(OR(P20<T20,P20>U20),"Valeur aberrante","") | Z20: =_xlfn.T.TEST(B20:D20,N20:P20,2,1) -> 0.032810917 | AA20: =IF(Z20<0.05,"YES","NO") -> YES
A21: KOH | B21: =AVERAGE('Raw results fibers'!H28:H33) -> 16.9 | C21: =AVERAGE('Raw results fibers'!I28:I33) -> 13.895 | D21: =AVERAGE('Raw results fibers'!J28:J33) -> 16.47 | E21: =AVERAGE(B21:D21) -> 15.755 | F21: =_xlfn.STDEV.S(B21:D21) -> 1.6250923 | G21: =_xlfn.CONFIDENCE.NORM(0.05, F21, 3) -> 1.8389313 | H21: =E21-2*F21 -> 12.504815 | I21: =E21+2*F21 -> 19.005185 | J21: =+IF(OR(B21<H21,B21>I21),"Valeur aberrante","") | K21: =+IF(OR(C21<H21,C21>I21),"Valeur aberrante","") | L21: =+IF(OR(D21<H21,D21>I21),"Valeur aberrante","") | N21: =AVERAGE('Raw results fibers'!K28:K33) -> 16.485 | O21: =AVERAGE('Raw results fibers'!L28:L33) -> 14.251667 | P21: =AVERAGE('Raw results fibers'!M28:M33) -> 18.03 | Q21: =AVERAGE(N21:P21) -> 16.255556 | R21: =_xlfn.STDEV.S(N21:P21) -> 1.8995879 | S21: =_xlfn.CONFIDENCE.NORM(0.05, R21, 3) -> 2.1495466 | T21: =Q21-2*R21 -> 12.45638 | U21: =Q21+2*R21 -> 20.054731 | V21: =+IF(OR(N21<T21,N21>U21),"Valeur aberrante","") | W21: =+IF(OR(O21<T21,O21>U21),"Valeur aberrante","") | X21: =+IF(OR(P21<T21,P21>U21),"Valeur aberrante","") | Z21: =_xlfn.T.TEST(B21:D21,N21:P21,2,1) -> 0.47556674 | AA21: =IF(Z21<0.05,"YES","NO") -> NO
A22: H2O2 40°C | B22: =AVERAGE('Raw results fibers'!H34:H39) -> 14.85 | C22: =AVERAGE('Raw results fibers'!I34:I39) -> 15.556667 | D22: =AVERAGE('Raw results fibers'!J34:J39) -> 14.728333 | E22: =AVERAGE(B22:D22) -> 15.045 | F22: =_xlfn.STDEV.S(B22:D22) -> 0.4472726 | G22: =_xlfn.CONFIDENCE.NORM(0.05, F22, 3) -> 0.50612729 | H22: =E22-2*F22 -> 14.150455 | I22: =E22+2*F22 -> 15.939545 | J22: =+IF(OR(B22<H22,B22>I22),"Valeur aberrante","") | K22: =+IF(OR(C22<H22,C22>I22),"Valeur aberrante","") | L22: =+IF(OR(D22<H22,D22>I22),"Valeur aberrante","") | N22: =AVERAGE('Raw results fibers'!K34:K39) -> 16.928333 | O22: =AVERAGE('Raw results fibers'!L34:L39) -> 16.866667 | P22: =AVERAGE('Raw results fibers'!M34:M39) -> 15.225 | Q22: =AVERAGE(N22:P22) -> 16.34 | R22: =_xlfn.STDEV.S(N22:P22) -> 0.96611047 | S22: =_xlfn.CONFIDENCE.NORM(0.05, R22, 3) -> 1.0932368 | T22: =Q22-2*R22 -> 14.407779 | U22: =Q22+2*R22 -> 18.272221 | V22: =+IF(OR(N22<T22,N22>U22),"Valeur aberrante","") | W22: =+IF(OR(O22<T22,O22>U22),"Valeur aberrante","") | X22: =+IF(OR(P22<T22,P22>U22),"Valeur aberrante","") | Z22: =_xlfn.T.TEST(B22:D22,N22:P22,2,1) -> 0.10510335 | AA22: =IF(Z22<0.05,"YES","NO") -> NO
A23: NaOH 40°C | B23: =AVERAGE('Raw results fibers'!H40:H45) -> 13.653333 | C23: =AVERAGE('Raw results fibers'!I40:I45) -> 15.561667 | D23: =AVERAGE('Raw results fibers'!J40:J45) -> 15.155 | E23: =AVERAGE(B23:D23) -> 14.79 | F23: =_xlfn.STDEV.S(B23:D23) -> 1.0051631 | G23: =_xlfn.CONFIDENCE.NORM(0.05, F23, 3) -> 1.1374282 | H23: =E23-2*F23 -> 12.779674 | I23: =E23+2*F23 -> 16.800326 | J23: =+IF(OR(B23<H23,B23>I23),"Valeur aberrante","") | K23: =+IF(OR(C23<H23,C23>I23),"Valeur aberrante","") | L23: =+IF(OR(D23<H23,D23>I23),"Valeur aberrante","") | N23: =AVERAGE('Raw results fibers'!K40:K45) -> 13.933333 | O23: =AVERAGE('Raw results fibers'!L40:L45) -> 15.463333 | P23: =AVERAGE('Raw results fibers'!M40:M45) -> 16.053333 | Q23: =AVERAGE(N23:P23) -> 15.15 | R23: =_xlfn.STDEV.S(N23:P23) -> 1.0941816 | S23: =_xlfn.CONFIDENCE.NORM(0.05, R23, 3) -> 1.2381603 | T23: =Q23-2*R23 -> 12.961637 | U23: =Q23+2*R23 -> 17.338363 | V23: =+IF(OR(N23<T23,N23>U23),"Valeur aberrante","") | W23: =+IF(OR(O23<T23,O23>U23),"Valeur aberrante","") | X23: =+IF(OR(P23<T23,P23>U23),"Valeur aberrante","") | Z23: =_xlfn.T.TEST(B23:D23,N23:P23,2,1) -> 0.34092614 | AA23: =IF(Z23<0.05,"YES","NO") -> NO
A24: Enzymatic | B24: =AVERAGE('Raw results fibers'!H46:H51) -> 24.465 | C24: =AVERAGE('Raw results fibers'!I46:I51) -> 20.383333 | D24: =AVERAGE('Raw results fibers'!J46:J51) -> 17.403333 | E24: =AVERAGE(B24:D24) -> 20.750556 | F24: =_xlfn.STDEV.S(B24:D24) -> 3.5451267 | G24: =_xlfn.CONFIDENCE.NORM(0.05, F24, 3) -> 4.0116148 | H24: =E24-2*F24 -> 13.660302 | I24: =E24+2*F24 -> 27.840809 | J24: =+IF(OR(B24<H24,B24>I24),"Valeur aberrante","") | K24: =+IF(OR(C24<H24,C24>I24),"Valeur aberrante","") | L24: =+IF(OR(D24<H24,D24>I24),"Valeur aberrante","") | N24: =AVERAGE('Raw results fibers'!K46:K51) -> 18.783333 | O24: =AVERAGE('Raw results fibers'!L46:L51) -> 17.528333 | P24: =AVERAGE('Raw results fibers'!M46:M51) -> 14.951667 | Q24: =AVERAGE(N24:P24) -> 17.087778 | R24: =_xlfn.STDEV.S(N24:P24) -> 1.9534544 | S24: =_xlfn.CONFIDENCE.NORM(0.05, R24, 3) -> 2.2105012 | T24: =Q24-2*R24 -> 13.180869 | U24: =Q24+2*R24 -> 20.994687 | V24: =+IF(OR(N24<T24,N24>U24),"Valeur aberrante","") | W24: =+IF(OR(O24<T24,O24>U24),"Valeur aberrante","") | X24: =+IF(OR(P24<T24,P24>U24),"Valeur aberrante","") | Z24: =_xlfn.T.TEST(B24:D24,N24:P24,2,1) -> 0.069083083 | AA24: =IF(Z24<0.05,"YES","NO") -> NO
A25: ASTM protocol | C25: =AVERAGE('Raw results fibers'!I58:I63) -> 23.356667 | D25: =AVERAGE('Raw results fibers'!J58:J63) -> 23.86 | E25: =AVERAGE(B25:D25) -> 23.608333 | F25: =_xlfn.STDEV.S(B25:D25) -> 0.35591041 | G25: =_xlfn.CONFIDENCE.NORM(0.05, F25, 3) -> 0.40274315 | H25: =E25-2*F25 -> 22.896513 | I25: =E25+2*F25 -> 24.320154 | N25: =AVERAGE('Raw results fibers'!K58:K63) -> 27.701667 | O25: =AVERAGE('Raw results fibers'!L58:L63) -> 19.353333 | P25: =AVERAGE('Raw results fibers'!M58:M63) -> 37.091667 | Q25: =AVERAGE(N25:P25) -> 28.048889 | R25: =_xlfn.STDEV.S(N25:P25) -> 8.8742628 | S25: =_xlfn.CONFIDENCE.NORM(0.05, R25, 3) -> 10.041989 | T25: =Q25-2*R25 -> 10.300363 | U25: =Q25+2*R25 -> 45.797414 | Z25: =_xlfn.T.TEST(B25:D25,N25:P25,2,1) -> 0.68703953 | AA25: =IF(Z25<0.05,"YES","NO") -> NO | AB25: NO
A26: Blank | B26: =AVERAGE('Raw results fibers'!H52:H57) -> 14.22 | C26: =AVERAGE('Raw results fibers'!I52:I57) -> 14.151667 | D26: =AVERAGE('Raw results fibers'!J52:J57) -> 15.163333 | E26: =AVERAGE(B26:D26) -> 14.511667 | F26: =_xlfn.STDEV.S(B26:D26) -> 0.56539318 | G26: =_xlfn.CONFIDENCE.NORM(0.05, F26, 3) -> 0.63979085 | H26: =E26-2*F26 -> 13.38088 | I26: =E26+2*F26 -> 15.642453 | J26: =+IF(OR(B26<H26,B26>I26),"Valeur aberrante","") | K26: =+IF(OR(C26<H26,C26>I26),"Valeur aberrante","") | L26: =+IF(OR(D26<H26,D26>I26),"Valeur aberrante","") | N26: =AVERAGE('Raw results fibers'!K52:K57) -> 15.44 | O26: =AVERAGE('Raw results fibers'!L52:L57) -> 17.361667 | P26: =AVERAGE('Raw results fibers'!M52:M57) -> 14.21 | Q26: =AVERAGE(N26:P26) -> 15.670556 | R26: =_xlfn.STDEV.S(N26:P26) -> 1.5884324 | S26: =_xlfn.CONFIDENCE.NORM(0.05, R26, 3) -> 1.7974475 | T26: =Q26-2*R26 -> 12.493691 | U26: =Q26+2*R26 -> 18.84742 | V26: =+IF(OR(N26<T26,N26>U26),"Valeur aberrante","") | W26: =+IF(OR(O26<T26,O26>U26),"Valeur aberrante","") | X26: =+IF(OR(P26<T26,P26>U26),"Valeur aberrante","") | Z26: =_xlfn.T.TEST(B26:D26,N26:P26,2,1) -> 0.43678063 | AA26: =IF(Z26<0.05,"YES","NO") -> NO
A27: Microplastic type | B27: PMMA BEFORE | N27: PMMA AFTER | W27: =+IF(OR(O27<T27,O27>U27),"Valeur aberrante","") | X27: =+IF(OR(P27<T27,P27>U27),"Valeur aberrante","")
A28: Measured parameter | B28: Mean diameter (µm) | N28: Mean diameter (µm) | W28: =+IF(OR(O28<T28,O28>U28),"Valeur aberrante","") | X28: =+IF(OR(P28<T28,P28>U28),"Valeur aberrante","")
A29: N° Replicate | B29: 1 | C29: 2 | D29: 3 | E29: Mean | F29: Standard deviation | G29: 95% confidence interval (mean ± indicated value) | H29: Mean-2*standard deviation | I29: Mean+2*standard deviation | J29: Outliers Replicate 1 | K29: Outliers Replicate 2 | L29: Outliers Replicate 3 | M29: Normality Shapiro-Wilk test | N29: 1 | O29: 2 | P29: 3 | Q29: Mean | R29: Standard deviation | S29: 95% confidence interval (mean ± indicated value) | T29: Mean-2*standard deviation | U29: Mean+2*standard deviation | V29: Outliers Replicate 1 | W29: Outliers Replicate 2 | X29: Outliers Replicate 3
A30: NaOH 10M RT | B30: =AVERAGE('Raw results fibers'!N4:N9) -> 24.393333 | C30: =AVERAGE('Raw results fibers'!O4:O9) -> 16.35 | D30: =AVERAGE('Raw results fibers'!P4:P9) -> 24.24 | E30: =AVERAGE(B30:D30) -> 21.661111 | F30: =_xlfn.STDEV.S(B30:D30) -> 4.6001961 | G30: =_xlfn.CONFIDENCE.NORM(0.05, F30, 3) -> 5.2055162 | H30: =E30-2*F30 -> 12.460719 | I30: =E30+2*F30 -> 30.861503 | J30: =+IF(OR(B30<H30,B30>I30),"Valeur aberrante","") | K30: =+IF(OR(C30<H30,C30>I30),"Valeur aberrante","") | L30: =+IF(OR(D30<H30,D30>I30),"Valeur aberrante","") | N30: =AVERAGE('Raw results fibers'!Q4:Q9) -> 23.72 | O30: =AVERAGE('Raw results fibers'!R4:R9) -> 24.665 | P30: =AVERAGE('Raw results fibers'!S4:S9) -> 21.018333 | Q30: =AVERAGE(N30:P30) -> 23.134444 | R30: =_xlfn.STDEV.S(N30:P30) -> 1.8925382 | S30: =_xlfn.CONFIDENCE.NORM(0.05, R30, 3) -> 2.1415693 | T30: =Q30-2*R30 -> 19.349368 | U30: =Q30+2*R30 -> 26.919521 | V30: =+IF(OR(N30<T30,N30>U30),"Valeur aberrante","") | W30: =+IF(OR(O30<T30,O30>U30),"Valeur aberrante","") | X30: =+IF(OR(P30<T30,P30>U30),"Valeur aberrante","") | Z30: =_xlfn.T.TEST(B30:D30,N30:P30,2,1) -> 0.71463982 | AA30: =IF(Z30<0.05,"YES","NO") -> NO
A31: NaOCl 3% | B31: =AVERAGE('Raw results fibers'!N10:N15) -> 29.975 | C31: =AVERAGE('Raw results fibers'!O10:O15) -> 19.13 | D31: =AVERAGE('Raw results fibers'!P10:P15) -> 25.108333 | E31: =AVERAGE(B31:D31) -> 24.737778 | F31: =_xlfn.STDEV.S(B31:D31) -> 5.4319876 | G31: =_xlfn.CONFIDENCE.NORM(0.05, F31, 3) -> 6.1467597 | H31: =E31-2*F31 -> 13.873802 | I31: =E31+2*F31 -> 35.601753 | J31: =+IF(OR(B31<H31,B31>I31),"Valeur aberrante","") | K31: =+IF(OR(C31<H31,C31>I31),"Valeur aberrante","") | L31: =+IF(OR(D31<H31,D31>I31),"Valeur aberrante","") | N31: =AVERAGE('Raw results fibers'!Q10:Q15) -> 23.148333 | O31: =AVERAGE('Raw results fibers'!R10:R15) -> 17.215 | P31: =AVERAGE('Raw results fibers'!S10:S15) -> 23.363333 | Q31: =AVERAGE(N31:P31) -> 21.242222 | R31: =_xlfn.STDEV.S(N31:P31) -> 3.4893331 | S31: =_xlfn.CONFIDENCE.NORM(0.05, R31, 3) -> 3.9484795 | T31: =Q31-2*R31 -> 14.263556 | U31: =Q31+2*R31 -> 28.220888 | V31: =+IF(OR(N31<T31,N31>U31),"Valeur aberrante","") | W31: =+IF(OR(O31<T31,O31>U31),"Valeur aberrante","") | X31: =+IF(OR(P31<T31,P31>U31),"Valeur aberrante","") | Z31: =_xlfn.T.TEST(B31:D31,N31:P31,2,1) -> 0.17081856 | AA31: =IF(Z31<0.05,"YES","NO") -> NO
A32: H2O2 30% RT | B32: =AVERAGE('Raw results fibers'!N16:N21) -> 20.068333 | C32: =AVERAGE('Raw results fibers'!O16:O21) -> 24.056667 | D32: =AVERAGE('Raw results fibers'!P16:P21) -> 21.05 | E32: =AVERAGE(B32:D32) -> 21.725 | F32: =_xlfn.STDEV.S(B32:D32) -> 2.0780807 | G32: =_xlfn.CONFIDENCE.NORM(0.05, F32, 3) -> 2.3515265 | H32: =E32-2*F32 -> 17.568839 | I32: =E32+2*F32 -> 25.881161 | J32: =+IF(OR(B32<H32,B32>I32),"Valeur aberrante","") | K32: =+IF(OR(C32<H32,C32>I32),"Valeur aberrante","") | L32: =+IF(OR(D32<H32,D32>I32),"Valeur aberrante","") | N32: =AVERAGE('Raw results fibers'!Q16:Q21) -> 20.318333 | O32: =AVERAGE('Raw results fibers'!R16:R21) -> 20.726667 | P32: =AVERAGE('Raw results fibers'!S16:S21) -> 21.983333 | Q32: =AVERAGE(N32:P32) -> 21.009444 | R32: =_xlfn.STDEV.S(N32:P32) -> 0.86777226 | S32: =_xlfn.CONFIDENCE.NORM(0.05, R32, 3) -> 0.98195872 | T32: =Q32-2*R32 -> 19.2739 | U32: =Q32+2*R32 -> 22.744989 | V32: =+IF(OR(N32<T32,N32>U32),"Valeur aberrante","") | W32: =+IF(OR(O32<T32,O32>U32),"Valeur aberrante","") | X32: =+IF(OR(P32<T32,P32>U32),"Valeur aberrante","") | Z32: =_xlfn.T.TEST(B32:D32,N32:P32,2,1) -> 0.64255733 | AA32: =IF(Z32<0.05,"YES","NO") -> NO
A33: CWPO | B33: =AVERAGE('Raw results fibers'!N22:N27) -> 21.721667 | C33: =AVERAGE('Raw results fibers'!O22:O27) -> 25.13 | D33: =AVERAGE('Raw results fibers'!P22:P27) -> 17.805 | E33: =AVERAGE(B33:D33) -> 21.552222 | F33: =_xlfn.STDEV.S(B33:D33) -> 3.6654386 | G33: =_xlfn.CONFIDENCE.NORM(0.05, F33, 3) -> 4.147758 | H33: =E33-2*F33 -> 14.221345 | I33: =E33+2*F33 -> 28.883099 | J33: =+IF(OR(B33<H33,B33>I33),"Valeur aberrante","") | K33: =+IF(OR(C33<H33,C33>I33),"Valeur aberrante","") | L33: =+IF(OR(D33<H33,D33>I33),"Valeur aberrante","") | N33: =AVERAGE('Raw results fibers'!Q22:Q27) -> 17.448333 | O33: =AVERAGE('Raw results fibers'!R22:R27) -> 26.615 | P33: =AVERAGE('Raw results fibers'!S22:S27) -> 28.381667 | Q33: =AVERAGE(N33:P33) -> 24.148333 | R33: =_xlfn.STDEV.S(N33:P33) -> 5.8692229 | S33: =_xlfn.CONFIDENCE.NORM(0.05, R33, 3) -> 6.6415289 | T33: =Q33-2*R33 -> 12.409887 | U33: =Q33+2*R33 -> 35.886779 | V33: =+IF(OR(N33<T33,N33>U33),"Valeur aberrante","") | W33: =+IF(OR(O33<T33,O33>U33),"Valeur aberrante","") | X33: =+IF(OR(P33<T33,P33>U33),"Valeur aberrante","") | Z33: =_xlfn.T.TEST(B33:D33,N33:P33,2,1) -> 0.6091135 | AA33: =IF(Z33<0.05,"YES","NO") -> NO
A34: KOH | B34: =AVERAGE('Raw results fibers'!N28:N33) -> 26.416667 | C34: =AVERAGE('Raw results fibers'!O28:O33) -> 23.606667 | D34: =AVERAGE('Raw results fibers'!P28:P33) -> 21.56 | E34: =AVERAGE(B34:D34) -> 23.861111 | F34: =_xlfn.STDEV.S(B34:D34) -> 2.4383107 | G34: =_xlfn.CONFIDENCE.NORM(0.05, F34, 3) -> 2.7591576 | H34: =E34-2*F34 -> 18.98449 | I34: =E34+2*F34 -> 28.737733 | J34: =+IF(OR(B34<H34,B34>I34),"Valeur aberrante","") | K34: =+IF(OR(C34<H34,C34>I34),"Valeur aberrante","") | L34: =+IF(OR(D34<H34,D34>I34),"Valeur aberrante","") | N34: =AVERAGE('Raw results fibers'!Q28:Q33) -> 26.708333 | O34: =AVERAGE('Raw results fibers'!R28:R33) -> 23.486667 | P34: =AVERAGE('Raw results fibers'!S28:S33) -> 22.275 | Q34: =AVERAGE(N34:P34) -> 24.156667 | R34: =_xlfn.STDEV.S(N34:P34) -> 2.2913503 | S34: =_xlfn.CONFIDENCE.NORM(0.05, R34, 3) -> 2.5928593 | T34: =Q34-2*R34 -> 19.573966 | U34: =Q34+2*R34 -> 28.739367 | V34: =+IF(OR(N34<T34,N34>U34),"Valeur aberrante","") | W34: =+IF(OR(O34<T34,O34>U34),"Valeur aberrante","") | X34: =+IF(OR(P34<T34,P34>U34),"Valeur aberrante","") | Z34: =_xlfn.T.TEST(B34:D34,N34:P34,2,1) -> 0.34492991 | AA34: =IF(Z34<0.05,"YES","NO") -> NO
A35: H2O2 40°C | B35: =AVERAGE('Raw results fibers'!N34:N39) -> 25.971667 | C35: =AVERAGE('Raw results fibers'!O34:O39) -> 20.791667 | D35: =AVERAGE('Raw results fibers'!P34:P39) -> 26.683333 | E35: =AVERAGE(B35:D35) -> 24.482222 | F35: =_xlfn.STDEV.S(B35:D35) -> 3.2158619 | G35: =_xlfn.CONFIDENCE.NORM(0.05, F35, 3) -> 3.6390234 | H35: =E35-2*F35 -> 18.050498 | I35: =E35+2*F35 -> 30.913946 | J35: =+IF(OR(B35<H35,B35>I35),"Valeur aberrante","") | K35: =+IF(OR(C35<H35,C35>I35),"Valeur aberrante","") | L35: =+IF(OR(D35<H35,D35>I35),"Valeur aberrante","") | N35: =AVERAGE('Raw results fibers'!Q34:Q39) -> 30.421667 | O35: =AVERAGE('Raw results fibers'!R34:R39) -> 23.475 | P35: =AVERAGE('Raw results fibers'!S34:S39) -> 26.666667 | Q35: =AVERAGE(N35:P35) -> 26.854444 | R35: =_xlfn.STDEV.S(N35:P35) -> 3.4771382 | S35: =_xlfn.CONFIDENCE.NORM(0.05, R35, 3) -> 3.9346799 | T35: =Q35-2*R35 -> 19.900168 | U35: =Q35+2*R35 -> 33.808721 | V35: =+IF(OR(N35<T35,N35>U35),"Valeur aberrante","") | W35: =+IF(OR(O35<T35,O35>U35),"Valeur aberrante","") | X35: =+IF(OR(P35<T35,P35>U35),"Valeur aberrante","") | Z35: =_xlfn.T.TEST(B35:D35,N35:P35,2,1) -> 0.209304 | AA35: =IF(Z35<0.05,"YES","NO") -> NO
A36: NaOH 40°C | B36: =AVERAGE('Raw results fibers'!N40:N45) -> 21.62 | C36: =AVERAGE('Raw results fibers'!O40:O45) -> 22.32 | D36: =AVERAGE('Raw results fibers'!P40:P45) -> 27.736667 | E36: =AVERAGE(B36:D36) -> 23.892222 | F36: =_xlfn.STDEV.S(B36:D36) -> 3.3477328 | G36: =_xlfn.CONFIDENCE.NORM(0.05, F36, 3) -> 3.7882467 | H36: =E36-2*F36 -> 17.196757 | I36: =E36+2*F36 -> 30.587688 | J36: =+IF(OR(B36<H36,B36>I36),"Valeur aberrante","") | K36: =+IF(OR(C36<H36,C36>I36),"Valeur aberrante","") | L36: =+IF(OR(D36<H36,D36>I36),"Valeur aberrante","") | N36: =AVERAGE('Raw results fibers'!Q40:Q45) -> 27.61 | O36: =AVERAGE('Raw results fibers'!R40:R45) -> 20.855 | P36: =AVERAGE('Raw results fibers'!S40:S45) -> 29.421667 | Q36: =AVERAGE(N36:P36) -> 25.962222 | R36: =_xlfn.STDEV.S(N36:P36) -> 4.5147894 | S36: =_xlfn.CONFIDENCE.NORM(0.05, R36, 3) -> 5.1088713 | T36: =Q36-2*R36 -> 16.932643 | U36: =Q36+2*R36 -> 34.991801 | V36: =+IF(OR(N36<T36,N36>U36),"Valeur aberrante","") | W36: =+IF(OR(O36<T36,O36>U36),"Valeur aberrante","") | X36: =+IF(OR(P36<T36,P36>U36),"Valeur aberrante","") | Z36: =_xlfn.T.TEST(B36:D36,N36:P36,2,1) -> 0.4391428 | AA36: =IF(Z36<0.05,"YES","NO") -> NO
A37: Enzymatic | B37: =AVERAGE('Raw results fibers'!N46:N51) -> 20.11 | D37: =AVERAGE('Raw results fibers'!P46:P51) -> 18.586667 | E37: =AVERAGE(B37:D37) -> 19.348333 | F37: =_xlfn.STDEV.S(B37:D37) -> 1.0771593 | G37: =_xlfn.CONFIDENCE.NORM(0.05, F37, 3) -> 1.2188981 | H37: =E37-2*F37 -> 17.194015 | I37: =E37+2*F37 -> 21.502652 | J37: =+IF(OR(B37<H37,B37>I37),"Valeur aberrante","") | L37: =+IF(OR(D37<H37,D37>I37),"Valeur aberrante","") | N37: =AVERAGE('Raw results fibers'!Q46:Q51) -> 20.868333 | P37: =AVERAGE('Raw results fibers'!S46:S51) -> 18.755 | Q37: =AVERAGE(N37:P37) -> 19.811667 | R37: =_xlfn.STDEV.S(N37:P37) -> 1.4943523 | S37: =_xlfn.CONFIDENCE.NORM(0.05, R37, 3) -> 1.6909878 | T37: =Q37-2*R37 -> 16.822962 | U37: =Q37+2*R37 -> 22.800371 | V37: =+IF(OR(N37<T37,N37>U37),"Valeur aberrante","") | X37: =+IF(OR(P37<T37,P37>U37),"Valeur aberrante","") | Z37: =_xlfn.T.TEST(B37:D37,N37:P37,2,1) -> 0.36093918 | AA37: =IF(Z37<0.05,"YES","NO") -> NO
A38: ASTM protocol | B38: =AVERAGE('Raw results fibers'!N58:N63) -> 29.86 | E38: =AVERAGE(B38:D38) -> 29.86 | F38: - | G38: - | H38: - | I38: - | N38: =AVERAGE('Raw results fibers'!Q58:Q63) -> 35.32 | Q38: =AVERAGE(N38:P38) -> 35.32 | R38: - | S38: - | T38: - | U38: - | Z38: - | AA38: =IF(Z38<0.05,"YES","NO") -> NO
A39: Blank | B39: =AVERAGE('Raw results fibers'!N52:N57) -> 15.778333 | C39: =AVERAGE('Raw results fibers'!O52:O57) -> 26.01 | D39: =AVERAGE('Raw results fibers'!P52:P57) -> 25.736667 | E39: =AVERAGE(B39:D39) -> 22.508333 | F39: =_xlfn.STDEV.S(B39:D39) -> 5.8299531 | G39: =_xlfn.CONFIDENCE.NORM(0.05, F39, 3) -> 6.5970917 | H39: =E39-2*F39 -> 10.848427 | I39: =E39+2*F39 -> 34.168239 | J39: =+IF(OR(B39<H39,B39>I39),"Valeur aberrante","") | K39: =+IF(OR(C39<H39,C39>I39),"Valeur aberrante","") | L39: =+IF(OR(D39<H39,D39>I39),"Valeur aberrante","") | M39: NO | N39: =AVERAGE('Raw results fibers'!Q52:Q57) -> 24.756667 | O39: =AVERAGE('Raw results fibers'!R52:R57) -> 25.558333 | P39: =AVERAGE('Raw results fibers'!S52:S57) -> 22.808333 | Q39: =AVERAGE(N39:P39) -> 24.374444 | R39: =_xlfn.STDEV.S(N39:P39) -> 1.4142826 | S39: =_xlfn.CONFIDENCE.NORM(0.05, R39, 3) -> 1.6003821 | T39: =Q39-2*R39 -> 21.545879 | U39: =Q39+2*R39 -> 27.20301 | V39: =+IF(OR(N39<T39,N39>U39),"Valeur aberrante","") | W39: =+IF(OR(O39<T39,O39>U39),"Valeur aberrante","") | X39: =+IF(OR(P39<T39,P39>U39),"Valeur aberrante","") | Z39: =_xlfn.T.TEST(B39:D39,N39:P39,2,1) -> 0.65813502 | AA39: =IF(Z39<0.05,"YES","NO") -> NO
A40: Microplastic type | B40: SBR BEFORE | N40: SBR AFTER | W40: =+IF(OR(O40<T40,O40>U40),"Valeur aberrante","") | X40: =+IF(OR(P40<T40,P40>U40),"Valeur aberrante","")
...

Sheet CI and COI
B1: Carbonyl | D1: Reference | H1: MP | I1: Carbonyl | K1: Reference | M1: CI or COI | N1: SD
A2: MP | B2: Wavelength (cm-1) | C2: Absorbance | D2: Wavelength (cm-1) | E2: Absorbance | F2: CI | I2: Wavelength (cm-1) | J2: Absorbance | K2: Wavelength (cm-1) | L2: Absorbance | Q2: T-Test CI BEFORE/AFTER | R2: Significant variation
A3: PES BEFORE1 | B3: 1713 | C3: 0.0915 | D3: 1408 | E3: 0.0322 | F3: =C3/E3 -> 2.8416149 | H3: PES BEFORE | I3: =AVERAGE(B3:B5) -> 1713.6667 | J3: =AVERAGE(C3:C5) -> 0.10376667 | K3: =AVERAGE(D3:D5) -> 1408 | L3: =AVERAGE(E3:E5) -> 0.0351 | M3: =AVERAGE(F3:F5) -> 2.9283655 | N3: =_xlfn.STDEV.S(F3:F5) -> 0.13655708 | P3: PES | Q3: =_xlfn.T.TEST(F3:F5,F6:F8,2,1) -> 0.58874184 | R3: =IF(Q3<0.05,"YES","NO") -> NO
A4: PES BEFORE2 | B4: 1714 | C4: 0.1475 | D4: 1408 | E4: 0.0478 | F4: =C4/E4 -> 3.0857741 | H4: PES AFTER | I4: =AVERAGE(B6:B8) -> 1713 | J4: =AVERAGE(C6:C8) -> 0.0998 | K4: =AVERAGE(D6:D8) -> 1408.6667 | L4: =AVERAGE(E6:E8) -> 0.034766667 | M4: =AVERAGE(F6:F8) -> 2.8724255 | N4: =_xlfn.STDEV.S(F6:F8) -> 0.031815801 | P4: PA | Q4: =_xlfn.T.TEST(F9:F11,F12:F14,2,1) -> 0.12549708 | R4: =IF(Q4<0.05,"YES","NO") -> NO
A5: PES BEFORE3 | B5: 1714 | C5: 0.0723 | D5: 1408 | E5: 0.0253 | F5: =C5/E5 -> 2.8577075 | H5: PA BEFORE | I5: =AVERAGE(B9:B11) -> 1635.3333 | J5: =AVERAGE(C9:C11) -> 0.0921 | K5: =AVERAGE(D9:D11) -> 1461.3333 | L5: =AVERAGE(E9:E11) -> 0.048566667 | M5: =AVERAGE(F9:F11) -> 1.8987155 | N5: =_xlfn.STDEV.S(F9:F11) -> 0.036762365 | P5: PMMA | Q5: =_xlfn.T.TEST(F15:F17,F18:F20,2,1) -> 0.25356851 | R5: =IF(Q5<0.05,"YES","NO") -> NO
A6: PES AFTER1 | B6: 1713 | C6: 0.1292 | D6: 1408 | E6: 0.0453 | F6: =C6/E6 -> 2.8520971 | H6: PA AFTER | I6: =AVERAGE(B12:B14) -> 1636 | J6: =AVERAGE(C12:C14) -> 0.0955 | K6: =AVERAGE(D12:D14) -> 1461 | L6: =AVERAGE(E12:E14) -> 0.046466667 | M6: =AVERAGE(F12:F14) -> 2.0423381 | N6: =_xlfn.STDEV.S(F12:F14) -> 0.10140996 | P6: SBR | Q6: =_xlfn.T.TEST(F21:F23,F24:F26,2,1) -> 0.96665545 | R6: =IF(Q6<0.05,"YES","NO") -> NO
A7: PES AFTER2 | B7: 1713 | C7: 0.0774 | D7: 1409 | E7: 0.0271 | F7: =C7/E7 -> 2.8560886 | H7: PMMA BEFORE | I7: =AVERAGE(B15:B17) -> 1736.3333 | J7: =AVERAGE(C15:C17) -> 0.012433333 | K7: =AVERAGE(D15:D17) -> 1410 | L7: =AVERAGE(E15:E17) -> 0.0066666667 | M7: =AVERAGE(F15:F17) -> 1.8110945 | N7: =_xlfn.STDEV.S(F15:F17) -> 0.16098143 | P7: PE | Q7: =_xlfn.T.TEST(F27:F29,F30:F32,2,1) -> 0.17319478 | R7: =IF(Q7<0.05,"YES","NO") -> NO
A8: PES AFTER3 | B8: 1713 | C8: 0.0928 | D8: 1409 | E8: 0.0319 | F8: =C8/E8 -> 2.9090909 | H8: PMMA AFTER | I8: =AVERAGE(B18:B20) -> 1738.3333 | J8: =AVERAGE(C18:C20) -> 0.0097 | K8: =AVERAGE(D18:D20) -> 1411.6667 | L8: =AVERAGE(E18:E20) -> 0.0067333333 | M8: =AVERAGE(F18:F20) -> 1.3427896 | N8: =_xlfn.STDEV.S(F18:F20) -> 0.45705263 | P8: PET | Q8: =_xlfn.T.TEST(F33:F35,F36:F38,2,1) -> 0.010616546 | R8: =IF(Q8<0.05,"YES","NO") -> YES
A9: PA BEFORE1 | B9: 1635 | C9: 0.0823 | D9: 1461 | E9: 0.0424 | F9: =C9/E9 -> 1.9410377 | H9: SBR BEFORE | I9: =AVERAGE(B21:B23) -> 1730.6667 | J9: =AVERAGE(C21:C23) -> 0.1511 | K9: =AVERAGE(D21:D23) -> 1462 | L9: =AVERAGE(E21:E23) -> 0.23716667 | M9: =AVERAGE(F21:F23) -> 0.63712724 | N9: =_xlfn.STDEV.S(F21:F23) -> 0.018499695 | P9: PP
