Workbook

Sheet Raw results fibers
B1: PES BEFORE | E1: PES AFTER | H1: PA BEFORE | K1: PA AFTER | N1: PMMA BEFORE | Q1: PMMA AFTER | T1: PE BEFORE | W1: PE AFTER | Z1: COTTON BEFORE | AC1: COTTON AFTER | AF1: WOOL BEFORE | AI1: WOOL AFTER | AM1: CELLULOSE BEFORE | AP1: CELLULOSE AFTER
B2: 6 estimated fiber diameter per replicate (µm) | E2: 6 estimated fiber diameter per replicate (µm) | H2: 6 estimated fiber diameter per replicate (µm) | K2: 6 estimated fiber diameter per replicate (µm) | N2: 6 estimated fiber diameter per replicate (µm) | Q2: 6 estimated fiber diameter per replicate (µm) | T2: 6 estimated fiber diameter per replicate (µm) | W2: 6 estimated fiber diameter per replicate (µm) | Z2: 6 estimated fiber diameter per replicate (µm) | AC2: 6 estimated fiber diameter per replicate (µm) | AF2: 6 estimated fiber diameter per replicate (µm) | AI2: 6 estimated fiber diameter per replicate (µm) | AM2: Estimation of the total surface area and the surface area of the holes in the samples (µm2) | AP2: Estimation of the total surface area and the surface area of the holes in the samples (µm2)
A3: Replicate : | B3: 1 | C3: 2 | D3: 3 | E3: 1 | F3: 2 | G3: 3 | H3: 1 | I3: 2 | J3: 3 | K3: 1 | L3: 2 | M3: 3 | N3: 1 | O3: 2 | P3: 3 | Q3: 1 | R3: 2 | S3: 3 | T3: 1 | U3: 2 | V3: 3 | W3: 1 | X3: 2 | Y3: 3 | Z3: 1 | AA3: 2 | AB3: 3 | AC3: 1 | AD3: 2 | AE3: 3 | AF3: 1 | AG3: 2 | AH3: 3 | AI3: 1 | AJ3: 2 | AK3: 3 | AM3: 1 | AN3: 2 | AO3: 3 | AP3: 1 | AQ3: 2 | AR3: 3
A4: 10 M NaOH RT | B4: 25.79 | C4: 26.6 | D4: 28.15 | E4: 26.31 | F4: 25.35 | G4: 28.17 | H4: 16.67 | I4: 18.67 | J4: 15.97 | K4: 15.38 | L4: 13.18 | M4: 16.31 | N4: 24.6 | O4: 14.86 | P4: 23.07 | Q4: 25.37 | R4: 21.94 | S4: 22.34 | T4: 19.01 | U4: 21.68 | V4: 20.86 | W4: 21.61 | X4: 22.59 | Y4: 22.99 | Z4: 23.67 | AA4: 21.23 | AB4: 17.44 | AC4: 18.3 | AD4: 19.55 | AE4: 16.45 | AF4: 32.79 | AG4: 26.84 | AH4: 29.94 | AI4: 12.49 | AJ4: 20.38 | AK4: 50.55 | AL4: Total area | AM4: 1329374.3 | AN4: 1853287.4 | AO4: 1200504.1 | AP4: 447886.47 | AQ4: 531922 | AR4: 722973
B5: 26.03 | C5: 26.6 | D5: 26.5 | E5: 26.03 | F5: 24.79 | G5: 27.85 | H5: 15.34 | I5: 17.57 | J5: 16.22 | K5: 16.61 | L5: 13.43 | M5: 16.73 | N5: 24.58 | O5: 15.2 | P5: 23.15 | Q5: 24.91 | R5: 23.2 | S5: 23.66 | T5: 18.83 | U5: 22.77 | V5: 19.64 | W5: 21.18 | X5: 17.63 | Y5: 21.84 | Z5: 15.19 | AA5: 24.08 | AB5: 17.44 | AC5: 19.64 | AD5: 21.22 | AE5: 17.75 | AF5: 31.58 | AG5: 28.57 | AH5: 29.03 | AI5: 11.67 | AJ5: 18.05 | AK5: 56.65 | AL5: Holes Area | AM5: =729*139.514 -> 101705.71 | AN5: =226.7213*1070 -> 242591.79 | AO5: =495*186.1602 -> 92149.299 | AP5: =982*77.8646 -> 76463.037 | AQ5: =715*72.2476 -> 51657.034 | AR5: =853*112.5006 -> 95963.012
B6: 24.58 | C6: 25.14 | D6: 26.89 | E6: 25.53 | F6: 24.04 | G6: 26.6 | H6: 15.38 | I6: 17.57 | J6: 15.32 | K6: 15.99 | L6: 14.47 | M6: 15.38 | N6: 24.06 | O6: 15.71 | P6: 24.39 | Q6: 26.35 | R6: 25.28 | S6: 22.46 | T6: 21.05 | U6: 19.77 | V6: 20.74 | W6: 20.87 | X6: 22.41 | Y6: 21.02 | Z6: 15.46 | AA6: 21.32 | AB6: 17.13 | AC6: 19.71 | AD6: 17.87 | AE6: 20.18 | AF6: 30.07 | AG6: 26.89 | AH6: 27.9 | AI6: 12.37 | AJ6: 17.64 | AK6: 54.87
B7: 26.28 | C7: 26.18 | D7: 28.12 | E7: 26.27 | F7: 23.53 | G7: 26.31 | H7: 16.01 | I7: 17.3 | J7: 12.63 | K7: 15.94 | L7: 11.97 | M7: 15.48 | N7: 24.36 | O7: 14.55 | P7: 25.45 | Q7: 21.87 | R7: 27.5 | S7: 21.79 | T7: 18.53 | U7: 20.79 | V7: 20.15 | W7: 17.87 | X7: 21.74 | Y7: 21.75 | Z7: 12.64 | AA7: 20.48 | AB7: 16.34 | AC7: 19.64 | AD7: 17.47 | AE7: 21.6 | AF7: 30.44 | AG7: 29 | AH7: 29.59 | AI7: 10.35 | AJ7: 17.07 | AK7: 49.54
B8: 26.83 | C8: 25.78 | D8: 26.94 | E8: 26.24 | F8: 24.05 | G8: 24.9 | H8: 14.46 | I8: 17.86 | J8: 14.86 | K8: 15.54 | L8: 14.48 | M8: 13.31 | N8: 24.43 | O8: 18.63 | P8: 26.27 | Q8: 20.72 | R8: 23.9 | S8: 17.96 | T8: 21.53 | U8: 20.31 | V8: 18.93 | W8: 21.76 | X8: 24.55 | Y8: 21 | Z8: 19.43 | AA8: 21.76 | AB8: 21.94 | AC8: 20.08 | AD8: 21.77 | AE8: 20.06 | AF8: 32.38 | AG8: 28.36 | AH8: 28.47 | AI8: 12.74 | AJ8: 22.59 | AK8: 55.49
B9: 26.98 | C9: 27.68 | D9: 27.05 | E9: 25.32 | F9: 23.16 | G9: 25.86 | H9: 15.03 | I9: 15.66 | J9: 14.45 | K9: 16.4 | L9: 13.46 | M9: 16.31 | N9: 24.33 | O9: 19.15 | P9: 23.11 | Q9: 23.1 | R9: 26.17 | S9: 17.9 | T9: 20.31 | U9: 20.96 | V9: 20.35 | W9: 17.59 | X9: 19.88 | Y9: 19.75 | Z9: 18.25 | AA9: 19.33 | AB9: 22.98 | AC9: 17.47 | AD9: 18.61 | AE9: 20.55 | AF9: 33.33 | AG9: 29.95 | AH9: 31.81 | AI9: 10.12 | AJ9: 22.07 | AK9: 51.41
A10: 3 % NaOCl | B10: 27.38 | C10: 26.11 | D10: 23.02 | E10: 23.58 | F10: 25.62 | G10: 22.4 | H10: 15.37 | I10: 18.6 | J10: 15.6 | K10: 12.9 | L10: 17.28 | M10: 16.47 | N10: 29.83 | O10: 20.11 | P10: 24.98 | Q10: 29.31 | R10: 15.79 | S10: 20.81 | T10: 18.63 | U10: 17.4 | V10: 19.49 | W10: 18.6 | X10: 21.42 | Y10: 20.51 | Z10: 20.02 | AA10: 24.26 | AB10: 28.79 | AC10: 11.91 | AD10: 12.31 | AE10: 20.14 | AF10: 27.06 | AG10: 29 | AH10: 30.06 | AL10: Total area | AM10: =396505.1212*4 -> 1586020.5 | AN10: 1160993.9 | AO10: 1099250.6 | AP10: 467141 | AQ10: 370665 | AR10: =790797.3926+303453.1659 -> 1094250.6
B11: 27.46 | C11: 25.09 | D11: 22.15 | E11: 24.07 | F11: 26.1 | G11: 21.77 | H11: 15.22 | I11: 16.33 | J11: 16.58 | K11: 14.83 | L11: 12.81 | M11: 15.62 | N11: 29.3 | O11: 19.65 | P11: 25.13 | Q11: 22.46 | R11: 17.36 | S11: 21.32 | T11: 17.93 | U11: 20.84 | V11: 20.87 | W11: 16.96 | X11: 21.76 | Y11: 19.18 | Z11: 18.84 | AA11: 19.49 | AB11: 23.89 | AC11: 13.33 | AD11: 13.41 | AE11: 13.99 | AF11: 27.44 | AG11: 29.01 | AH11: 29.17 | AL11: Holes Area | AM11: =168*543.3089 -> 91275.895 | AN11: =91*485.74 -> 44202.34 | AO11: =138.1618*586 -> 80962.815 | AP11: =391*144.3478 -> 56439.99 | AQ11: =151*57.5629 -> 8691.9979 | AR11: =569*142.2302 -> 80928.984
B12: 26.01 | C12: 27.34 | D12: 21.74 | E12: 23.44 | F12: 25.01 | G12: 21.6 | H12: 14.16 | I12: 17.19 | J12: 14.62 | K12: 13.46 | L12: 14.42 | M12: 15.97 | N12: 30.77 | O12: 19.65 | P12: 24.58 | Q12: 25.83 | R12: 17.9 | S12: 23.24 | T12: 19.04 | U12: 19.57 | V12: 21.74 | W12: 19.5 | X12: 22.28 | Y12: 23.25 | Z12: 18.8 | AA12: 19.18 | AB12: 21.62 | AC12: 12.74 | AD12: 13.14 | AE12: 15.09 | AF12: 25.61 | AG12: 27.1 | AH12: 29.88
B13: 25.54 | C13: 25.05 | D13: 21.44 | E13: 23.73 | F13: 25.81 | G13: 20.11 | H13: 15.34 | I13: 17.9 | J13: 18.71 | K13: 15.1 | L13: 15.93 | M13: 16.94 | N13: 30.88 | O13: 19.77 | P13: 23.43 | Q13: 23.54 | R13: 19.22 | S13: 21.41 | T13: 21.7 | U13: 20.26 | V13: 21.71 | W13: 19.18 | X13: 19.77 | Y13: 19.58 | Z13: 17.43 | AA13: 16.73 | AB13: 21.05 | AC13: 12.16 | AD13: 11.2 | AE13: 13.6 | AF13: 24.6 | AG13: 31.02 | AH13: 28.75
B14: 28.22 | C14: 25.04 | D14: 21.36 | E14: 23.76 | F14: 25.64 | G14: 20.44 | H14: 12.94 | I14: 18.25 | J14: 16.7 | K14: 14.83 | L14: 14.09 | M14: 15.34 | N14: 30.53 | O14: 17.26 | P14: 27.12 | Q14: 19.6 | R14: 16.03 | S14: 27.48 | T14: 18.56 | U14: 20.98 | V14: 22.06 | W14: 16.93 | X14: 21.6 | Y14: 19.13 | Z14: 24.31 | AA14: 18.76 | AB14: 17.07 | AC14: 13.56 | AD14: 10.94 | AE14: 13.73 | AF14: 28.1 | AG14: 30.11 | AH14: 28.99
B15: 26.9 | C15: 25.07 | D15: 21.52 | E15: 24.56 | F15: 26.43 | G15: 21.08 | H15: 15.64 | I15: 17.2 | J15: 17.39 | K15: 15.39 | L15: 14.25 | M15: 14.45 | N15: 28.54 | O15: 18.34 | P15: 25.41 | Q15: 18.15 | R15: 16.99 | S15: 25.92 | T15: 21.64 | U15: 19.58 | V15: 18.31 | W15: 17.37 | X15: 21.34 | Y15: 20.33 | Z15: 23.79 | AA15: 15.55 | AB15: 18.34 | AC15: 10.72 | AD15: 11.35 | AE15: 11.82 | AF15: 25.9 | AG15: 28.14 | AH15: 29.44
A16: 30 % H2O2 RT | B16: 25.09 | C16: 27.47 | D16: 23.61 | E16: 26.36 | F16: 23.63 | G16: 23.24 | H16: 16.91 | I16: 20.49 | J16: 14.7 | K16: 14.59 | L16: 16.65 | M16: 14.9 | N16: 20.01 | O16: 24.09 | P16: 21.43 | Q16: 22.23 | R16: 26.8 | S16: 21.95 | T16: 23.02 | U16: 19.08 | V16: 20.57 | W16: 19.61 | X16: 19.8 | Y16: 18.28 | Z16: 11.47 | AA16: 10.13 | AB16: 11.08 | AC16: 11.2 | AD16: 10.44 | AE16: 9.84 | AF16: 33.84 | AG16: 37.67 | AH16: 40.36 | AJ16: 12.91 | AK16: 12.53 | AL16: Total area | AM16: 1108447.7 | AN16: 1279952.6 | AO16: 2738312.1
B17: 24.89 | C17: 27.5 | D17: 22.87 | E17: 26.24 | F17: 24.17 | G17: 23.6 | H17: 17.09 | I17: 17.19 | J17: 15.36 | K17: 16.21 | L17: 14.36 | M17: 14.27 | N17: 22.31 | O17: 24.59 | P17: 21.16 | Q17: 20.61 | R17: 26.02 | S17: 21.26 | T17: 19.77 | U17: 20.15 | V17: 20.5 | W17: 18.56 | X17: 19.12 | Y17: 21.26 | Z17: 11.79 | AA17: 10.91 | AB17: 11.28 | AC17: 11.12 | AD17: 10.83 | AE17: 11.44 | AF17: 38.74 | AG17: 37.13 | AH17: 39.09 | AJ17: 15.78 | AK17: 12.94 | AL17: Holes Area | AM17: =479*104.9186 -> 50256.009 | AN17: =102.6369*570 -> 58503.033 | AO17: =525.2162*336 -> 176472.64
B18: 24.25 | C18: 27.94 | D18: 23.22 | E18: 24.45 | F18: 23.27 | G18: 23.12 | H18: 15.05 | I18: 21.12 | J18: 15.43 | K18: 14.76 | L18: 13.43 | M18: 14.94 | N18: 20.07 | O18: 24.23 | P18: 20.35 | Q18: 18.74 | R18: 19.2 | S18: 23.27 | T18: 21.58 | U18: 19.7 | V18: 19.13 | W18: 19.4 | X18: 18.59 | Y18: 17.91 | Z18: 11.55 | AA18: 10 | AB18: 10.67 | AC18: 11.2 | AD18: 11.27 | AE18: 9.77 | AF18: 38.87 | AG18: 33.94 | AH18: 36.76 | AJ18: 16.45 | AK18: 11.79
B19: 22.5 | C19: 26.33 | D19: 22.9 | E19: 22.54 | F19: 24.42 | G19: 22.27 | H19: 13.02 | I19: 19.12 | J19: 15.23 | K19: 16.31 | L19: 13.27 | M19: 14.32 | N19: 18.29 | O19: 24.51 | P19: 21.06 | Q19: 21.57 | R19: 20.21 | S19: 22.25 | T19: 21.11 | U19: 20.46 | V19: 18.49 | W19: 18.5 | X19: 19.99 | Y19: 20.21 | Z19: 11.73 | AA19: 11.6 | AB19: 9.65 | AC19: 10.56 | AD19: 10.34 | AE19: 11.22 | AF19: 36.81 | AG19: 36.54 | AH19: 38.1 | AJ19: 15.31 | AK19: 13.12
B20: 25.41 | C20: 25.3 | D20: 22.46 | E20: 23.97 | F20: 25.13 | G20: 23.43 | H20: 13.55 | I20: 18.71 | J20: 13.34 | K20: 16.32 | L20: 15.51 | M20: 14.82 | N20: 20.83 | O20: 24.15 | P20: 21.41 | Q20: 20.2 | R20: 16.2 | S20: 21.75 | T20: 20.05 | U20: 22.31 | V20: 17.58 | W20: 22.78 | X20: 20.4 | Y20: 18.9 | Z20: 11.21 | AA20: 12.45 | AB20: 11.86 | AC20: 10.29 | AD20: 11.73 | AE20: 9.87 | AF20: 36.9 | AG20: 35.6 | AH20: 37.15 | AJ20: 14.13 | AK20: 14.12
B21: 24.4 | C21: 25.73 | D21: 20.71 | E21: 23.67 | F21: 24.35 | G21: 22.45 | H21: 14.57 | I21: 17.91 | J21: 12.9 | K21: 14.55 | L21: 15.24 | M21: 18.76 | N21: 18.9 | O21: 22.77 | P21: 20.89 | Q21: 18.56 | R21: 15.93 | S21: 21.42 | T21: 19.35 | U21: 23.06 | V21: 17 | W21: 20.87 | X21: 19.58 | Y21: 19.48 | Z21: 10.61 | AA21: 10.5 | AB21: 11.45 | AC21: 11.17 | AD21: 10.16 | AE21: 10.27 | AF21: 35.8 | AG21: 37.76 | AH21: 40.39 | AJ21: 15.13 | AK21: 13.32
A22: CWPO | B22: 22.03 | C22: 25.02 | D22: 21.98 | E22: 21.56 | F22: 26.5 | G22: 22.29 | H22: 16.9 | I22: 13.69 | J22: 14.86 | K22: 17.01 | L22: 14.64 | M22: 13.18 | N22: 22.01 | O22: 28.56 | P22: 19.25 | Q22: 17.21 | R22: 30.51 | S22: 31.08 | T22: 23.98 | U22: 19.41 | V22: 20.93 | W22: 20.62 | X22: 20.3 | Y22: 19.03 | Z22: 19.9 | AA22: 22.62 | AB22: 19.04 | AC22: 20.8 | AD22: 20.57 | AE22: 16.15 | AF22: 42 | AG22: 43.2 | AH22: 44.02 | AI22: 39.51 | AJ22: 44.86 | AK22: 42.38 | AL22: Total area | AM22: 1297819.1 | AN22: 1756254.4 | AO22: 1657623.3
B23: 21.06 | C23: 24.23 | D23: 21.2 | E23: 21.77 | F23: 27.09 | G23: 23.06 | H23: 17.33 | I23: 16.54 | J23: 15.03 | K23: 18.08 | L23: 15.17 | M23: 13.89 | N23: 22.55 | O23: 28.55 | P23: 17.82 | Q23: 16.12 | R23: 31.71 | S23: 31.34 | T23: 21.76 | U23: 19.18 | V23: 20.08 | W23: 19.34 | X23: 20.61 | Y23: 21.15 | Z23: 18.01 | AA23: 15.92 | AB23: 16.69 | AC23: 17.36 | AD23: 19.26 | AE23: 17.5 | AF23: 38.54 | AG23: 43.5 | AH23: 42.78 | AI23: 34.84 | AJ23: 45.6 | AK23: 36.92 | AL23: Holes Area | AM23: =262.4266*119 -> 31228.765 | AN23: =266*831.9372 -> 221295.3 | AO23: =166*721.6443 -> 119792.95
B24: 21.97 | C24: 23.6 | D24: 21.46 | E24: 21.94 | F24: 28.32 | G24: 27.24 | H24: 17.15 | I24: 16.51 | J24: 16.82 | K24: 14.57 | L24: 14.27 | M24: 14.37 | N24: 22.13 | O24: 19.14 | P24: 16.18 | Q24: 17.28 | R24: 22.2 | S24: 27.48 | T24: 20.57 | U24: 19.77 | V24: 22.3 | W24: 19.41 | X24: 19.82 | Y24: 19.53 | Z24: 19.43 | AA24: 15.41 | AB24: 22.47 | AC24: 20.97 | AD24: 18.66 | AE24: 17.75 | AF24: 40.93 | AG24: 43.41 | AH24: 41.23 | AI24: 44.06 | AJ24: 43.5 | AK24: 38.13
B25: 20.77 | C25: 23.04 | D25: 21.16 | E25: 22.72 | F25: 28.98 | G25: 23.34 | H25: 16.91 | I25: 15.91 | J25: 16.71 | K25: 16.46 | L25: 14.27 | M25: 13.18 | N25: 20.58 | O25: 17.01 | P25: 18.37 | Q25: 16.7 | R25: 24.03 | S25: 29.92 | T25: 20.05 | U25: 18.67 | V25: 23.01 | W25: 18.81 | X25: 20.83 | Y25: 18.82 | Z25: 17.32 | AA25: 17.58 | AB25: 19.33 | AC25: 14.39 | AD25: 14.64 | AE25: 17.72 | AF25: 40.2 | AG25: 42.61 | AH25: 38.9 | AI25: 44.35 | AJ25: 44.21 | AK25: 34.99
B26: 21.75 | C26: 24.82 | D26: 20.74 | E26: 22.18 | F26: 25.82 | G26: 22.31 | H26: 16.21 | I26: 16.38 | J26: 16.74 | K26: 15.46 | L26: 15.03 | M26: 15.85 | N26: 20.38 | O26: 27.83 | P26: 17.99 | Q26: 18.42 | R26: 24.05 | S26: 25.43 | T26: 20.52 | U26: 19.35 | V26: 19.21 | W26: 21.23 | X26: 20.95 | Y26: 19.53 | Z26: 19.92 | AA26: 18.02 | AB26: 20.49 | AC26: 17.07 | AD26: 11.32 | AE26: 18.92 | AF26: 42.77 | AG26: 42.79 | AH26: 38.89 | AI26: 38.61 | AJ26: 42.84 | AK26: 40.45
B27: 22.09 | C27: 24.41 | D27: 20.81 | E27: 22.28 | F27: 25.67 | G27: 25.21 | H27: 16.72 | I27: 14.57 | J27: 13.77 | K27: 15.19 | L27: 14.34 | M27: 15.04 | N27: 22.68 | O27: 29.69 | P27: 17.22 | Q27: 18.96 | R27: 27.19 | S27: 25.04 | T27: 23.2 | U27: 21.73 | V27: 20.81 | W27: 17.99 | X27: 19.29 | Y27: 20.53 | Z27: 22.04 | AA27: 17.07 | AB27: 20.25 | AC27: 18.04 | AD27: 17.48 | AE27: 16.73 | AF27: 42.5 | AG27: 42.11 | AH27: 40.15 | AI27: 41.04 | AJ27: 39.67 | AK27: 41.63
A28: KOH | B28: 23.5 | C28: 26.3 | D28: 19.77 | E28: 20.39 | F28: 24.47 | G28: 18.98 | H28: 17.16 | I28: 14.07 | J28: 15.74 | K28: 14.41 | L28: 14.74 | M28: 19.51 | N28: 26.29 | O28: 26.99 | P28: 22.26 | Q28: 28.82 | R28: 24.34 | S28: 26.28 | T28: 18.97 | U28: 19.66 | V28: 18.96 | W28: 18.31 | X28: 18.91 | Y28: 19.82 | Z28: 17.19 | AA28: 22.61 | AB28: 21.19 | AC28: 22.11 | AD28: 20.9 | AE28: 16.45 | AF28: 38.83 | AG28: 41.61 | AH28: 39.95 | AL28: Total area | AM28: 2031039.2 | AN28: 1525991.1 | AO28: 1386144.7 | AP28: 2339658 | AQ28: 466796.59 | AR28: 943544.57
B29: 22.97 | C29: 26.67 | D29: 20.13 | E29: 23.55 | F29: 23.09 | G29: 19.54 | H29: 15.38 | I29: 15.02 | J29: 15.57 | K29: 17.15 | L29: 13.51 | M29: 21.01 | N29: 26.41 | O29: 25.43 | P29: 22.05 | Q29: 27.83 | R29: 22.88 | S29: 25.13 | T29: 19.63 | U29: 18.09 | V29: 17.96 | W29: 18.37 | X29: 18.65 | Y29: 19.02 | Z29: 17.05 | AA29: 17.52 | AB29: 17.75 | AC29: 14.44 | AD29: 17.61 | AE29: 16.45 | AF29: 41.16 | AG29: 41.82 | AH29: 39.27 | AL29: Holes Area | AM29: =688.39*138 -> 94997.82 | AN29: =603.0904*180 -> 108556.27 | AO29: =826*147.0371 -> 121452.64 | AP29: =234*37.9744 -> 8886.0096 | AQ29: =1111*87.5347 -> 97251.052 | AR29: =152*29.6184 -> 4501.9968
B30: 23.13 | C30: 27.27 | D30: 20.13 | E30: 23.8 | F30: 21.97 | G30: 20.15 | H30: 18.12 | I30: 14.05 | J30: 17.61 | K30: 17.73 | L30: 14.15 | M30: 19.82 | N30: 26.22 | O30: 22 | P30: 21.88 | Q30: 21.96 | R30: 23.66 | S30: 20.83 | T30: 22.79 | U30: 19.44 | V30: 20.31 | W30: 21.01 | X30: 19.64 | Y30: 19.02 | Z30: 17.19 | AA30: 16.48 | AB30: 20.5 | AC30: 15.64 | AD30: 16.25 | AE30: 17.45 | AF30: 39.87 | AG30: 40.7 | AH30: 38.85
B31: 23.87 | C31: 25 | D31: 21.34 | E31: 22.27 | F31: 21.96 | G31: 23.36 | H31: 17.31 | I31: 13.85 | J31: 17.59 | K31: 17.29 | L31: 17.33 | M31: 17.74 | N31: 28.08 | O31: 24.27 | P31: 23.35 | Q31: 25.26 | R31: 23.54 | S31: 22.04 | T31: 22.84 | U31: 19.77 | V31: 18.84 | W31: 20.67 | X31: 18.7 | Y31: 20.5 | Z31: 18.18 | AA31: 16.32 | AB31: 15.72 | AC31: 19.11 | AD31: 19.03 | AE31: 15.27 | AF31: 32.96 | AG31: 39.15 | AH31: 36.95
B32: 23.58 | C32: 24.77 | D32: 19.82 | E32: 22.1 | F32: 21.96 | G32: 23.53 | H32: 17.65 | I32: 13.43 | J32: 15.46 | K32: 16.18 | L32: 12.77 | M32: 16.01 | N32: 27.16 | O32: 21.7 | P32: 22 | Q32: 28.93 | R32: 22.1 | S32: 19.76 | T32: 20.79 | U32: 19.17 | V32: 21.97 | W32: 21.45 | X32: 19.09 | Y32: 18.67 | Z32: 18.3 | AA32: 20.4 | AB32: 14.83 | AC32: 20.58 | AD32: 21.77 | AE32: 19.27 | AF32: 35.29 | AG32: 39.24 | AH32: 41.73
B33: 24.8 | C33: 24.84 | D33: 21.34 | E33: 22.61 | F33: 23.44 | G33: 20.5 | H33: 15.78 | I33: 12.95 | J33: 16.85 | K33: 16.15 | L33: 13.01 | M33: 14.09 | N33: 24.34 | O33: 21.25 | P33: 17.82 | Q33: 27.45 | R33: 24.4 | S33: 19.61 | T33: 21.64 | U33: 20.96 | V33: 21.11 | W33: 20 | X33: 19.97 | Y33: 19.71 | Z33: 21.48 | AA33: 18.25 | AB33: 15.64 | AC33: 15.73 | AD33: 17.66 | AE33: 17.09 | AF33: 39.61 | AG33: 38.69 | AH33: 41.96
A34: H2O2 40°C | B34: 22.8 | C34: 26.19 | D34: 27.21 | E34: 22.79 | F34: 24.38 | G34: 22.97 | H34: 16.63 | I34: 16.64 | J34: 15.8 | K34: 17.18 | L34: 14.29 | M34: 14.62 | N34: 25.24 | O34: 20.05 | P34: 25.7 | Q34: 29.57 | R34: 24.04 | S34: 32.31 | T34: 17.7 | U34: 18.66 | V34: 20.42 | W34: 18.93 | X34: 20.95 | Y34: 19.32 | Z34: 21.71 | AA34: 17.87 | AB34: 16.57 | AC34: 21.22 | AD34: 11.63 | AE34: 19.89 | AF34: 22.53 | AG34: 22.36 | AH34: 38.69 | AI34: 26.82 | AJ34: 35.35 | AK34: 36.12 | AL34: Total area | AM34: 1063036.2 | AN34: 2918630.7 | AO34: 1591443.9
B35: 22.04 | C35: 27.47 | D35: 26.04 | E35: 22.1 | F35: 24.02 | G35: 22.61 | H35: 16.41 | I35: 15.89 | J35: 14.41 | K35: 17.63 | L35: 16.32 | M35: 16.91 | N35: 23.89 | O35: 19.98 | P35: 26.13 | Q35: 29.42 | R35: 24.39 | S35: 31.43 | T35: 21.07 | U35: 20.79 | V35: 20.66 | W35: 20.88 | X35: 20.51 | Y35: 19.16 | Z35: 20.34 | AA35: 22.36 | AB35: 18.67 | AC35: 17.89 | AD35: 13.75 | AE35: 19.58 | AF35: 25.62 | AG35: 22.26 | AH35: 36.75 | AI35: 21.04 | AJ35: 35.14 | AK35: 39.63 | AL35: Holes Area | AM35: =305.6638*134 -> 40958.949 | AN35: =340*803.2904 -> 273118.74 | AO35: =176*427.8809 -> 75307.038
B36: 22.57 | C36: 27.12 | D36: 26.36 | E36: 20.79 | F36: 25.86 | G36: 25.56 | H36: 14.69 | I36: 13.49 | J36: 12.8 | K36: 17.87 | L36: 17.79 | M36: 14.1 | N36: 24.77 | O36: 21.34 | P36: 29.83 | Q36: 31.04 | R36: 21.96 | S36: 19.77 | T36: 19.37 | U36: 20.96 | V36: 19.95 | W36: 20.25 | X36: 19.85 | Y36: 19.04 | Z36: 19.18 | AA36: 20.51 | AB36: 16.73 | AC36: 19.85 | AD36: 12.27 | AE36: 18.52 | AF36: 20.47 | AG36: 21.12 | AH36: 38.69 | AI36: 22.33 | AJ36: 32.95 | AK36: 37.03
B37: 23.79 | C37: 28.01 | D37: 26.02 | E37: 21.67 | F37: 23.37 | G37: 23.67 | H37: 13.2 | I37: 16.58 | J37: 15.2 | K37: 16.05 | L37: 17.32 | M37: 15.27 | N37: 26.32 | O37: 23.09 | P37: 30.4 | Q37: 30.72 | R37: 22.05 | S37: 22.33 | T37: 19.73 | U37: 22.18 | V37: 20.67 | W37: 18.89 | X37: 20.61 | Y37: 18.52 | Z37: 20.94 | AA37: 16.85 | AB37: 17.21 | AC37: 14.76 | AD37: 16.35 | AE37: 18.52 | AF37: 26.08 | AG37: 20.6 | AH37: 36.81 | AI37: 26.82 | AJ37: 31.37 | AK37: 36.64
B38: 23.55 | C38: 25.09 | D38: 25.59 | E38: 21.54 | F38: 27.17 | G38: 23.98 | H38: 15.25 | I38: 16.21 | J38: 15.02 | K38: 16.94 | L38: 17.28 | M38: 15.15 | N38: 27.79 | O38: 20.14 | P38: 23.41 | Q38: 33.63 | R38: 24.57 | S38: 28.15 | T38: 19.61 | U38: 19.55 | V38: 22.08 | W38: 19.51 | X38: 20.86 | Y38: 21.53 | Z38: 16.64 | AA38: 17.36 | AB38: 18.98 | AC38: 16.34 | AD38: 14.17 | AE38: 21.74 | AF38: 27.67 | AG38: 22.51 | AH38: 37.8 | AI38: 23.8 | AJ38: 30.4 | AK38: 39.78
B39: 24.16 | C39: 24.93 | D39: 24.33 | E39: 22.21 | F39: 23.45 | G39: 24.06 | H39: 12.92 | I39: 14.53 | J39: 15.14 | K39: 15.9 | L39: 18.2 | M39: 15.3 | N39: 27.82 | O39: 20.15 | P39: 24.63 | Q39: 28.15 | R39: 23.84 | S39: 26.01 | T39: 20.41 | U39: 21.58 | V39: 21.52 | W39: 21.17 | X39: 21.18 | Y39: 18.52 | Z39: 24.24 | AA39: 18.65 | AB39: 20.04 | AC39: 14.82 | AD39: 17.86 | AE39: 15.14 | AF39: 28.57 | AG39: 22.15 | AH39: 34.17 | AI39: 24.83 | AJ39: 28.15 | AK39: 39.63
A40: NaOH 40 °C | B40: 25.44 | C40: 23.45 | D40: 23.61 | E40: 16.03 | F40: 18.48 | G40: 24.75 | H40: 13.21 | I40: 16.58 | J40: 14.74 | K40: 14.98 | L40: 15.37 | M40: 16.47 | N40: 21.96 | O40: 21.93 | P40: 30.05 | Q40: 24.19 | R40: 22.7 | S40: 28.92 | T40: 23.38 | U40: 22.33 | V40: 19.45 | W40: 21.09 | X40: 19.45 | Y40: 20.06 | Z40: 19.68 | AA40: 17.26 | AB40: 21.61 | AC40: 25.05 | AD40: 18.59 | AE40: 10.94 | AF40: 26.67 | AG40: 40.4 | AH40: 35.97 | AI40: 19.33 | AJ40: 25.24 | AK40: 30.92 | AL40: Total area | AM40: 2339906.2 | AN40: 1967287.8 | AO40: 2199890.7 | AP40: 1040903.1 | AQ40: 378048 | AR40: 925413.45
B41: 25.44 | C41: 23.93 | D41: 22.58 | E41: 18.53 | F41: 18.99 | G41: 24.34 | H41: 14.75 | I41: 14.19 | J41: 14.73 | K41: 11.97 | L41: 15.8 | M41: 16.34 | N41: 18.58 | O41: 23.35 | P41: 27.45 | Q41: 24.95 | R41: 20.38 | S41: 28.99 | T41: 22.01 | U41: 19.38 | V41: 18.99 | W41: 19.26 | X41: 21.45 | Y41: 20.67 | Z41: 21.84 | AA41: 21.07 | AB41: 19 | AC41: 16.47 | AD41: 20.55 | AE41: 10.69 | AF41: 25.93 | AG41: 41.9 | AH41: 38.2 | AI41: 17.86 | AJ41: 25.28 | AK41: 35.84 | AL41: Holes Area | AM41: =193*511.3176 -> 98684.297 | AN41: =141*725.9082 -> 102353.06 | AO41: =438.6735*253 -> 110984.4 | AP41: =1240*71.6 -> 88784 | AQ41: =176*72.1648 -> 12701.005 | AR41: =110*52.1364 -> 5735.004
B42: 22.84 | C42: 24.23 | D42: 22.37 | E42: 16.82 | F42: 22.34 | G42: 25.47 | H42: 13.63 | I42: 14.59 | J42: 14.69 | K42: 13.09 | L42: 16.12 | M42: 16.47 | N42: 23.15 | O42: 24.55 | P42: 27.09 | Q42: 27.68 | R42: 20.07 | S42: 28.04 | T42: 22.22 | U42: 18.71 | V42: 19.64 | W42: 18.18 | X42: 20.51 | Y42: 21.15 | Z42: 23.42 | AA42: 16.98 | AB42: 22.26 | AC42: 14.75 | AD42: 18.82 | AE42: 9.32 | AF42: 23.62 | AG42: 38.99 | AH42: 31.59 | AI42: 18.98 | AJ42: 25.26 | AK42: 40.32
B43: 23.28 | C43: 24.24 | D43: 22.57 | E43: 19.53 | F43: 24.21 | G43: 24.07 | H43: 13.65 | I43: 15.65 | J43: 15.89 | K43: 14.86 | L43: 15.46 | M43: 15.73 | N43: 22.11 | O43: 22.18 | P43: 27.27 | Q43: 28.23 | R43: 17.92 | S43: 31.81 | T43: 19.42 | U43: 19.87 | V43: 21.24 | W43: 22.23 | X43: 17.95 | Y43: 19.64 | Z43: 17.97 | AA43: 21.63 | AB43: 20.61 | AC43: 16.39 | AD43: 22.57 | AE43: 9.99 | AF43: 25.67 | AG43: 36.83 | AH43: 32.25 | AI43: 18.08 | AJ43: 28.18 | AK43: 28.55
B44: 23.92 | C44: 23.62 | D44: 22.83 | E44: 17.1 | F44: 19.48 | G44: 26.63 | H44: 13.41 | I44: 19.04 | J44: 15.33 | K44: 14.09 | L44: 15.57 | M44: 16.12 | N44: 19.76 | O44: 21.38 | P44: 26.56 | Q44: 29.78 | R44: 18.33 | S44: 30.14 | T44: 20.91 | U44: 19.31 | V44: 22.05 | W44: 20.31 | X44: 22.12 | Y44: 20.13 | Z44: 20.14 | AA44: 17.15 | AB44: 21.73 | AC44: 21.53 | AD44: 18.44 | AE44: 9.9 | AF44: 26.52 | AG44: 38.39 | AH44: 38.91 | AI44: 19.84 | AJ44: 28.3 | AK44: 31.72
B45: 24.47 | C45: 24.51 | D45: 22.89 | E45: 17.02 | F45: 18.17 | G45: 26.61 | H45: 13.27 | I45: 13.32 | J45: 15.55 | K45: 14.61 | L45: 14.46 | M45: 15.19 | N45: 24.16 | O45: 20.53 | P45: 28 | Q45: 30.83 | R45: 25.73 | S45: 28.63 | T45: 20.95 | U45: 21.88 | V45: 20.07 | W45: 21.17 | X45: 19.45 | Y45: 18.64 | Z45: 16.8 | AA45: 17.36 | AB45: 17.63 | AC45: 18.17 | AD45: 20.6 | AE45: 11.32 | AF45: 24.67 | AG45: 39.33 | AH45: 42.26 | AI45: 19.98 | AJ45: 26.89 | AK45: 29.77
A46: Enzymatic | B46: 27.43 | C46: 27.79 | D46: 25.53 | E46: 21.27 | F46: 22.87 | G46: 21.26 | H46: 23.49 | I46: 19.53 | J46: 18.93 | K46: 18.82 | L46: 17.17 | M46: 16.13 | N46: 19.59 | P46: 20.35 | Q46: 20.47 | S46: 18.62 | T46: 16.65 | U46: 17.74 | V46: 17.2 | W46: 15.43 | X46: 14.52 | Y46: 16.1 | Z46: 11.46 | AB46: 12.04 | AC46: 11.39 | AE46: 11.65 | AF46: 40.26 | AG46: 40.04 | AH46: 38.38 | AI46: 44.02 | AJ46: 44.39 | AK46: 41.4 | AL46: Total area | AN46: 2886125.9 | AQ46: 2465510.4
B47: 24.32 | C47: 25.7 | D47: 24.47 | E47: 21.47 | F47: 20.51 | G47: 21.07 | H47: 23.55 | I47: 21.93 | J47: 17.45 | K47: 19.32 | L47: 15.67 | M47: 16 | N47: 20.81 | P47: 19.05 | Q47: 19.63 | S47: 19.62 | T47: 15.84 | U47: 18.33 | V47: 17.94 | W47: 17.63 | X47: 13.44 | Y47: 15.88 | Z47: 10.34 | AB47: 11.44 | AC47: 13.48 | AE47: 12.15 | AF47: 40.72 | AG47: 44.39 | AH47: 39.63 | AI47: 44.55 | AJ47: 44.35 | AK47: 40.53 | AL47: Holes Area | AN47: =392*507.6961 -> 199016.87 | AQ47: =695*345.1932 -> 239909.27
B48: 24.22 | C48: 26.39 | D48: 24.47 | E48: 21.8 | F48: 20.64 | G48: 20.59 | H48: 25.31 | I48: 19.82 | J48: 16.79 | K48: 19.56 | L48: 16.97 | M48: 14.02 | N48: 19.55 | P48: 18.51 | Q48: 20.41 | S48: 18.74 | T48: 16.85 | U48: 17.54 | V48: 19.8 | W48: 15.2 | X48: 14.89 | Y48: 14.8 | Z48: 12.68 | AB48: 11.37 | AC48: 10.48 | AE48: 11.9 | AF48: 40.08 | AG48: 42.51 | AH48: 40.43 | AI48: 42.05 | AJ48: 42.28 | AK48: 40.2
B49: 24.84 | C49: 26.85 | D49: 24.78 | E49: 20.41 | F49: 21.79 | G49: 19.96 | H49: 25.54 | I49: 18.81 | J49: 17.09 | K49: 17.56 | L49: 16.41 | M49: 14.96 | N49: 20.2 | P49: 18.89 | Q49: 20.28 | S49: 18.46 | T49: 17.84 | U49: 17.33 | V49: 17.33 | W49: 14.04 | X49: 14.35 | Y49: 16.85 | Z49: 12.15 | AB49: 12.7 | AC49: 11.31 | AE49: 13.19 | AF49: 41.92 | AG49: 43.8 | AH49: 37.87 | AI49: 39.54 | AJ49: 43.55 | AK49: 40.3
B50: 25.87 | C50: 25.78 | D50: 24.62 | E50: 21.23 | F50: 20.79 | G50: 20.8 | H50: 24.14 | I50: 20.34 | J50: 16.57 | K50: 19.77 | L50: 19.97 | M50: 13.14 | N50: 20.18 | P50: 17.42 | Q50: 21.27 | S50: 18.24 | T50: 18.2 | U50: 18.82 | V50: 15.11 | W50: 13.93 | X50: 15.1 | Y50: 15.97 | Z50: 10.77 | AB50: 11.6 | AC50: 12.75 | AE50: 13.63 | AF50: 40.52 | AG50: 42.65 | AH50: 38.3 | AI50: 37.02 | AJ50: 44.09 | AK50: 40.13
B51: 23.69 | C51: 25.71 | D51: 25.12 | E51: 21.99 | F51: 21.53 | G51: 20.04 | H51: 24.76 | I51: 21.87 | J51: 17.59 | K51: 17.67 | L51: 18.98 | M51: 15.46 | N51: 20.33 | P51: 17.3 | Q51: 23.15 | S51: 18.85 | T51: 15.89 | U51: 18.67 | V51: 17.75 | W51: 14.32 | X51: 15.51 | Y51: 15.8 | Z51: 10.12 | AB51: 11.7 | AC51: 11.01 | AE51: 11.98 | AF51: 39.09 | AG51: 40.88 | AH51: 39.16 | AI51: 35.16 | AJ51: 43.6 | AK51: 40.01
A52: Blank | B52: 25.84 | C52: 24.54 | D52: 28.69 | E52: 24.01 | F52: 26.15 | G52: 23.73 | H52: 14.18 | I52: 14.29 | J52: 15.16 | K52: 14.39 | L52: 17.72 | M52: 15 | N52: 15.37 | O52: 25.91 | P52: 25.77 | Q52: 26.06 | R52: 27.59 | S52: 24.01 | T52: 21.21 | U52: 17.04 | V52: 19.64 | W52: 17.34 | X52: 19.47 | Y52: 21.12 | Z52: 26.03 | AA52: 21.94 | AB52: 19.98 | AC52: 22.88 | AD52: 12.49 | AE52: 20.38 | AF52: 37.32 | AG52: 35.98 | AH52: 47.19 | AI52: 33.23 | AJ52: 45.1 | AK52: 45.53 | AL52: Total area | AM52: 2543867.9 | AN52: 1361533.9 | AO52: 1908924.5 | AP52: 1655868.7 | AQ52: 1022528.2 | AR52: 974358.09
B53: 26.83 | C53: 24.29 | D53: 27.34 | E53: 24.57 | F53: 25.35 | G53: 22.39 | H53: 14.19 | I53: 13.85 | J53: 15.9 | K53: 15.19 | L53: 19.91 | M53: 14.27 | N53: 15.15 | O53: 26.79 | P53: 27.49 | Q53: 26.67 | R53: 27.59 | S53: 22.69 | T53: 20.38 | U53: 17.07 | V53: 22.4 | W53: 22.74 | X53: 21.88 | Y53: 20.51 | Z53: 19.19 | AA53: 19.54 | AB53: 20.19 | AC53: 21.32 | AD53: 13.86 | AE53: 18.41 | AF53: 34.94 | AG53: 34.45 | AH53: 45.31 | AI53: 34.54 | AJ53: 45.27 | AK53: 44.36 | AL53: Holes Area | AM53: =434.688*268 -> 116496.38 | AN53: =798*108.291 -> 86416.218 | AO53: =211*723.2185 -> 152599.1 | AP53: =189*440.2736 -> 83211.71 | AQ53: =699*94.7625 -> 66238.988 | AR53: =721*130.9209 -> 94393.969
B54: 25.59 | C54: 24.44 | D54: 26.61 | E54: 24.31 | F54: 26.17 | G54: 25.15 | H54: 12.24 | I54: 14.93 | J54: 15.72 | K54: 14.78 | L54: 16.58 | M54: 14.35 | N54: 17.09 | O54: 25.43 | P54: 23.73 | Q54: 21.22 | R54: 23.77 | S54: 20.67 | T54: 18.41 | U54: 18.67 | V54: 19.3 | W54: 19.02 | X54: 18.15 | Y54: 21.57 | Z54: 14.37 | AA54: 21.77 | AB54: 20.84 | AC54: 17.58 | AD54: 14.5 | AE54: 14.99 | AF54: 37.79 | AG54: 34.53 | AH54: 44.75 | AI54: 33.1 | AJ54: 42.36 | AK54: 42.72
B55: 26.72 | C55: 23.59 | D55: 25.53 | E55: 24.86 | F55: 26.23 | G55: 27.14 | H55: 14.28 | I55: 13.71 | J55: 15.29 | K55: 16.86 | L55: 15.57 | M55: 13.95 | N55: 16.52 | O55: 26.2 | P55: 23.73 | Q55: 21.84 | R55: 24.85 | S55: 20.94 | T55: 19.26 | U55: 19.8 | V55: 19.72 | W55: 19.16 | X55: 18.8 | Y55: 19.28 | Z55: 19.98 | AA55: 21.27 | AB55: 22.84 | AC55: 19.41 | AD55: 16.57 | AE55: 16.92 | AF55: 34.31 | AG55: 37.23 | AH55: 44.95 | AI55: 33.13 | AJ55: 43.26 | AK55: 42.87
B56: 26.02 | C56: 24.58 | D56: 24.16 | E56: 25.92 | F56: 25.53 | G56: 23.01 | H56: 15.88 | I56: 13.63 | J56: 14.93 | K56: 14.47 | L56: 17.36 | M56: 13.87 | N56: 15.52 | O56: 25.99 | P56: 26.92 | Q56: 26.47 | R56: 24.23 | S56: 23.63 | T56: 20.75 | U56: 20.21 | V56: 20.13 | W56: 19.82 | X56: 18.28 | Y56: 17.25 | Z56: 17.74 | AA56: 18.42 | AB56: 23.41 | AC56: 20.6 | AD56: 21.53 | AE56: 15.06 | AF56: 32.05 | AG56: 32.42 | AH56: 46.69 | AI56: 32.29 | AJ56: 41.95 | AK56: 37.4
B57: 26.5 | C57: 24.01 | D57: 24.29 | E57: 24.23 | F57: 25.03 | G57: 23.58 | H57: 14.55 | I57: 14.5 | J57: 13.98 | K57: 16.95 | L57: 17.03 | M57: 13.82 | N57: 15.02 | O57: 25.74 | P57: 26.78 | Q57: 26.28 | R57: 25.32 | S57: 24.91 | T57: 21.16 | U57: 19.59 | V57: 19.58 | W57: 21.3 | X57: 21.48 | Y57: 18.9 | Z57: 24.25 | AA57: 19.89 | AB57: 16.69 | AC57: 20.4 | AD57: 16.17 | AE57: 18.75 | AF57: 35.48 | AG57: 32.43 | AH57: 47.22 | AI57: 34.35 | AJ57: 43.88 | AK57: 37.02
A58: ASTM protocol | B58: 39.52 | C58: 39.77 | D58: 39.72 | E58: 38.38 | F58: 41.3 | G58: 41.42 | H58: 65.17 | I58: 22.93 | J58: 24.29 | K58: 27 | L58: 19.74 | M58: 26.36 | N58: 32.04 | Q58: 34.51 | T58: NA | U58: NA | V58: NA | W58: NA | X58: NA | Y58: NA | Z58: 17.31 | AA58: 22.58 | AB58: 23.42 | AC58: 21.54 | AD58: 16.45 | AE58: 31.01 | AF58: 45.36 | AG58: 54.44 | AI58: 26.7 | AJ58: 57.45 | AL58: Total area
B59: 40.5 | C59: 41.12 | D59: 39.31 | E59: 39.39 | F59: 40.32 | G59: 41.35 | H59: 66.93 | I59: 25.35 | J59: 24.74 | K59: 26.48 | L59: 17.31 | M59: 42.58 | N59: 26.68 | Q59: 36.34 | T59: NA | U59: NA | V59: NA | W59: NA | X59: NA | Y59: NA | Z59: 21.17 | AA59: 26.21 | AB59: 23.8 | AC59: 30.59 | AD59: 21.71 | AE59: 30.25 | AF59: 48.07 | AG59: 53.36 | AI59: 25 | AJ59: 54.82 | AL59: Holes Area
B60: 36.52 | C60: 40.49 | D60: 40.33 | E60: 38.56 | F60: 41.61 | G60: 39.93 | H60: 71.1 | I60: 24.03 | J60: 23.11 | K60: 30.27 | L60: 20.58 | M60: 31.42 | N60: 28.44 | Q60: 31.49 | T60: NA | U60: NA | V60: NA | W60: NA | X60: NA | Y60: NA | Z60: 20.32 | AA60: 26.6 | AB60: 22.48 | AC60: 32.4 | AD60: 19.31 | AE60: 34.43 | AF60: 50.79 | AG60: 53.55 | AI60: 31.21 | AJ60: 46.03
B61: 40.21 | C61: 40.66 | D61: 40.91 | E61: 39.19 | F61: 40.46 | G61: 40.01 | H61: 75.11 | I61: 23.57 | J61: 22.66 | K61: 32.03 | L61: 18.56 | M61: 43.2 | N61: 33.34 | Q61: 38.43 | T61: NA | U61: NA | V61: NA | W61: NA | X61: NA | Y61: NA | Z61: 20.76 | AA61: 23.62 | AB61: 21 | AC61: 20.16 | AD61: 27.13 | AE61: 45.21 | AF61: 47.73 | AG61: 49.65 | AI61: 16.57 | AJ61: 49.45
B62: 40.21 | C62: 39.53 | D62: 42.03 | E62: 40.67 | F62: 41.2 | G62: 40.06 | H62: 72.01 | I62: 22.66 | J62: 23.16 | K62: 24.5 | L62: 19.77 | M62: 42.13 | N62: 28.03 | Q62: 34.41 | T62: NA | U62: NA | V62: NA | W62: NA | X62: NA | Y62: NA | Z62: 18.1 | AA62: 19.41 | AB62: 20.08 | AC62: 26.34 | AD62: 25.81 | AE62: 38.52 | AF62: 50.12 | AG62: 49.35 | AI62: 24.634 | AJ62: 48.26
B63: 40.8 | C63: 39.3 | D63: 40.72 | E63: 41.01 | F63: 41 | G63: 40.16 | H63: 67.05 | I63: 21.6 | J63: 25.2 | K63: 25.93 | L63: 20.16 | M63: 36.86 | N63: 30.63 | Q63: 36.74 | T63: NA | U63: NA | V63: NA | W63: NA | X63: NA | Y63: NA | Z63: 20.8 | AA63: 26.56 | AB63: 22.92 | AC63: 34.54 | AD63: 21.29 | AE63: 31.01 | AF63: 47.78 | AG63: 48.79 | AI63: 27.74 | AJ63: 45.08

Sheet General results
A1: Microplastic type | B1: PES BEFORE | N1: PES AFTER
A2: Measured parameter | B2: Mean diameter (µm) | N2: Mean diameter (µm)
A3: N° Replicate | B3: 1 | C3: 2 | D3: 3 | E3: Mean | F3: Standard deviation | G3: 95% confidence interval (mean ± indicated value) | H3: Mean-2*standard deviation | I3: Mean+2*standard deviation | J3: Outliers Replicate 1 | K3: Outliers Replicate 2 | L3: Outliers Replicate 3 | M3: Normality Shapiro-Wilk test | N3: 1 | O3: 2 | P3: 3 | Q3: Mean | R3: Standard deviation | S3: 95% confidence interval (mean ± indicated value) | T3: Mean-2*standard deviation | U3: Mean+2*standard deviation | V3: Outliers Replicate 1 | W3: Outliers Replicate 2 | X3: Outliers Replicate 3 | Z3: T-TEST | AA3: Significant variation (at 95%) | AB3: Normality Shapiro-Wilk test
A4: NaOH 10M RT | B4: =AVERAGE('Raw results fibers'!B4:B9) -> 26.081667 | C4: =AVERAGE('Raw results fibers'!C4:C9) -> 26.33 | D4: =AVERAGE('Raw results fibers'!D4:D9) -> 27.275 | E4: =AVERAGE(B4:D4) -> 26.562222 | F4: =_xlfn.STDEV.S(B4:D4) -> 0.6296479 | G4: =_xlfn.CONFIDENCE.NORM(0.05, F4, 3) -> 0.71250058 | H4: =E4-2*F4 -> 25.302926 | I4: =E4+2*F4 -> 27.821518 | J4: =+IF(OR(B4<H4,B4>I4),"Valeur aberrante","") | K4: =+IF(OR(C4<H4,C4>I4),"Valeur aberrante","") | L4: =+IF(OR(D4<H4,D4>I4),"Valeur aberrante","") | N4: =AVERAGE('Raw results fibers'!E4:E9) -> 25.95 | O4: =AVERAGE('Raw results fibers'!F4:F9) -> 24.153333 | P4: =AVERAGE('Raw results fibers'!G4:G9) -> 26.615 | Q4: =AVERAGE(N4:P4) -> 25.572778 | R4: =_xlfn.STDEV.S(N4:P4) -> 1.2734493 | S4: =_xlfn.CONFIDENCE.NORM(0.05, R4, 3) -> 1.4410171 | T4: =Q4-2*R4 -> 23.025879 | U4: =Q4+2*R4 -> 28.119676 | V4: =+IF(OR(N4<T4,N4>U4),"Valeur aberrante","") | W4: =+IF(OR(O4<T4,O4>U4),"Valeur aberrante","") | X4: =+IF(OR(P4<T4,P4>U4),"Valeur aberrante","") | Z4: =_xlfn.T.TEST(B4:D4,N4:P4,2,1) -> 0.2477983 | AA4: =IF(Z4<0.05,"YES","NO") -> NO
A5: NaOCl 3% | B5: =AVERAGE('Raw results fibers'!B10:B15) -> 26.918333 | C5: =AVERAGE('Raw results fibers'!C10:C15) -> 25.616667 | D5: =AVERAGE('Raw results fibers'!D10:D15) -> 21.871667 | E5: =AVERAGE(B5:D5) -> 24.802222 | F5: =_xlfn.STDEV.S(B5:D5) -> 2.6200574 | G5: =_xlfn.CONFIDENCE.NORM(0.05, F5, 3) -> 2.9648196 | H5: =E5-2*F5 -> 19.562107 | I5: =E5+2*F5 -> 30.042337 | J5: =+IF(OR(B5<H5,B5>I5),"Valeur aberrante","") | K5: =+IF(OR(C5<H5,C5>I5),"Valeur aberrante","") | L5: =+IF(OR(D5<H5,D5>I5),"Valeur aberrante","") | N5: =AVERAGE('Raw results fibers'!E10:E15) -> 23.856667 | O5: =AVERAGE('Raw results fibers'!F10:F15) -> 25.768333 | P5: =AVERAGE('Raw results fibers'!G10:G15) -> 21.233333 | Q5: =AVERAGE(N5:P5) -> 23.619444 | R5: =_xlfn.STDEV.S(N5:P5) -> 2.2767877 | S5: =_xlfn.CONFIDENCE.NORM(0.05, R5, 3) -> 2.5763804 | T5: =Q5-2*R5 -> 19.065869 | U5: =Q5+2*R5 -> 28.17302 | V5: =+IF(OR(N5<T5,N5>U5),"Valeur aberrante","") | W5: =+IF(OR(O5<T5,O5>U5),"Valeur aberrante","") | X5: =+IF(OR(P5<T5,P5>U5),"Valeur aberrante","") | Z5: =_xlfn.T.TEST(B5:D5,N5:P5,2,1) -> 0.34573145 | AA5: =IF(Z5<0.05,"YES","NO") -> NO
A6: H2O2 30% RT | B6: =AVERAGE('Raw results fibers'!B16:B21) -> 24.423333 | C6: =AVERAGE('Raw results fibers'!C16:C21) -> 26.711667 | D6: =AVERAGE('Raw results fibers'!D16:D21) -> 22.628333 | E6: =AVERAGE(B6:D6) -> 24.587778 | F6: =_xlfn.STDEV.S(B6:D6) -> 2.0466275 | G6: =_xlfn.CONFIDENCE.NORM(0.05, F6, 3) -> 2.3159345 | H6: =E6-2*F6 -> 20.494523 | I6: =E6+2*F6 -> 28.681033 | J6: =+IF(OR(B6<H6,B6>I6),"Valeur aberrante","") | K6: =+IF(OR(C6<H6,C6>I6),"Valeur aberrante","") | L6: =+IF(OR(D6<H6,D6>I6),"Valeur aberrante","") | N6: =AVERAGE('Raw results fibers'!E16:E21) -> 24.538333 | O6: =AVERAGE('Raw results fibers'!F16:F21) -> 24.161667 | P6: =AVERAGE('Raw results fibers'!G16:G21) -> 23.018333 | Q6: =AVERAGE(N6:P6) -> 23.906111 | R6: =_xlfn.STDEV.S(N6:P6) -> 0.791569 | S6: =_xlfn.CONFIDENCE.NORM(0.05, R6, 3) -> 0.89572819 | T6: =Q6-2*R6 -> 22.322973 | U6: =Q6+2*R6 -> 25.489249 | V6: =+IF(OR(N6<T6,N6>U6),"Valeur aberrante","") | W6: =+IF(OR(O6<T6,O6>U6),"Valeur aberrante","") | X6: =+IF(OR(P6<T6,P6>U6),"Valeur aberrante","") | Z6: =_xlfn.T.TEST(B6:D6,N6:P6,2,1) -> 0.54276382 | AA6: =IF(Z6<0.05,"YES","NO") -> NO
A7: CWPO | B7: =AVERAGE('Raw results fibers'!B22:B27) -> 21.611667 | C7: =AVERAGE('Raw results fibers'!C22:C27) -> 24.186667 | D7: =AVERAGE('Raw results fibers'!D22:D27) -> 21.225 | E7: =AVERAGE(B7:D7) -> 22.341111 | F7: =_xlfn.STDEV.S(B7:D7) -> 1.6099485 | G7: =_xlfn.CONFIDENCE.NORM(0.05, F7, 3) -> 1.8217948 | H7: =E7-2*F7 -> 19.121214 | I7: =E7+2*F7 -> 25.561008 | J7: =+IF(OR(B7<H7,B7>I7),"Valeur aberrante","") | K7: =+IF(OR(C7<H7,C7>I7),"Valeur aberrante","") | L7: =+IF(OR(D7<H7,D7>I7),"Valeur aberrante","") | N7: =AVERAGE('Raw results fibers'!E22:E27) -> 22.075 | O7: =AVERAGE('Raw results fibers'!F22:F27) -> 27.063333 | P7: =AVERAGE('Raw results fibers'!G22:G27) -> 23.908333 | Q7: =AVERAGE(N7:P7) -> 24.348889 | R7: =_xlfn.STDEV.S(N7:P7) -> 2.5231794 | S7: =_xlfn.CONFIDENCE.NORM(0.05, R7, 3) -> 2.8551938 | T7: =Q7-2*R7 -> 19.30253 | U7: =Q7+2*R7 -> 29.395248 | V7: =+IF(OR(N7<T7,N7>U7),"Valeur aberrante","") | W7: =+IF(OR(O7<T7,O7>U7),"Valeur aberrante","") | X7: =+IF(OR(P7<T7,P7>U7),"Valeur aberrante","") | Z7: =_xlfn.T.TEST(B7:D7,N7:P7,2,1) -> 0.12206474 | AA7: =IF(Z7<0.05,"YES","NO") -> NO
A8: KOH | B8: =AVERAGE('Raw results fibers'!B28:B33) -> 23.641667 | C8: =AVERAGE('Raw results fibers'!C28:C33) -> 25.808333 | D8: =AVERAGE('Raw results fibers'!D28:D33) -> 20.421667 | E8: =AVERAGE(B8:D8) -> 23.290556 | F8: =_xlfn.STDEV.S(B8:D8) -> 2.7104435 | G8: =_xlfn.CONFIDENCE.NORM(0.05, F8, 3) -> 3.0670991 | H8: =E8-2*F8 -> 17.869669 | I8: =E8+2*F8 -> 28.711442 | J8: =+IF(OR(B8<H8,B8>I8),"Valeur aberrante","") | K8: =+IF(OR(C8<H8,C8>I8),"Valeur aberrante","") | L8: =+IF(OR(D8<H8,D8>I8),"Valeur aberrante","") | N8: =AVERAGE('Raw results fibers'!E28:E33) -> 22.453333 | O8: =AVERAGE('Raw results fibers'!F28:F33) -> 22.815 | P8: =AVERAGE('Raw results fibers'!G28:G33) -> 21.01 | Q8: =AVERAGE(N8:P8) -> 22.092778 | R8: =_xlfn.STDEV.S(N8:P8) -> 0.9549903 | S8: =_xlfn.CONFIDENCE.NORM(0.05, R8, 3) -> 1.0806534 | T8: =Q8-2*R8 -> 20.182797 | U8: =Q8+2*R8 -> 24.002758 | V8: =+IF(OR(N8<T8,N8>U8),"Valeur aberrante","") | W8: =+IF(OR(O8<T8,O8>U8),"Valeur aberrante","") | X8: =+IF(OR(P8<T8,P8>U8),"Valeur aberrante","") | Z8: =_xlfn.T.TEST(B8:D8,N8:P8,2,1) -> 0.36631477 | AA8: =IF(Z8<0.05,"YES","NO") -> NO
A9: H2O2 40°C | B9: =AVERAGE('Raw results fibers'!B34:B39) -> 23.151667 | C9: =AVERAGE('Raw results fibers'!C34:C39) -> 26.468333 | D9: =AVERAGE('Raw results fibers'!D34:D39) -> 25.925 | E9: =AVERAGE(B9:D9) -> 25.181667 | F9: =_xlfn.STDEV.S(B9:D9) -> 1.7788979 | G9: =_xlfn.CONFIDENCE.NORM(0.05, F9, 3) -> 2.0129755 | H9: =E9-2*F9 -> 21.623871 | I9: =E9+2*F9 -> 28.739462 | J9: =+IF(OR(B9<H9,B9>I9),"Valeur aberrante","") | K9: =+IF(OR(C9<H9,C9>I9),"Valeur aberrante","") | L9: =+IF(OR(D9<H9,D9>I9),"Valeur aberrante","") | N9: =AVERAGE('Raw results fibers'!E34:E39) -> 21.85 | O9: =AVERAGE('Raw results fibers'!F34:F39) -> 24.708333 | P9: =AVERAGE('Raw results fibers'!G34:G39) -> 23.808333 | Q9: =AVERAGE(N9:P9) -> 23.455556 | R9: =_xlfn.STDEV.S(N9:P9) -> 1.461457 | S9: =_xlfn.CONFIDENCE.NORM(0.05, R9, 3) -> 1.6537639 | T9: =Q9-2*R9 -> 20.532642 | U9: =Q9+2*R9 -> 26.378469 | V9: =+IF(OR(N9<T9,N9>U9),"Valeur aberrante","") | W9: =+IF(OR(O9<T9,O9>U9),"Valeur aberrante","") | X9: =+IF(OR(P9<T9,P9>U9),"Valeur aberrante","") | Z9: =_xlfn.T.TEST(B9:D9,N9:P9,2,1) -> 0.018166932 | AA9: =IF(Z9<0.05,"YES","NO") -> YES
A10: NaOH 40°C | B10: =AVERAGE('Raw results fibers'!B40:B45) -> 24.231667 | C10: =AVERAGE('Raw results fibers'!C40:C45) -> 23.996667 | D10: =AVERAGE('Raw results fibers'!D40:D45) -> 22.808333 | E10: =AVERAGE(B10:D10) -> 23.678889 | F10: =_xlfn.STDEV.S(B10:D10) -> 0.76302456 | G10: =_xlfn.CONFIDENCE.NORM(0.05, F10, 3) -> 0.86342771 | H10: =E10-2*F10 -> 22.15284 | I10: =E10+2*F10 -> 25.204938 | J10: =+IF(OR(B10<H10,B10>I10),"Valeur aberrante","") | K10: =+IF(OR(C10<H10,C10>I10),"Valeur aberrante","") | L10: =+IF(OR(D10<H10,D10>I10),"Valeur aberrante","") | N10: =AVERAGE('Raw results fibers'!E40:E45) -> 17.505 | O10: =AVERAGE('Raw results fibers'!F40:F45) -> 20.278333 | P10: =AVERAGE('Raw results fibers'!G40:G45) -> 25.311667 | Q10: =AVERAGE(N10:P10) -> 21.031667 | R10: =_xlfn.STDEV.S(N10:P10) -> 3.9574796 | S10: =_xlfn.CONFIDENCE.NORM(0.05, R10, 3) -> 4.4782274 | T10: =Q10-2*R10 -> 13.116708 | U10: =Q10+2*R10 -> 28.946626 | V10: =+IF(OR(N10<T10,N10>U10),"Valeur aberrante","") | W10: =+IF(OR(O10<T10,O10>U10),"Valeur aberrante","") | X10: =+IF(OR(P10<T10,P10>U10),"Valeur aberrante","") | Z10: =_xlfn.T.TEST(B10:D10,N10:P10,2,1) -> 0.43277018 | AA10: =IF(Z10<0.05,"YES","NO") -> NO
A11: Enzymatic | B11: =AVERAGE('Raw results fibers'!B46:B51) -> 25.061667 | C11: =AVERAGE('Raw results fibers'!C46:C51) -> 26.37 | D11: =AVERAGE('Raw results fibers'!D46:D51) -> 24.831667 | E11: =AVERAGE(B11:D11) -> 25.421111 | F11: =_xlfn.STDEV.S(B11:D11) -> 0.8297696 | G11: =_xlfn.CONFIDENCE.NORM(0.05, F11, 3) -> 0.93895544 | H11: =E11-2*F11 -> 23.761572 | I11: =E11+2*F11 -> 27.08065 | J11: =+IF(OR(B11<H11,B11>I11),"Valeur aberrante","") | K11: =+IF(OR(C11<H11,C11>I11),"Valeur aberrante","") | L11: =+IF(OR(D11<H11,D11>I11),"Valeur aberrante","") | N11: =AVERAGE('Raw results fibers'!E46:E51) -> 21.361667 | O11: =AVERAGE('Raw results fibers'!F46:F51) -> 21.355 | P11: =AVERAGE('Raw results fibers'!G46:G51) -> 20.62 | Q11: =AVERAGE(N11:P11) -> 21.112222 | R11: =_xlfn.STDEV.S(N11:P11) -> 0.42628998 | S11: =_xlfn.CONFIDENCE.NORM(0.05, R11, 3) -> 0.48238366 | T11: =Q11-2*R11 -> 20.259642 | U11: =Q11+2*R11 -> 21.964802 | V11: =+IF(OR(N11<T11,N11>U11),"Valeur aberrante","") | W11: =+IF(OR(O11<T11,O11>U11),"Valeur aberrante","") | X11: =+IF(OR(P11<T11,P11>U11),"Valeur aberrante","") | Z11: =_xlfn.T.TEST(B11:D11,N11:P11,2,1) -> 0.0077965311 | AA11: =IF(Z11<0.05,"YES","NO") -> YES | AB11: NO
A12: ASTM protocol | B12: =AVERAGE('Raw results fibers'!B58:B63) -> 39.626667 | C12: =AVERAGE('Raw results fibers'!C58:C63) -> 40.145 | D12: =AVERAGE('Raw results fibers'!D58:D63) -> 40.503333 | E12: =AVERAGE(B12:D12) -> 40.091667 | F12: =_xlfn.STDEV.S(B12:D12) -> 0.44076008 | G12: =_xlfn.CONFIDENCE.NORM(0.05, F12, 3) -> 0.49875781 | H12: =E12-2*F12 -> 39.210147 | I12: =E12+2*F12 -> 40.973187 | N12: =AVERAGE('Raw results fibers'!E58:E63) -> 39.533333 | O12: =AVERAGE('Raw results fibers'!F58:F63) -> 40.981667 | P12: =AVERAGE('Raw results fibers'!G58:G63) -> 40.488333 | Q12: =AVERAGE(N12:P12) -> 40.334444 | R12: =_xlfn.STDEV.S(N12:P12) -> 0.73632785 | S12: =_xlfn.CONFIDENCE.NORM(0.05, R12, 3) -> 0.83321809 | T12: =Q12-2*R12 -> 38.861789 | U12: =Q12+2*R12 -> 41.8071 | Z12: =_xlfn.T.TEST(B12:D12,N12:P12,2,1) -> 0.50058382 | AA12: =IF(Z12<0.05,"YES","NO") -> NO
A13: Blank | B13: =AVERAGE('Raw results fibers'!B52:B57) -> 26.25 | C13: =AVERAGE('Raw results fibers'!C52:C57) -> 24.241667 | D13: =AVERAGE('Raw results fibers'!D52:D57) -> 26.103333 | E13: =AVERAGE(B13:D13) -> 25.531667 | F13: =_xlfn.STDEV.S(B13:D13) -> 1.1195771 | G13: =_xlfn.CONFIDENCE.NORM(0.05, F13, 3) -> 1.2668974 | H13: =E13-2*F13 -> 23.292513 | I13: =E13+2*F13 -> 27.770821 | J13: =+IF(OR(B13<H13,B13>I13),"Valeur aberrante","") | K13: =+IF(OR(C13<H13,C13>I13),"Valeur aberrante","") | L13: =+IF(OR(D13<H13,D13>I13),"Valeur aberrante","") | N13: =AVERAGE('Raw results fibers'!E52:E57) -> 24.65 | O13: =AVERAGE('Raw results fibers'!F52:F57) -> 25.743333 | P13: =AVERAGE('Raw results fibers'!G52:G57) -> 24.166667 | Q13: =AVERAGE(N13:P13) -> 24.853333 | R13: =_xlfn.STDEV.S(N13:P13) -> 0.80776097 | S13: =_xlfn.CONFIDENCE.NORM(0.05, R13, 3) -> 0.91405079 | T13: =Q13-2*R13 -> 23.237811 | U13: =Q13+2*R13 -> 26.468855 | V13: =+IF(OR(N13<T13,N13>U13),"Valeur aberrante","") | W13: =+IF(OR(O13<T13,O13>U13),"Valeur aberrante","") | X13: =+IF(OR(P13<T13,P13>U13),"Valeur aberrante","") | Z13: =_xlfn.T.TEST(B13:D13,N13:P13,2,1) -> 0.59855796 | AA13: =IF(Z13<0.05,"YES","NO") -> NO
A14: Microplastic type | B14: PA BEFORE | N14: PA AFTER | W14: =+IF(OR(O14<T14,O14>U14),"Valeur aberrante","") | X14: =+IF(OR(P14<T14,P14>U14),"Valeur aberrante","") | AA14: =IF(Z14<0.05,"YES","NO") -> YES
A15: Measured parameter | B15: Mean diameter (µm) | N15: Mean diameter (µm) | W15: =+IF(OR(O15<T15,O15>U15),"Valeur aberrante","") | X15: =+IF(OR(P15<T15,P15>U15),"Valeur aberrante","") | AA15: =IF(Z15<0.05,"YES","NO") -> YES
A16: N° Replicate | B16: 1 | C16: 2 | D16: 3 | E16: Mean | F16: Standard deviation | G16: 95% confidence interval (mean ± indicated value) | H16: Mean-2*standard deviation | I16: Mean+2*standard deviation | J16: Outliers Replicate 1 | K16: Outliers Replicate 2 | L16: Outliers Replicate 3 | M16: Normality Shapiro-Wilk test | N16: 1 | O16: 2 | P16: 3 | Q16: Mean | R16: Standard deviation | S16: 95% confidence interval (mean ± indicated value) | T16: Mean-2*standard deviation | U16: Mean+2*standard deviation | V16: Outliers Replicate 1 | W16: Outliers Replicate 2 | X16: Outliers Replicate 3 | AA16: =IF(Z16<0.05,"YES","NO") -> YES
A17: NaOH 10M RT | B17: =AVERAGE('Raw results fibers'!H4:H9) -> 15.481667 | C17: =AVERAGE('Raw results fibers'!I4:I9) -> 17.438333 | D17: =AVERAGE('Raw results fibers'!J4:J9) -> 14.908333 | E17: =AVERAGE(B17:D17) -> 15.942778 | F17: =_xlfn.STDEV.S(B17:D17) -> 1.3265341 | G17: =_xlfn.CONFIDENCE.NORM(0.05, F17, 3) -> 1.501087 | H17: =E17-2*F17 -> 13.28971 | I17: =E17+2*F17 -> 18.595846 | J17: =+IF(OR(B17<H17,B17>I17),"Valeur aberrante","") | K17: =+IF(OR(C17<H17,C17>I17),"Valeur aberrante","") | L17: =+IF(OR(D17<H17,D17>I17),"Valeur aberrante","") | N17: =AVERAGE('Raw results fibers'!K4:K9) -> 15.976667 | O17: =AVERAGE('Raw results fibers'!L4:L9) -> 13.498333 | P17: =AVERAGE('Raw results fibers'!M4:M9) -> 15.586667 | Q17: =AVERAGE(N17:P17) -> 15.020556 | R17: =_xlfn.STDEV.S(N17:P17) -> 1.3326272 | S17: =_xlfn.CONFIDENCE.NORM(0.05, R17, 3) -> 1.507982 | T17: =Q17-2*R17 -> 12.355301 | U17: =Q17+2*R17 -> 17.68581 | V17: =+IF(OR(N17<T17,N17>U17),"Valeur aberrante","") | W17: =+IF(OR(O17<T17,O17>U17),"Valeur aberrante","") | X17: =+IF(OR(P17<T17,P17>U17),"Valeur aberrante","") | Z17: =_xlfn.T.TEST(B17:D17,N17:P17,2,1) -> 0.60349056 | AA17: =IF(Z17<0.05,"YES","NO") -> NO
A18: NaOCl 3% | B18: =AVERAGE('Raw results fibers'!H10:H15) -> 14.778333 | C18: =AVERAGE('Raw results fibers'!I10:I15) -> 17.578333 | D18: =AVERAGE('Raw results fibers'!J10:J15) -> 16.6 | E18: =AVERAGE(B18:D18) -> 16.318889 | F18: =_xlfn.STDEV.S(B18:D18) -> 1.4210094 | G18: =_xlfn.CONFIDENCE.NORM(0.05, F18, 3) -> 1.6079939 | H18: =E18-2*F18 -> 13.47687 | I18: =E18+2*F18 -> 19.160908 | J18: =+IF(OR(B18<H18,B18>I18),"Valeur aberrante","") | K18: =+IF(OR(C18<H18,C18>I18),"Valeur aberrante","") | L18: =+IF(OR(D18<H18,D18>I18),"Valeur aberrante","") | N18: =AVERAGE('Raw results fibers'!K10:K15) -> 14.418333 | O18: =AVERAGE('Raw results fibers'!L10:L15) -> 14.796667 | P18: =AVERAGE('Raw results fibers'!M10:M15) -> 15.798333 | Q18: =AVERAGE(N18:P18) -> 15.004444 | R18: =_xlfn.STDEV.S(N18:P18) -> 0.71307693 | S18: =_xlfn.CONFIDENCE.NORM(0.05, R18, 3) -> 0.80690768 | T18: =Q18-2*R18 -> 13.578291 | U18: =Q18+2*R18 -> 16.430598 | V18: =+IF(OR(N18<T18,N18>U18),"Valeur aberrante","") | W18: =+IF(OR(O18<T18,O18>U18),"Valeur aberrante","") | X18: =+IF(OR(P18<T18,P18>U18),"Valeur aberrante","") | Z18: =_xlfn.T.TEST(B18:D18,N18:P18,2,1) -> 0.21955978 | AA18: =IF(Z18<0.05,"YES","NO") -> NO
A19: H2O2 30% RT | B19: =AVERAGE('Raw results fibers'!H16:H21) -> 15.031667 | C19: =AVERAGE('Raw results fibers'!I16:I21) -> 19.09 | D19: =AVERAGE('Raw results fibers'!J16:J21) -> 14.493333 | E19: =AVERAGE(B19:D19) -> 16.205 | F19: =_xlfn.STDEV.S(B19:D19) -> 2.5129404 | G19: =_xlfn.CONFIDENCE.NORM(0.05, F19, 3) -> 2.8436075 | H19: =E19-2*F19 -> 11.179119 | I19: =E19+2*F19 -> 21.230881 | J19: =+IF(OR(B19<H19,B19>I19),"Valeur aberrante","") | K19: =+IF(OR(C19<H19,C19>I19),"Valeur aberrante","") | L19: =+IF(OR(D19<H19,D19>I19),"Valeur aberrante","") | N19: =AVERAGE('Raw results fibers'!K16:K21) -> 15.456667 | O19: =AVERAGE('Raw results fibers'!L16:L21) -> 14.743333 | P19: =AVERAGE('Raw results fibers'!M16:M21) -> 15.335 | Q19: =AVERAGE(N19:P19) -> 15.178333 | R19: =_xlfn.STDEV.S(N19:P19) -> 0.38160116 | S19: =_xlfn.CONFIDENCE.NORM(0.05, R19, 3) -> 0.43181443 | T19: =Q19-2*R19 -> 14.415131 | U19: =Q19+2*R19 -> 15.941536 | V19: =+IF(OR(N19<T19,N19>U19),"Valeur aberrante","") | W19: =+IF(OR(O19<T19,O19>U19),"Valeur aberrante","") | X19: =+IF(OR(P19<T19,P19>U19),"Valeur aberrante","") | Z19: =_xlfn.T.TEST(B19:D19,N19:P19,2,1) -> 0.60019421 | AA19: =IF(Z19<0.05,"YES","NO") -> NO
A20: CWPO | B20: =AVERAGE('Raw results fibers'!H22:H27) -> 16.87 | C20: =AVERAGE('Raw results fibers'!I22:I27) -> 15.6 | D20: =AVERAGE('Raw results fibers'!J22:J27) -> 15.655 | E20: =AVERAGE(B20:D20) -> 16.041667 | F20: =_xlfn.STDEV.S(B20:D20) -> 0.71788462 | G20: =_xlfn.CONFIDENCE.NORM(0.05, F20, 3) -> 0.812348 | H20: =E20-2*F20 -> 14.605897 | I20: =E20+2*F20 -> 17.477436 | J20: =+IF(OR(B20<H20,B20>I20),"Valeur aberrante","") | K20: =+IF(OR(C20<H20,C20>I20),"Valeur aberrante","") | L20: =+IF(OR(D20<H20,D20>I20),"Valeur aberrante","") | N20: =AVERAGE('Raw results fibers'!K22:K27) -> 16.128333 | O20: =AVERAGE('Raw results fibers'!L22:L27) -> 14.62 | P20: =AVERAGE('Raw results fibers'!M22:M27) -> 14.251667 | Q20: =AVERAGE(N20:P20) -> 15 | R20: =_xlfn.STDEV.S(N20:P20) -> 0.99436887 | S20: =_xlfn.CONFIDENCE.NORM(0.05, R20, 3) -> 1.1252136 | T20: =Q20-2*R20 -> 13.011262 | U20: =Q20+2*R20 -> 16.988738 | V20: =+IF(OR(N20<T20,N20>U20),"Valeur aberrante","") | W20: =+IF(OR(O20<T20,O20>U20),"Valeur aberrante","") | X20: =+IF(OR(P20<T20,P20>U20),"Valeur aberrante","") | Z20: =_xlfn.T.TEST(B20:D20,N20:P20,2,1) -> 0.032810917 | AA20: =IF(Z20<0.05,"YES","NO") -> YES
A21: KOH | B21: =AVERAGE('Raw results fibers'!H28:H33) -> 16.9 | C21: =AVERAGE('Raw results fibers'!I28:I33) -> 13.895 | D21: =AVERAGE('Raw results fibers'!J28:J33) -> 16.47 | E21: =AVERAGE(B21:D21) -> 15.755 | F21: =_xlfn.STDEV.S(B21:D21) -> 1.6250923 | G21: =_xlfn.CONFIDENCE.NORM(0.05, F21, 3) -> 1.8389313 | H21: =E21-2*F21 -> 12.504815 | I21: =E21+2*F21 -> 19.005185 | J21: =+IF(OR(B21<H21,B21>I21),"Valeur aberrante","") | K21: =+IF(OR(C21<H21,C21>I21),"Valeur aberrante","") | L21: =+IF(OR(D21<H21,D21>I21),"Valeur aberrante","") | N21: =AVERAGE('Raw results fibers'!K28:K33) -> 16.485 | O21: =AVERAGE('Raw results fibers'!L28:L33) -> 14.251667 | P21: =AVERAGE('Raw results fibers'!M28:M33) -> 18.03 | Q21: =AVERAGE(N21:P21) -> 16.255556 | R21: =_xlfn.STDEV.S(N21:P21) -> 1.8995879 | S21: =_xlfn.CONFIDENCE.NORM(0.05, R21, 3) -> 2.1495466 | T21: =Q21-2*R21 -> 12.45638 | U21: =Q21+2*R21 -> 20.054731 | V21: =+IF(OR(N21<T21,N21>U21),"Valeur aberrante","") | W21: =+IF(OR(O21<T21,O21>U21),"Valeur aberrante","") | X21: =+IF(OR(P21<T21,P21>U21),"Valeur aberrante","") | Z21: =_xlfn.T.TEST(B21:D21,N21:P21,2,1) -> 0.47556674 | AA21: =IF(Z21<0.05,"YES","NO") -> NO
A22: H2O2 40°C | B22: =AVERAGE('Raw results fibers'!H34:H39) -> 14.85 | C22: =AVERAGE('Raw results fibers'!I34:I39) -> 15.556667 | D22: =AVERAGE('Raw results fibers'!J34:J39) -> 14.728333 | E22: =AVERAGE(B22:D22) -> 15.045 | F22: =_xlfn.STDEV.S(B22:D22) -> 0.4472726 | G22: =_xlfn.CONFIDENCE.NORM(0.05, F22, 3) -> 0.50612729 | H22: =E22-2*F22 -> 14.150455 | I22: =E22+2*F22 -> 15.939545 | J22: =+IF(OR(B22<H22,B22>I22),"Valeur aberrante","") | K22: =+IF(OR(C22<H22,C22>I22),"Valeur aberrante","") | L22: =+IF(OR(D22<H22,D22>I22),"Valeur aberrante","") | N22: =AVERAGE('Raw results fibers'!K34:K39) -> 16.928333 | O22: =AVERAGE('Raw results fibers'!L34:L39) -> 16.866667 | P22: =AVERAGE('Raw results fibers'!M34:M39) -> 15.225 | Q22: =AVERAGE(N22:P22) -> 16.34 | R22: =_xlfn.STDEV.S(N22:P22) -> 0.96611047 | S22: =_xlfn.CONFIDENCE.NORM(0.05, R22, 3) -> 1.0932368 | T22: =Q22-2*R22 -> 14.407779 | U22: =Q22+2*R22 -> 18.272221 | V22: =+IF(OR(N22<T22,N22>U22),"Valeur aberrante","") | W22: =+IF(OR(O22<T22,O22>U22),"Valeur aberrante","") | X22: =+IF(OR(P22<T22,P22>U22),"Valeur aberrante","") | Z22: =_xlfn.T.TEST(B22:D22,N22:P22,2,1) -> 0.10510335 | AA22: =IF(Z22<0.05,"YES","NO") -> NO
A23: NaOH 40°C | B23: =AVERAGE('Raw results fibers'!H40:H45) -> 13.653333 | C23: =AVERAGE('Raw results fibers'!I40:I45) -> 15.561667 | D23: =AVERAGE('Raw results fibers'!J40:J45) -> 15.155 | E23: =AVERAGE(B23:D23) -> 14.79 | F23: =_xlfn.STDEV.S(B23:D23) -> 1.0051631 | G23: =_xlfn.CONFIDENCE.NORM(0.05, F23, 3) -> 1.1374282 | H23: =E23-2*F23 -> 12.779674 | I23: =E23+2*F23 -> 16.800326 | J23: =+IF(OR(B23<H23,B23>I23),"Valeur aberrante","") | K23: =+IF(OR(C23<H23,C23>I23),"Valeur aberrante","") | L23: =+IF(OR(D23<H23,D23>I23),"Valeur aberrante","") | N23: =AVERAGE('Raw results fibers'!K40:K45) -> 13.933333 | O23: =AVERAGE('Raw results fibers'!L40:L45) -> 15.463333 | P23: =AVERAGE('Raw results fibers'!M40:M45) -> 16.053333 | Q23: =AVERAGE(N23:P23) -> 15.15 | R23: =_xlfn.STDEV.S(N23:P23) -> 1.0941816 | S23: =_xlfn.CONFIDENCE.NORM(0.05, R23, 3) -> 1.2381603 | T23: =Q23-2*R23 -> 12.961637 | U23: =Q23+2*R23 -> 17.338363 | V23: =+IF(OR(N23<T23,N23>U23),"Valeur aberrante","") | W23: =+IF(OR(O23<T23,O23>U23),"Valeur aberrante","") | X23: =+IF(OR(P23<T23,P23>U23),"Valeur aberrante","") | Z23: =_xlfn.T.TEST(B23:D23,N23:P23,2,1) -> 0.34092614 | AA23: =IF(Z23<0.05,"YES","NO") -> NO
A24: Enzymatic | B24: =AVERAGE('Raw results fibers'!H46:H51) -> 24.465 | C24: =AVERAGE('Raw results fibers'!I46:I51) -> 20.383333 | D24: =AVERAGE('Raw results fibers'!J46:J51) -> 17.403333 | E24: =AVERAGE(B24:D24) -> 20.750556 | F24: =_xlfn.STDEV.S(B24:D24) -> 3.5451267 | G24: =_xlfn.CONFIDENCE.NORM(0.05, F24, 3) -> 4.0116148 | H24: =E24-2*F24 -> 13.660302 | I24: =E24+2*F24 -> 27.840809 | J24: =+IF(OR(B24<H24,B24>I24),"Valeur aberrante","") | K24: =+IF(OR(C24<H24,C24>I24),"Valeur aberrante","") | L24: =+IF(OR(D24<H24,D24>I24),"Valeur aberrante","") | N24: =AVERAGE('Raw results fibers'!K46:K51) -> 18.783333 | O24: =AVERAGE('Raw results fibers'!L46:L51) -> 17.528333 | P24: =AVERAGE('Raw results fibers'!M46:M51) -> 14.951667 | Q24: =AVERAGE(N24:P24) -> 17.087778 | R24: =_xlfn.STDEV.S(N24:P24) -> 1.9534544 | S24: =_xlfn.CONFIDENCE.NORM(0.05, R24, 3) -> 2.2105012 | T24: =Q24-2*R24 -> 13.180869 | U24: =Q24+2*R24 -> 20.994687 | V24: =+IF(OR(N24<T24,N24>U24),"Valeur aberrante","") | W24: =+IF(OR(O24<T24,O24>U24),"Valeur aberrante","") | X24: =+IF(OR(P24<T24,P24>U24),"Valeur aberrante","") | Z24: =_xlfn.T.TEST(B24:D24,N24:P24,2,1) -> 0.069083083 | AA24: =IF(Z24<0.05,"YES","NO") -> NO
A25: ASTM protocol | C25: =AVERAGE('Raw results fibers'!I58:I63) -> 23.356667 | D25: =AVERAGE('Raw results fibers'!J58:J63) -> 23.86 | E25: =AVERAGE(B25:D25) -> 23.608333 | F25: =_xlfn.STDEV.S(B25:D25) -> 0.35591041 | G25: =_xlfn.CONFIDENCE.NORM(0.05, F25, 3) -> 0.40274315 | H25: =E25-2*F25 -> 22.896513 | I25: =E25+2*F25 -> 24.320154 | N25: =AVERAGE('Raw results fibers'!K58:K63) -> 27.701667 | O25: =AVERAGE('Raw results fibers'!L58:L63) -> 19.353333 | P25: =AVERAGE('Raw results fibers'!M58:M63) -> 37.091667 | Q25: =AVERAGE(N25:P25) -> 28.048889 | R25: =_xlfn.STDEV.S(N25:P25) -> 8.8742628 | S25: =_xlfn.CONFIDENCE.NORM(0.05, R25, 3) -> 10.041989 | T25: =Q25-2*R25 -> 10.300363 | U25: =Q25+2*R25 -> 45.797414 | Z25: =_xlfn.T.TEST(B25:D25,N25:P25,2,1) -> 0.68703953 | AA25: =IF(Z25<0.05,"YES","NO") -> NO | AB25: NO
A26: Blank | B26: =AVERAGE('Raw results fibers'!H52:H57) -> 14.22 | C26: =AVERAGE('Raw results fibers'!I52:I57) -> 14.151667 | D26: =AVERAGE('Raw results fibers'!J52:J57) -> 15.163333 | E26: =AVERAGE(B26:D26) -> 14.511667 | F26: =_xlfn.STDEV.S(B26:D26) -> 0.56539318 | G26: =_xlfn.CONFIDENCE.NORM(0.05, F26, 3) -> 0.63979085 | H26: =E26-2*F26 -> 13.38088 | I26: =E26+2*F26 -> 15.642453 | J26: =+IF(OR(B26<H26,B26>I26),"Valeur aberrante","") | K26: =+IF(OR(C26<H26,C26>I26),"Valeur aberrante","") | L26: =+IF(OR(D26<H26,D26>I26),"Valeur aberrante","") | N26: =AVERAGE('Raw results fibers'!K52:K57) -> 15.44 | O26: =AVERAGE('Raw results fibers'!L52:L57) -> 17.361667 | P26: =AVERAGE('Raw results fibers'!M52:M57) -> 14.21 | Q26: =AVERAGE(N26:P26) -> 15.670556 | R26: =_xlfn.STDEV.S(N26:P26) -> 1.5884324 | S26: =_xlfn.CONFIDENCE.NORM(0.05, R26, 3) -> 1.7974475 | T26: =Q26-2*R26 -> 12.493691 | U26: =Q26+2*R26 -> 18.84742 | V26: =+IF(OR(N26<T26,N26>U26),"Valeur aberrante","") | W26: =+IF(OR(O26<T26,O26>U26),"Valeur aberrante","") | X26: =+IF(OR(P26<T26,P26>U26),"Valeur aberrante","") | Z26: =_xlfn.T.TEST(B26:D26,N26:P26,2,1) -> 0.43678063 | AA26: =IF(Z26<0.05,"YES","NO") -> NO
A27: Microplastic type | B27: PMMA BEFORE | N27: PMMA AFTER | W27: =+IF(OR(O27<T27,O27>U27),"Valeur aberrante","") | X27: =+IF(OR(P27<T27,P27>U27),"Valeur aberrante","")
A28: Measured parameter | B28: Mean diameter (µm) | N28: Mean diameter (µm) | W28: =+IF(OR(O28<T28,O28>U28),"Valeur aberrante","") | X28: =+IF(OR(P28<T28,P28>U28),"Valeur aberrante","")
A29: N° Replicate | B29: 1 | C29: 2 | D29: 3 | E29: Mean | F29: Standard deviation | G29: 95% confidence interval (mean ± indicated value) | H29: Mean-2*standard deviation | I29: Mean+2*standard deviation | J29: Outliers Replicate 1 | K29: Outliers Replicate 2 | L29: Outliers Replicate 3 | M29: Normality Shapiro-Wilk test | N29: 1 | O29: 2 | P29: 3 | Q29: Mean | R29: Standard deviation | S29: 95% confidence interval (mean ± indicated value) | T29: Mean-2*standard deviation | U29: Mean+2*standard deviation | V29: Outliers Replicate 1 | W29: Outliers Replicate 2 | X29: Outliers Replicate 3
A30: NaOH 10M RT | B30: =AVERAGE('Raw results fibers'!N4:N9) -> 24.393333 | C30: =AVERAGE('Raw results fibers'!O4:O9) -> 16.35 | D30: =AVERAGE('Raw results fibers'!P4:P9) -> 24.24 | E30: =AVERAGE(B30:D30) -> 21.661111 | F30: =_xlfn.STDEV.S(B30:D30) -> 4.6001961 | G30: =_xlfn.CONFIDENCE.NORM(0.05, F30, 3) -> 5.2055162 | H30: =E30-2*F30 -> 12.460719 | I30: =E30+2*F30 -> 30.861503 | J30: =+IF(OR(B30<H30,B30>I30),"Valeur aberrante","") | K30: =+IF(OR(C30<H30,C30>I30),"Valeur aberrante","") | L30: =+IF(OR(D30<H30,D30>I30),"Valeur aberrante","") | N30: =AVERAGE('Raw results fibers'!Q4:Q9) -> 23.72 | O30: =AVERAGE('Raw results fibers'!R4:R9) -> 24.665 | P30: =AVERAGE('Raw results fibers'!S4:S9) -> 21.018333 | Q30: =AVERAGE(N30:P30) -> 23.134444 | R30: =_xlfn.STDEV.S(N30:P30) -> 1.8925382 | S30: =_xlfn.CONFIDENCE.NORM(0.05, R30, 3) -> 2.1415693 | T30: =Q30-2*R30 -> 19.349368 | U30: =Q30+2*R30 -> 26.919521 | V30: =+IF(OR(N30<T30,N30>U30),"Valeur aberrante","") | W30: =+IF(OR(O30<T30,O30>U30),"Valeur aberrante","") | X30: =+IF(OR(P30<T30,P30>U30),"Valeur aberrante","") | Z30: =_xlfn.T.TEST(B30:D30,N30:P30,2,1) -> 0.71463982 | AA30: =IF(Z30<0.05,"YES","NO") -> NO
A31: NaOCl 3% | B31: =AVERAGE('Raw results fibers'!N10:N15) -> 29.975 | C31: =AVERAGE('Raw results fibers'!O10:O15) -> 19.13 | D31: =AVERAGE('Raw results fibers'!P10:P15) -> 25.108333 | E31: =AVERAGE(B31:D31) -> 24.737778 | F31: =_xlfn.STDEV.S(B31:D31) -> 5.4319876 | G31: =_xlfn.CONFIDENCE.NORM(0.05, F31, 3) -> 6.1467597 | H31: =E31-2*F31 -> 13.873802 | I31: =E31+2*F31 -> 35.601753 | J31: =+IF(OR(B31<H31,B31>I31),"Valeur aberrante","") | K31: =+IF(OR(C31<H31,C31>I31),"Valeur aberrante","") | L31: =+IF(OR(D31<H31,D31>I31),"Valeur aberrante","") | N31: =AVERAGE('Raw results fibers'!Q10:Q15) -> 23.148333 | O31: =AVERAGE('Raw results fibers'!R10:R15) -> 17.215 | P31: =AVERAGE('Raw results fibers'!S10:S15) -> 23.363333 | Q31: =AVERAGE(N31:P31) -> 21.242222 | R31: =_xlfn.STDEV.S(N31:P31) -> 3.4893331 | S31: =_xlfn.CONFIDENCE.NORM(0.05, R31, 3) -> 3.9484795 | T31: =Q31-2*R31 -> 14.263556 | U31: =Q31+2*R31 -> 28.220888 | V31: =+IF(OR(N31<T31,N31>U31),"Valeur aberrante","") | W31: =+IF(OR(O31<T31,O31>U31),"Valeur aberrante","") | X31: =+IF(OR(P31<T31,P31>U31),"Valeur aberrante","") | Z31: =_xlfn.T.TEST(B31:D31,N31:P31,2,1) -> 0.17081856 | AA31: =IF(Z31<0.05,"YES","NO") -> NO
A32: H2O2 30% RT | B32: =AVERAGE('Raw results fibers'!N16:N21) -> 20.068333 | C32: =AVERAGE('Raw results fibers'!O16:O21) -> 24.056667 | D32: =AVERAGE('Raw results fibers'!P16:P21) -> 21.05 | E32: =AVERAGE(B32:D32) -> 21.725 | F32: =_xlfn.STDEV.S(B32:D32) -> 2.0780807 | G32: =_xlfn.CONFIDENCE.NORM(0.05, F32, 3) -> 2.3515265 | H32: =E32-2*F32 -> 17.568839 | I32: =E32+2*F32 -> 25.881161 | J32: =+IF(OR(B32<H32,B32>I32),"Valeur aberrante","") | K32: =+IF(OR(C32<H32,C32>I32),"Valeur aberrante","") | L32: =+IF(OR(D32<H32,D32>I32),"Valeur aberrante","") | N32: =AVERAGE('Raw results fibers'!Q16:Q21) -> 20.318333 | O32: =AVERAGE('Raw results fibers'!R16:R21) -> 20.726667 | P32: =AVERAGE('Raw results fibers'!S16:S21) -> 21.983333 | Q32: =AVERAGE(N32:P32) -> 21.009444 | R32: =_xlfn.STDEV.S(N32:P32) -> 0.86777226 | S32: =_xlfn.CONFIDENCE.NORM(0.05, R32, 3) -> 0.98195872 | T32: =Q32-2*R32 -> 19.2739 | U32: =Q32+2*R32 -> 22.744989 | V32: =+IF(OR(N32<T32,N32>U32),"Valeur aberrante","") | W32: =+IF(OR(O32<T32,O32>U32),"Valeur aberrante","") | X32: =+IF(OR(P32<T32,P32>U32),"Valeur aberrante","") | Z32: =_xlfn.T.TEST(B32:D32,N32:P32,2,1) -> 0.64255733 | AA32: =IF(Z32<0.05,"YES","NO") -> NO
A33: CWPO | B33: =AVERAGE('Raw results fibers'!N22:N27) -> 21.721667 | C33: =AVERAGE('Raw results fibers'!O22:O27) -> 25.13 | D33: =AVERAGE('Raw results fibers'!P22:P27) -> 17.805 | E33: =AVERAGE(B33:D33) -> 21.552222 | F33: =_xlfn.STDEV.S(B33:D33) -> 3.6654386 | G33: =_xlfn.CONFIDENCE.NORM(0.05, F33, 3) -> 4.147758 | H33: =E33-2*F33 -> 14.221345 | I33: =E33+2*F33 -> 28.883099 | J33: =+IF(OR(B33<H33,B33>I33),"Valeur aberrante","") | K33: =+IF(OR(C33<H33,C33>I33),"Valeur aberrante","") | L33: =+IF(OR(D33<H33,D33>I33),"Valeur aberrante","") | N33: =AVERAGE('Raw results fibers'!Q22:Q27) -> 17.448333 | O33: =AVERAGE('Raw results fibers'!R22:R27) -> 26.615 | P33: =AVERAGE('Raw results fibers'!S22:S27) -> 28.381667 | Q33: =AVERAGE(N33:P33) -> 24.148333 | R33: =_xlfn.STDEV.S(N33:P33) -> 5.8692229 | S33: =_xlfn.CONFIDENCE.NORM(0.05, R33, 3) -> 6.6415289 | T33: =Q33-2*R33 -> 12.409887 | U33: =Q33+2*R33 -> 35.886779 | V33: =+IF(OR(N33<T33,N33>U33),"Valeur aberrante","") | W33: =+IF(OR(O33<T33,O33>U33),"Valeur aberrante","") | X33: =+IF(OR(P33<T33,P33>U33),"Valeur aberrante","") | Z33: =_xlfn.T.TEST(B33:D33,N33:P33,2,1) -> 0.6091135 | AA33: =IF(Z33<0.05,"YES","NO") -> NO
A34: KOH | B34: =AVERAGE('Raw results fibers'!N28:N33) -> 26.416667 | C34: =AVERAGE('Raw results fibers'!O28:O33) -> 23.606667 | D34: =AVERAGE('Raw results fibers'!P28:P33) -> 21.56 | E34: =AVERAGE(B34:D34) -> 23.861111 | F34: =_xlfn.STDEV.S(B34:D34) -> 2.4383107 | G34: =_xlfn.CONFIDENCE.NORM(0.05, F34, 3) -> 2.7591576 | H34: =E34-2*F34 -> 18.98449 | I34: =E34+2*F34 -> 28.737733 | J34: =+IF(OR(B34<H34,B34>I34),"Valeur aberrante","") | K34: =+IF(OR(C34<H34,C34>I34),"Valeur aberrante","") | L34: =+IF(OR(D34<H34,D34>I34),"Valeur aberrante","") | N34: =AVERAGE('Raw results fibers'!Q28:Q33) -> 26.708333 | O34: =AVERAGE('Raw results fibers'!R28:R33) -> 23.486667 | P34: =AVERAGE('Raw results fibers'!S28:S33) -> 22.275 | Q34: =AVERAGE(N34:P34) -> 24.156667 | R34: =_xlfn.STDEV.S(N34:P34) -> 2.2913503 | S34: =_xlfn.CONFIDENCE.NORM(0.05, R34, 3) -> 2.5928593 | T34: =Q34-2*R34 -> 19.573966 | U34: =Q34+2*R34 -> 28.739367 | V34: =+IF(OR(N34<T34,N34>U34),"Valeur aberrante","") | W34: =+IF(OR(O34<T34,O34>U34),"Valeur aberrante","") | X34: =+IF(OR(P34<T34,P34>U34),"Valeur aberrante","") | Z34: =_xlfn.T.TEST(B34:D34,N34:P34,2,1) -> 0.34492991 | AA34: =IF(Z34<0.05,"YES","NO") -> NO
A35: H2O2 40°C | B35: =AVERAGE('Raw results fibers'!N34:N39) -> 25.971667 | C35: =AVERAGE('Raw results fibers'!O34:O39) -> 20.791667 | D35: =AVERAGE('Raw results fibers'!P34:P39) -> 26.683333 | E35: =AVERAGE(B35:D35) -> 24.482222 | F35: =_xlfn.STDEV.S(B35:D35) -> 3.2158619 | G35: =_xlfn.CONFIDENCE.NORM(0.05, F35, 3) -> 3.6390234 | H35: =E35-2*F35 -> 18.050498 | I35: =E35+2*F35 -> 30.913946 | J35: =+IF(OR(B35<H35,B35>I35),"Valeur aberrante","") | K35: =+IF(OR(C35<H35,C35>I35),"Valeur aberrante","") | L35: =+IF(OR(D35<H35,D35>I35),"Valeur aberrante","") | N35: =AVERAGE('Raw results fibers'!Q34:Q39) -> 30.421667 | O35: =AVERAGE('Raw results fibers'!R34:R39) -> 23.475 | P35: =AVERAGE('Raw results fibers'!S34:S39) -> 26.666667 | Q35: =AVERAGE(N35:P35) -> 26.854444 | R35: =_xlfn.STDEV.S(N35:P35) -> 3.4771382 | S35: =_xlfn.CONFIDENCE.NORM(0.05, R35, 3) -> 3.9346799 | T35: =Q35-2*R35 -> 19.900168 | U35: =Q35+2*R35 -> 33.808721 | V35: =+IF(OR(N35<T35,N35>U35),"Valeur aberrante","") | W35: =+IF(OR(O35<T35,O35>U35),"Valeur aberrante","") | X35: =+IF(OR(P35<T35,P35>U35),"Valeur aberrante","") | Z35: =_xlfn.T.TEST(B35:D35,N35:P35,2,1) -> 0.209304 | AA35: =IF(Z35<0.05,"YES","NO") -> NO
A36: NaOH 40°C | B36: =AVERAGE('Raw results fibers'!N40:N45) -> 21.62 | C36: =AVERAGE('Raw results fibers'!O40:O45) -> 22.32 | D36: =AVERAGE('Raw results fibers'!P40:P45) -> 27.736667 | E36: =AVERAGE(B36:D36) -> 23.892222 | F36: =_xlfn.STDEV.S(B36:D36) -> 3.3477328 | G36: =_xlfn.CONFIDENCE.NORM(0.05, F36, 3) -> 3.7882467 | H36: =E36-2*F36 -> 17.196757 | I36: =E36+2*F36 -> 30.587688 | J36: =+IF(OR(B36<H36,B36>I36),"Valeur aberrante","") | K36: =+IF(OR(C36<H36,C36>I36),"Valeur aberrante","") | L36: =+IF(OR(D36<H36,D36>I36),"Valeur aberrante","") | N36: =AVERAGE('Raw results fibers'!Q40:Q45) -> 27.61 | O36: =AVERAGE('Raw results fibers'!R40:R45) -> 20.855 | P36: =AVERAGE('Raw results fibers'!S40:S45) -> 29.421667 | Q36: =AVERAGE(N36:P36) -> 25.962222 | R36: =_xlfn.STDEV.S(N36:P36) -> 4.5147894 | S36: =_xlfn.CONFIDENCE.NORM(0.05, R36, 3) -> 5.1088713 | T36: =Q36-2*R36 -> 16.932643 | U36: =Q36+2*R36 -> 34.991801 | V36: =+IF(OR(N36<T36,N36>U36),"Valeur aberrante","") | W36: =+IF(OR(O36<T36,O36>U36),"Valeur aberrante","") | X36: =+IF(OR(P36<T36,P36>U36),"Valeur aberrante","") | Z36: =_xlfn.T.TEST(B36:D36,N36:P36,2,1) -> 0.4391428 | AA36: =IF(Z36<0.05,"YES","NO") -> NO
A37: Enzymatic | B37: =AVERAGE('Raw results fibers'!N46:N51) -> 20.11 | D37: =AVERAGE('Raw results fibers'!P46:P51) -> 18.586667 | E37: =AVERAGE(B37:D37) -> 19.348333 | F37: =_xlfn.STDEV.S(B37:D37) -> 1.0771593 | G37: =_xlfn.CONFIDENCE.NORM(0.05, F37, 3) -> 1.2188981 | H37: =E37-2*F37 -> 17.194015 | I37: =E37+2*F37 -> 21.502652 | J37: =+IF(OR(B37<H37,B37>I37),"Valeur aberrante","") | L37: =+IF(OR(D37<H37,D37>I37),"Valeur aberrante","") | N37: =AVERAGE('Raw results fibers'!Q46:Q51) -> 20.868333 | P37: =AVERAGE('Raw results fibers'!S46:S51) -> 18.755 | Q37: =AVERAGE(N37:P37) -> 19.811667 | R37: =_xlfn.STDEV.S(N37:P37) -> 1.4943523 | S37: =_xlfn.CONFIDENCE.NORM(0.05, R37, 3) -> 1.6909878 | T37: =Q37-2*R37 -> 16.822962 | U37: =Q37+2*R37 -> 22.800371 | V37: =+IF(OR(N37<T37,N37>U37),"Valeur aberrante","") | X37: =+IF(OR(P37<T37,P37>U37),"Valeur aberrante","") | Z37: =_xlfn.T.TEST(B37:D37,N37:P37,2,1) -> 0.36093918 | AA37: =IF(Z37<0.05,"YES","NO") -> NO
A38: ASTM protocol | B38: =AVERAGE('Raw results fibers'!N58:N63) -> 29.86 | E38: =AVERAGE(B38:D38) -> 29.86 | F38: - | G38: - | H38: - | I38: - | N38: =AVERAGE('Raw results fibers'!Q58:Q63) -> 35.32 | Q38: =AVERAGE(N38:P38) -> 35.32 | R38: - | S38: - | T38: - | U38: - | Z38: - | AA38: =IF(Z38<0.05,"YES","NO") -> NO
A39: Blank | B39: =AVERAGE('Raw results fibers'!N52:N57) -> 15.778333 | C39: =AVERAGE('Raw results fibers'!O52:O57) -> 26.01 | D39: =AVERAGE('Raw results fibers'!P52:P57) -> 25.736667 | E39: =AVERAGE(B39:D39) -> 22.508333 | F39: =_xlfn.STDEV.S(B39:D39) -> 5.8299531 | G39: =_xlfn.CONFIDENCE.NORM(0.05, F39, 3) -> 6.5970917 | H39: =E39-2*F39 -> 10.848427 | I39: =E39+2*F39 -> 34.168239 | J39: =+IF(OR(B39<H39,B39>I39),"Valeur aberrante","") | K39: =+IF(OR(C39<H39,C39>I39),"Valeur aberrante","") | L39: =+IF(OR(D39<H39,D39>I39),"Valeur aberrante","") | M39: NO | N39: =AVERAGE('Raw results fibers'!Q52:Q57) -> 24.756667 | O39: =AVERAGE('Raw results fibers'!R52:R57) -> 25.558333 | P39: =AVERAGE('Raw results fibers'!S52:S57) -> 22.808333 | Q39: =AVERAGE(N39:P39) -> 24.374444 | R39: =_xlfn.STDEV.S(N39:P39) -> 1.4142826 | S39: =_xlfn.CONFIDENCE.NORM(0.05, R39, 3) -> 1.6003821 | T39: =Q39-2*R39 -> 21.545879 | U39: =Q39+2*R39 -> 27.20301 | V39: =+IF(OR(N39<T39,N39>U39),"Valeur aberrante","") | W39: =+IF(OR(O39<T39,O39>U39),"Valeur aberrante","") | X39: =+IF(OR(P39<T39,P39>U39),"Valeur aberrante","") | Z39: =_xlfn.T.TEST(B39:D39,N39:P39,2,1) -> 0.65813502 | AA39: =IF(Z39<0.05,"YES","NO") -> NO
A40: Microplastic type | B40: SBR BEFORE | N40: SBR AFTER | W40: =+IF(OR(O40<T40,O40>U40),"Valeur aberrante","") | X40: =+IF(OR(P40<T40,P40>U40),"Valeur aberrante","")
A41: Measured parameter | B41: Particle area (µm2) | N41: Particle area (µm2)² | W41: =+IF(OR(O41<T41,O41>U41),"Valeur aberrante","") | X41: =+IF(OR(P41<T41,P41>U41),"Valeur aberrante","")
A42: N° Replicate | B42: 1 | C42: 2 | D42: 3 | E42: Mean | F42: Standard deviation | G42: 95% confidence interval (mean ± indicated value) | H42: Mean-2*standard deviation | I42: Mean+2*standard deviation | J42: Outliers Replicate 1 | K42: Outliers Replicate 2 | L42: Outliers Replicate 3 | M42: Normality Shapiro-Wilk test | N42: 1 | O42: 2 | P42: 3 | Q42: Mean | R42: Standard deviation | S42: 95% confidence interval (mean ± indicated value) | T42: Mean-2*standard deviation | U42: Mean+2*standard deviation | V42: Outliers Replicate 1 | W42: Outliers Replicate 2 | X42: Outliers Replicate 3
A43: NaOH 10M RT | B43: 6770755.9 | C43: 3446925.8 | D43: =8188187.6009+6937.95709999999 -> 8195125.6 | E43: =AVERAGE(B43:D43) -> 6137602.4 | F43: =_xlfn.STDEV.S(B43:D43) -> 2436598.6 | G43: =_xlfn.CONFIDENCE.NORM(0.05, F43, 3) -> 2757220.2 | H43: =E43-2*F43 -> 1264405.2 | I43: =E43+2*F43 -> 11010800 | J43: =+IF(OR(B43<H43,B43>I43),"Valeur aberrante","") | K43: =+IF(OR(C43<H43,C43>I43),"Valeur aberrante","") | L43: =+IF(OR(D43<H43,D43>I43),"Valeur aberrante","") | N43: 6980921.8 | O43: 3469990.3 | P43: 8148703.7 | Q43: =AVERAGE(N43:P43) -> 6199871.9 | R43: =_xlfn.STDEV.S(N43:P43) -> 2435183.6 | S43: =_xlfn.CONFIDENCE.NORM(0.05, R43, 3) -> 2755619 | T43: =Q43-2*R43 -> 1329504.8 | U43: =Q43+2*R43 -> 11070239 | V43: =+IF(OR(N43<T43,N43>U43),"Valeur aberrante","") | W43: =+IF(OR(O43<T43,O43>U43),"Valeur aberrante","") | X43: =+IF(OR(P43<T43,P43>U43),"Valeur aberrante","") | Z43: =_xlfn.T.TEST(B43:D43,N43:P43,2,1) -> 0.50174623 | AA43: =IF(Z43<0.05,"YES","NO") -> NO
A44: NaOCl 3% | B44: =7524710.0545+13026.3685+9221.1114 -> 7546957.5 | C44: 6201124.4 | D44: 6526473 | E44: =AVERAGE(B44:D44) -> 6758185 | F44: =_xlfn.STDEV.S(B44:D44) -> 702199.78 | G44: =_xlfn.CONFIDENCE.NORM(0.05, F44, 3) -> 794599.25 | H44: =E44-2*F44 -> 5353785.4 | I44: =E44+2*F44 -> 8162584.5 | J44: =+IF(OR(B44<H44,B44>I44),"Valeur aberrante","") | K44: =+IF(OR(C44<H44,C44>I44),"Valeur aberrante","") | L44: =+IF(OR(D44<H44,D44>I44),"Valeur aberrante","") | N44: 7570067.8 | O44: 12814621 | P44: 6651672.8 | Q44: =AVERAGE(N44:P44) -> 9012120.5 | R44: =_xlfn.STDEV.S(N44:P44) -> 3324923.9 | S44: =_xlfn.CONFIDENCE.NORM(0.05, R44, 3) -> 3762436.5 | T44: =Q44-2*R44 -> 2362272.6 | U44: =Q44+2*R44 -> 15661968 | V44: =+IF(OR(N44<T44,N44>U44),"Valeur aberrante","") | W44: =+IF(OR(O44<T44,O44>U44),"Valeur aberrante","") | X44: =+IF(OR(P44<T44,P44>U44),"Valeur aberrante","") | Z44: =_xlfn.T.TEST(B44:D44,N44:P44,2,1) -> 0.40981179 | AA44: =IF(Z44<0.05,"YES","NO") -> NO
A45: H2O2 30% RT | B45: =567.1512+4229033.4901 -> 4229600.6 | C45: 4781579.9 | D45: 2531009.2 | E45: =AVERAGE(B45:D45) -> 3847396.6 | F45: =_xlfn.STDEV.S(B45:D45) -> 1172956.5 | G45: =_xlfn.CONFIDENCE.NORM(0.05, F45, 3) -> 1327300.9 | H45: =E45-2*F45 -> 1501483.5 | I45: =E45+2*F45 -> 6193309.6 | J45: =+IF(OR(B45<H45,B45>I45),"Valeur aberrante","") | K45: =+IF(OR(C45<H45,C45>I45),"Valeur aberrante","") | L45: =+IF(OR(D45<H45,D45>I45),"Valeur aberrante","") | N45: 4152592.1 | O45: 4581624.3 | P45: 2484706.9 | Q45: =AVERAGE(N45:P45) -> 3739641.1 | R45: =_xlfn.STDEV.S(N45:P45) -> 1107773.4 | S45: =_xlfn.CONFIDENCE.NORM(0.05, R45, 3) -> 1253540.6 | T45: =Q45-2*R45 -> 1524094.2 | U45: =Q45+2*R45 -> 5955188 | V45: =+IF(OR(N45<T45,N45>U45),"Valeur aberrante","") | W45: =+IF(OR(O45<T45,O45>U45),"Valeur aberrante","") | X45: =+IF(OR(P45<T45,P45>U45),"Valeur aberrante","") | Z45: =_xlfn.T.TEST(B45:D45,N45:P45,2,1) -> 0.14861877 | AA45: =IF(Z45<0.05,"YES","NO") -> NO
A46: CWPO | B46: 2830438.7 | C46: 8393482.6 | D46: 3064116.9 | E46: =AVERAGE(B46:D46) -> 4762679.4 | F46: =_xlfn.STDEV.S(B46:D46) -> 3146537.8 | G46: =_xlfn.CONFIDENCE.NORM(0.05, F46, 3) -> 3560577.3 | H46: =E46-2*F46 -> -1530396.3 | I46: =E46+2*F46 -> 11055755 | J46: =+IF(OR(B46<H46,B46>I46),"Valeur aberrante","") | K46: =+IF(OR(C46<H46,C46>I46),"Valeur aberrante","") | L46: =+IF(OR(D46<H46,D46>I46),"Valeur aberrante","") | N46: 2793449.8 | O46: 8550955.7 | P46: 3091009.2 | Q46: =AVERAGE(N46:P46) -> 4811804.9 | R46: =_xlfn.STDEV.S(N46:P46) -> 3241615.6 | S46: =_xlfn.CONFIDENCE.NORM(0.05, R46, 3) -> 3668166 | T46: =Q46-2*R46 -> -1671426.3 | U46: =Q46+2*R46 -> 11295036 | V46: =+IF(OR(N46<T46,N46>U46),"Valeur aberrante","") | W46: =+IF(OR(O46<T46,O46>U46),"Valeur aberrante","") | X46: =+IF(OR(P46<T46,P46>U46),"Valeur aberrante","") | Z46: =_xlfn.T.TEST(B46:D46,N46:P46,2,1) -> 0.48110524 | AA46: =IF(Z46<0.05,"YES","NO") -> NO
A47: KOH | B47: 6887975.5 | C47: 1187910 | D47: =8889438.605+166015.7775 -> 9055454.4 | E47: =AVERAGE(B47:D47) -> 5710446.6 | F47: =_xlfn.STDEV.S(B47:D47) -> 4063802.9 | G47: =_xlfn.CONFIDENCE.NORM(0.05, F47, 3) -> 4598541.4 | H47: =E47-2*F47 -> -2417159.2 | I47: =E47+2*F47 -> 13838052 | J47: =+IF(OR(B47<H47,B47>I47),"Valeur aberrante","") | K47: =+IF(OR(C47<H47,C47>I47),"Valeur aberrante","") | L47: =+IF(OR(D47<H47,D47>I47),"Valeur aberrante","") | N47: 7035900 | O47: 12151125 | P47: 8976779.9 | Q47: =AVERAGE(N47:P47) -> 9387934.9 | R47: =_xlfn.STDEV.S(N47:P47) -> 2582279.6 | S47: =_xlfn.CONFIDENCE.NORM(0.05, R47, 3) -> 2922070.7 | T47: =Q47-2*R47 -> 4223375.8 | U47: =Q47+2*R47 -> 14552494 | V47: =+IF(OR(N47<T47,N47>U47),"Valeur aberrante","") | W47: =+IF(OR(O47<T47,O47>U47),"Valeur aberrante","") | X47: =+IF(OR(P47<T47,P47>U47),"Valeur aberrante","") | Z47: =_xlfn.T.TEST(B47:D47,N47:P47,2,1) -> 0.41907069 | AA47: =IF(Z47<0.05,"YES","NO") -> NO
A48: H2O2 40°C | B48: =6437803.668+1364.7075 -> 6439168.4 | C48: =4714142.6869 -> 4714142.7 | D48: 4784682.1 | E48: =AVERAGE(B48:D48) -> 5312664.4 | F48: =_xlfn.STDEV.S(B48:D48) -> 976218.4 | G48: =_xlfn.CONFIDENCE.NORM(0.05, F48, 3) -> 1104674.8 | H48: =E48-2*F48 -> 3360227.6 | I48: =E48+2*F48 -> 7265101.2 | J48: =+IF(OR(B48<H48,B48>I48),"Valeur aberrante","") | K48: =+IF(OR(C48<H48,C48>I48),"Valeur aberrante","") | L48: =+IF(OR(D48<H48,D48>I48),"Valeur aberrante","") | N48: 6453187.6 | O48: 4692449.2 | P48: 4571681.4 | Q48: =AVERAGE(N48:P48) -> 5239106.1 | R48: =_xlfn.STDEV.S(N48:P48) -> 1053158 | S48: =_xlfn.CONFIDENCE.NORM(0.05, R48, 3) -> 1191738.6 | T48: =Q48-2*R48 -> 3132790.1 | U48: =Q48+2*R48 -> 7345422.1 | V48: =+IF(OR(N48<T48,N48>U48),"Valeur aberrante","") | W48: =+IF(OR(O48<T48,O48>U48),"Valeur aberrante","") | X48: =+IF(OR(P48<T48,P48>U48),"Valeur aberrante","") | Z48: =_xlfn.T.TEST(B48:D48,N48:P48,2,1) -> 0.40619816 | AA48: =IF(Z48<0.05,"YES","NO") -> NO
A49: NaOH 40°C | B49: =7728409.2943 -> 7728409.3 | C49: 11175997 | D49: 7228217.4 | E49: =AVERAGE(B49:D49) -> 8710874.6 | F49: =_xlfn.STDEV.S(B49:D49) -> 2149458 | G49: =_xlfn.CONFIDENCE.NORM(0.05, F49, 3) -> 2432296 | H49: =E49-2*F49 -> 4411958.6 | I49: =E49+2*F49 -> 13009791 | J49: =+IF(OR(B49<H49,B49>I49),"Valeur aberrante","") | K49: =+IF(OR(C49<H49,C49>I49),"Valeur aberrante","") | L49: =+IF(OR(D49<H49,D49>I49),"Valeur aberrante","") | N49: 7204857.9 | O49: 11020864 | P49: 10576001 | Q49: =AVERAGE(N49:P49) -> 9600574 | R49: =_xlfn.STDEV.S(N49:P49) -> 2086640.2 | S49: =_xlfn.CONFIDENCE.NORM(0.05, R49, 3) -> 2361212.3 | T49: =Q49-2*R49 -> 5427293.5 | U49: =Q49+2*R49 -> 13773854 | V49: =+IF(OR(N49<T49,N49>U49),"Valeur aberrante","") | W49: =+IF(OR(O49<T49,O49>U49),"Valeur aberrante","") | X49: =+IF(OR(P49<T49,P49>U49),"Valeur aberrante","") | Z49: =_xlfn.T.TEST(B49:D49,N49:P49,2,1) -> 0.54569758 | AA49: =IF(Z49<0.05,"YES","NO") -> NO | AB49: NO
A50: Enzymatic | B50: 1047187.2 | C50: 621366.3 | D50: 588140.81 | E50: =AVERAGE(B50:D50) -> 752231.45 | F50: =_xlfn.STDEV.S(B50:D50) -> 255978.85 | G50: =_xlfn.CONFIDENCE.NORM(0.05, F50, 3) -> 289662.01 | H50: =E50-2*F50 -> 240273.75 | I50: =E50+2*F50 -> 1264189.1 | J50: =+IF(OR(B50<H50,B50>I50),"Valeur aberrante","") | K50: =+IF(OR(C50<H50,C50>I50),"Valeur aberrante","") | L50: =+IF(OR(D50<H50,D50>I50),"Valeur aberrante","") | N50: 719823 | O50: 409397 | P50: 414335 | Q50: =AVERAGE(N50:P50) -> 514518.33 | R50: =_xlfn.STDEV.S(N50:P50) -> 177816.2 | S50: =_xlfn.CONFIDENCE.NORM(0.05, R50, 3) -> 201214.27 | T50: =Q50-2*R50 -> 158885.94 | U50: =Q50+2*R50 -> 870150.73 | V50: =+IF(OR(N50<T50,N50>U50),"Valeur aberrante","") | W50: =+IF(OR(O50<T50,O50>U50),"Valeur aberrante","") | X50: =+IF(OR(P50<T50,P50>U50),"Valeur aberrante","") | Z50: =_xlfn.T.TEST(B50:D50,N50:P50,2,1) -> 0.035699589 | AA50: =IF(Z50<0.05,"YES","NO") -> YES
A51: ASTM protocol | B51: 915339.33 | C51: 906886.01 | D51: 933525.22 | E51: =AVERAGE(B51:D51) -> 918583.52 | F51: =_xlfn.STDEV.S(B51:D51) -> 13612.693 | G51: =_xlfn.CONFIDENCE.NORM(0.05, F51, 3) -> 15403.929 | H51: =E51-2*F51 -> 891358.14 | I51: =E51+2*F51 -> 945808.91 | J51: =+IF(OR(B51<H51,B51>I51),"Valeur aberrante","") | K51: =+IF(OR(C51<H51,C51>I51),"Valeur aberrante","") | L51: =+IF(OR(D51<H51,D51>I51),"Valeur aberrante","") | N51: 1030226.8 | O51: 943933.47 | P51: 1071032.7 | Q51: =AVERAGE(N51:P51) -> 1015064.3 | R51: =_xlfn.STDEV.S(N51:P51) -> 64892.052 | S51: =_xlfn.CONFIDENCE.NORM(0.05, R51, 3) -> 73430.92 | T51: =Q51-2*R51 -> 885280.23 | U51: =Q51+2*R51 -> 1144848.4 | V51: =+IF(OR(N51<T51,N51>U51),"Valeur aberrante","") | W51: =+IF(OR(O51<T51,O51>U51),"Valeur aberrante","") | X51: =+IF(OR(P51<T51,P51>U51),"Valeur aberrante","") | Z51: =_xlfn.T.TEST(B51:D51,N51:P51,2,1) -> 0.086709103 | AA51: =IF(Z51<0.05,"YES","NO") -> NO
A52: Blank | B52: 1584868.5 | C52: 3288679.1 | D52: 2508420.9 | E52: =AVERAGE(B52:D52) -> 2460656.2 | F52: =_xlfn.STDEV.S(B52:D52) -> 852909.03 | G52: =_xlfn.CONFIDENCE.NORM(0.05, F52, 3) -> 965139.7 | H52: =E52-2*F52 -> 754838.12 | I52: =E52+2*F52 -> 4166474.3 | J52: =+IF(OR(B52<H52,B52>I52),"Valeur aberrante","") | K52: =+IF(OR(C52<H52,C52>I52),"Valeur aberrante","") | L52: =+IF(OR(D52<H52,D52>I52),"Valeur aberrante","") | N52: 2655508.1 | O52: 3518038.6 | P52: 2596187.6 | Q52: =AVERAGE(N52:P52) -> 2923244.8 | R52: =_xlfn.STDEV.S(N52:P52) -> 515959.82 | S52: =_xlfn.CONFIDENCE.NORM(0.05, R52, 3) -> 583852.77 | T52: =Q52-2*R52 -> 1891325.1 | U52: =Q52+2*R52 -> 3955164.4 | V52: =+IF(OR(N52<T52,N52>U52),"Valeur aberrante","") | W52: =+IF(OR(O52<T52,O52>U52),"Valeur aberrante","") | X52: =+IF(OR(P52<T52,P52>U52),"Valeur aberrante","") | Z52: =_xlfn.T.TEST(B52:D52,N52:P52,2,1) -> 0.27057971 | AA52: =IF(Z52<0.05,"YES","NO") -> NO
A53: Microplastic type | B53: PVC BEFORE | N53: PVC AFTER | W53: =+IF(OR(O53<T53,O53>U53),"Valeur aberrante","") | X53: =+IF(OR(P53<T53,P53>U53),"Valeur aberrante","")
A54: Measured parameter | B54: Particle area (µm2) | N54: Particle area (µm2)² | W54: =+IF(OR(O54<T54,O54>U54),"Valeur aberrante","") | X54: =+IF(OR(P54<T54,P54>U54),"Valeur aberrante","")
A55: N° Replicate | B55: 1 | C55: 2 | D55: 3 | E55: Mean | F55: Standard deviation | G55: 95% confidence interval (mean ± indicated value) | H55: Mean-2*standard deviation | I55: Mean+2*standard deviation | J55: Outliers Replicate 1 | K55: Outliers Replicate 2 | L55: Outliers Replicate 3 | M55: Normality Shapiro-Wilk test | N55: 1 | O55: 2 | P55: 3 | Q55: Mean | R55: Standard deviation | S55: 95% confidence interval (mean ± indicated value) | T55: Mean-2*standard deviation | U55: Mean+2*standard deviation | V55: Outliers Replicate 1 | W55: Outliers Replicate 2 | X55: Outliers Replicate 3
A56: NaOH 10M RT | B56: 1746577.4 | C56: 421047.57 | D56: 1147594.9 | E56: =AVERAGE(B56:D56) -> 1105073.3 | F56: =_xlfn.STDEV.S(B56:D56) -> 663787.18 | G56: =_xlfn.CONFIDENCE.NORM(0.05, F56, 3) -> 751132.1 | H56: =E56-2*F56 -> -222501.06 | I56: =E56+2*F56 -> 2432647.7 | J56: =+IF(OR(B56<H56,B56>I56),"Valeur aberrante","") | K56: =+IF(OR(C56<H56,C56>I56),"Valeur aberrante","") | L56: =+IF(OR(D56<H56,D56>I56),"Valeur aberrante","") | N56: 1540666.1 | P56: 1122321.2 | Q56: =AVERAGE(N56:P56) -> 1331493.7 | R56: =_xlfn.STDEV.S(N56:P56) -> 295814.5 | S56: =_xlfn.CONFIDENCE.NORM(0.05, R56, 3) -> 334739.46 | T56: =Q56-2*R56 -> 739864.69 | U56: =Q56+2*R56 -> 1923122.7 | V56: =+IF(OR(N56<T56,N56>U56),"Valeur aberrante","") | X56: =+IF(OR(P56<T56,P56>U56),"Valeur aberrante","") | Z56: =_xlfn.T.TEST(B56:D56,N56:P56,2,1) -> 0.42224981 | AA56: =IF(Z56<0.05,"YES","NO") -> NO
A57: NaOCl 3% | B57: 1409813.7 | C57: 1275642.2 | D57: 1361056.4 | E57: =AVERAGE(B57:D57) -> 1348837.4 | F57: =_xlfn.STDEV.S(B57:D57) -> 67915.213 | G57: =_xlfn.CONFIDENCE.NORM(0.05, F57, 3) -> 76851.886 | H57: =E57-2*F57 -> 1213007 | I57: =E57+2*F57 -> 1484667.9 | J57: =+IF(OR(B57<H57,B57>I57),"Valeur aberrante","") | K57: =+IF(OR(C57<H57,C57>I57),"Valeur aberrante","") | L57: =+IF(OR(D57<H57,D57>I57),"Valeur aberrante","") | M57: NO | N57: 1273165.7 | O57: 1279971.5 | P57: 1226942.9 | Q57: =AVERAGE(N57:P57) -> 1260026.7 | R57: =_xlfn.STDEV.S(N57:P57) -> 28852.799 | S57: =_xlfn.CONFIDENCE.NORM(0.05, R57, 3) -> 32649.416 | T57: =Q57-2*R57 -> 1202321.1 | U57: =Q57+2*R57 -> 1317732.3 | V57: =+IF(OR(N57<T57,N57>U57),"Valeur aberrante","") | W57: =+IF(OR(O57<T57,O57>U57),"Valeur aberrante","") | X57: =+IF(OR(P57<T57,P57>U57),"Valeur aberrante","") | Z57: =_xlfn.T.TEST(B57:D57,N57:P57,2,1) -> 0.19679929 | AA57: =IF(Z57<0.05,"YES","NO") -> NO
A58: H2O2 30% RT | B58: 2623783 | C58: 2611039.9 | D58: 1687770.9 | E58: =AVERAGE(B58:D58) -> 2307531.3 | F58: =_xlfn.STDEV.S(B58:D58) -> 536766.01 | G58: =_xlfn.CONFIDENCE.NORM(0.05, F58, 3) -> 607396.76 | H58: =E58-2*F58 -> 1233999.3 | I58: =E58+2*F58 -> 3381063.3 | J58: =+IF(OR(B58<H58,B58>I58),"Valeur aberrante","") | K58: =+IF(OR(C58<H58,C58>I58),"Valeur aberrante","") | L58: =+IF(OR(D58<H58,D58>I58),"Valeur aberrante","") | N58: 2393838.7 | O58: 1920905.5 | P58: 1191230.1 | Q58: =AVERAGE(N58:P58) -> 1835324.8 | R58: =_xlfn.STDEV.S(N58:P58) -> 605854.68 | S58: =_xlfn.CONFIDENCE.NORM(0.05, R58, 3) -> 685576.52 | T58: =Q58-2*R58 -> 623615.41 | U58: =Q58+2*R58 -> 3047034.1 | V58: =+IF(OR(N58<T58,N58>U58),"Valeur aberrante","") | W58: =+IF(OR(O58<T58,O58>U58),"Valeur aberrante","") | X58: =+IF(OR(P58<T58,P58>U58),"Valeur aberrante","") | Z58: =_xlfn.T.TEST(B58:D58,N58:P58,2,1) -> 0.071371156 | AA58: =IF(Z58<0.05,"YES","NO") -> NO
A59: CWPO | B59: 2297635.7 | C59: 844344.97 | D59: 1276406.6 | E59: =AVERAGE(B59:D59) -> 1472795.8 | F59: =_xlfn.STDEV.S(B59:D59) -> 746284.12 | G59: =_xlfn.CONFIDENCE.NORM(0.05, F59, 3) -> 844484.46 | H59: =E59-2*F59 -> -19772.484 | I59: =E59+2*F59 -> 2965364 | J59: =+IF(OR(B59<H59,B59>I59),"Valeur aberrante","") | K59: =+IF(OR(C59<H59,C59>I59),"Valeur aberrante","") | L59: =+IF(OR(D59<H59,D59>I59),"Valeur aberrante","") | N59: 2103191.4 | O59: 952743.05 | P59: 1050845.3 | Q59: =AVERAGE(N59:P59) -> 1368926.6 | R59: =_xlfn.STDEV.S(N59:P59) -> 637781.04 | S59: =_xlfn.CONFIDENCE.NORM(0.05, R59, 3) -> 721703.92 | T59: =Q59-2*R59 -> 93364.534 | U59: =Q59+2*R59 -> 2644488.7 | V59: =+IF(OR(N59<T59,N59>U59),"Valeur aberrante","") | W59: =+IF(OR(O59<T59,O59>U59),"Valeur aberrante","") | X59: =+IF(OR(P59<T59,P59>U59),"Valeur aberrante","") | Z59: =_xlfn.T.TEST(B59:D59,N59:P59,2,1) -> 0.43232313 | AA59: =IF(Z59<0.05,"YES","NO") -> NO
A60: KOH | B60: 1125262.4 | C60: 705378.32 | D60: 1872839.5 | E60: =AVERAGE(B60:D60) -> 1234493.4 | F60: =_xlfn.STDEV.S(B60:D60) -> 591345.87 | G60: =_xlfn.CONFIDENCE.NORM(0.05, F60, 3) -> 669158.55 | H60: =E60-2*F60 -> 51801.651 | I60: =E60+2*F60 -> 2417185.1 | J60: =+IF(OR(B60<H60,B60>I60),"Valeur aberrante","") | K60: =+IF(OR(C60<H60,C60>I60),"Valeur aberrante","") | L60: =+IF(OR(D60<H60,D60>I60),"Valeur aberrante","") | N60: 1148622.9 | O60: 615032.75 | P60: 1724121.8 | Q60: =AVERAGE(N60:P60) -> 1162592.5 | R60: =_xlfn.STDEV.S(N60:P60) -> 554676.47 | S60: =_xlfn.CONFIDENCE.NORM(0.05, R60, 3) -> 627663.98 | T60: =Q60-2*R60 -> 53239.537 | U60: =Q60+2*R60 -> 2271945.4 | V60: =+IF(OR(N60<T60,N60>U60),"Valeur aberrante","") | W60: =+IF(OR(O60<T60,O60>U60),"Valeur aberrante","") | X60: =+IF(OR(P60<T60,P60>U60),"Valeur aberrante","") | Z60: =_xlfn.T.TEST(B60:D60,N60:P60,2,1) -> 0.29067765 | AA60: =IF(Z60<0.05,"YES","NO") -> NO
A61: H2O2 40°C | B61: 1791985 | C61: 636055.35 | D61: 2366526.8 | E61: =AVERAGE(B61:D61) -> 1598189 | F61: =_xlfn.STDEV.S(B61:D61) -> 881362.88 | G61: =_xlfn.CONFIDENCE.NORM(0.05, F61, 3) -> 997337.66 | H61: =E61-2*F61 -> -164536.7 | I61: =E61+2*F61 -> 3360914.8 | J61: =+IF(OR(B61<H61,B61>I61),"Valeur aberrante","") | K61: =+IF(OR(C61<H61,C61>I61),"Valeur aberrante","") | L61: =+IF(OR(D61<H61,D61>I61),"Valeur aberrante","") | N61: 1434803.8 | O61: 664984.73 | P61: 2123573.4 | Q61: =AVERAGE(N61:P61) -> 1407787.3 | R61: =_xlfn.STDEV.S(N61:P61) -> 729669.56 | S61: =_xlfn.CONFIDENCE.NORM(0.05, R61, 3) -> 825683.67 | T61: =Q61-2*R61 -> -51551.803 | U61: =Q61+2*R61 -> 2867126.5 | V61: =+IF(OR(N61<T61,N61>U61),"Valeur aberrante","") | W61: =+IF(OR(O61<T61,O61>U61),"Valeur aberrante","") | X61: =+IF(OR(P61<T61,P61>U61),"Valeur aberrante","") | Z61: =_xlfn.T.TEST(B61:D61,N61:P61,2,1) -> 0.23827456 | AA61: =IF(Z61<0.05,"YES","NO") -> NO
A62: NaOH 40°C | B62: 1061167.3 | C62: 1288567.4 | D62: 353349.88 | E62: =AVERAGE(B62:D62) -> 901028.22 | F62: =_xlfn.STDEV.S(B62:D62) -> 487741.09 | G62: =_xlfn.CONFIDENCE.NORM(0.05, F62, 3) -> 551920.85 | H62: =E62-2*F62 -> -74453.955 | I62: =E62+2*F62 -> 1876510.4 | J62: =+IF(OR(B62<H62,B62>I62),"Valeur aberrante","") | K62: =+IF(OR(C62<H62,C62>I62),"Valeur aberrante","") | L62: =+IF(OR(D62<H62,D62>I62),"Valeur aberrante","") | N62: 982273.52 | O62: 1240465.9 | P62: 319138.13 | Q62: =AVERAGE(N62:P62) -> 847292.52 | R62: =_xlfn.STDEV.S(N62:P62) -> 475264.27 | S62: =_xlfn.CONFIDENCE.NORM(0.05, R62, 3) -> 537802.27 | T62: =Q62-2*R62 -> -103236.02 | U62: =Q62+2*R62 -> 1797821.1 | V62: =+IF(OR(N62<T62,N62>U62),"Valeur aberrante","") | W62: =+IF(OR(O62<T62,O62>U62),"Valeur aberrante","") | X62: =+IF(OR(P62<T62,P62>U62),"Valeur aberrante","") | Z62: =_xlfn.T.TEST(B62:D62,N62:P62,2,1) -> 0.055397911 | AA62: =IF(Z62<0.05,"YES","NO") -> NO
A63: Enzymatic | B63: 1016693.9 | C63: 967120.27 | D63: 1060622.4 | E63: =AVERAGE(B63:D63) -> 1014812.2 | F63: =_xlfn.STDEV.S(B63:D63) -> 46779.438 | G63: =_xlfn.CONFIDENCE.NORM(0.05, F63, 3) -> 52934.944 | H63: =E63-2*F63 -> 921253.29 | I63: =E63+2*F63 -> 1108371 | J63: =+IF(OR(B63<H63,B63>I63),"Valeur aberrante","") | K63: =+IF(OR(C63<H63,C63>I63),"Valeur aberrante","") | L63: =+IF(OR(D63<H63,D63>I63),"Valeur aberrante","") | N63: 749715 | O63: 800654 | P63: 715753 | Q63: =AVERAGE(N63:P63) -> 755374 | R63: =_xlfn.STDEV.S(N63:P63) -> 42732.46 | S63: =_xlfn.CONFIDENCE.NORM(0.05, R63, 3) -> 48355.442 | T63: =Q63-2*R63 -> 669909.08 | U63: =Q63+2*R63 -> 840838.92 | V63: =+IF(OR(N63<T63,N63>U63),"Valeur aberrante","") | W63: =+IF(OR(O63<T63,O63>U63),"Valeur aberrante","") | X63: =+IF(OR(P63<T63,P63>U63),"Valeur aberrante","") | Z63: =_xlfn.T.TEST(B63:D63,N63:P63,2,1) -> 0.037407774 | AA63: =IF(Z63<0.05,"YES","NO") -> YES
A64: ASTM protocol | B64: 7635899.6 | C64: 13441194 | D64: 3404575.7 | E64: =AVERAGE(B64:D64) -> 8160556.3 | F64: =_xlfn.STDEV.S(B64:D64) -> 5038836.5 | G64: =_xlfn.CONFIDENCE.NORM(0.05, F64, 3) -> 5701875.5 | H64: =E64-2*F64 -> -1917116.7 | I64: =E64+2*F64 -> 18238229 | N64: 7809337.6 | O64: 15530099 | P64: 1059832.1 | Q64: =AVERAGE(N64:P64) -> 8133089.5 | R64: =_xlfn.STDEV.S(N64:P64) -> 7240563.9 | S64: =_xlfn.CONFIDENCE.NORM(0.05, R64, 3) -> 8193318.8 | T64: =Q64-2*R64 -> -6348038.3 | U64: =Q64+2*R64 -> 22614217 | Z64: =_xlfn.T.TEST(B64:D64,N64:P64,2,1) -> 0.98487345 | AA64: =IF(Z64<0.05,"YES","NO") -> NO
A65: Blank | B65: 1918512.9 | C65: 696392 | D65: 1407988.2 | E65: =AVERAGE(B65:D65) -> 1340964.3 | F65: =_xlfn.STDEV.S(B65:D65) -> 613811.04 | G65: =_xlfn.CONFIDENCE.NORM(0.05, F65, 3) -> 694579.81 | H65: =E65-2*F65 -> 113342.27 | I65: =E65+2*F65 -> 2568586.4 | J65: =+IF(OR(B65<H65,B65>I65),"Valeur aberrante","") | K65: =+IF(OR(C65<H65,C65>I65),"Valeur aberrante","") | L65: =+IF(OR(D65<H65,D65>I65),"Valeur aberrante","") | N65: 1952683.7 | O65: 783352 | P65: 1448202.8 | Q65: =AVERAGE(N65:P65) -> 1394746.2 | R65: =_xlfn.STDEV.S(N65:P65) -> 586495.84 | S65: =_xlfn.CONFIDENCE.NORM(0.05, R65, 3) -> 663670.32 | T65: =Q65-2*R65 -> 221754.48 | U65: =Q65+2*R65 -> 2567737.8 | V65: =+IF(OR(N65<T65,N65>U65),"Valeur aberrante","") | W65: =+IF(OR(O65<T65,O65>U65),"Valeur aberrante","") | X65: =+IF(OR(P65<T65,P65>U65),"Valeur aberrante","") | Z65: =_xlfn.T.TEST(B65:D65,N65:P65,2,1) -> 0.08422057 | AA65: =IF(Z65<0.05,"YES","NO") -> NO
A66: Microplastic type | B66: PET BEFORE | N66: PET AFTER | W66: =+IF(OR(O66<T66,O66>U66),"Valeur aberrante","") | X66: =+IF(OR(P66<T66,P66>U66),"Valeur aberrante","")
A67: Measured parameter | B67: Particle area (µm2) | N67: Particle area (µm2)² | W67: =+IF(OR(O67<T67,O67>U67),"Valeur aberrante","") | X67: =+IF(OR(P67<T67,P67>U67),"Valeur aberrante","")
A68: N° Replicate | B68: 1 | C68: 2 | D68: 3 | E68: Mean | F68: Standard deviation | G68: 95% confidence interval (mean ± indicated value) | H68: Mean-2*standard deviation | I68: Mean+2*standard deviation | J68: Outliers Replicate 1 | K68: Outliers Replicate 2 | L68: Outliers Replicate 3 | M68: Normality Shapiro-Wilk test | N68: 1 | O68: 2 | P68: 3 | Q68: Mean | R68: Standard deviation | S68: 95% confidence interval (mean ± indicated value) | T68: Mean-2*standard deviation | U68: Mean+2*standard deviation | V68: Outliers Replicate 1 | W68: Outliers Replicate 2 | X68: Outliers Replicate 3
A69: NaOH 10M RT | B69: 3987931.5 | C69: 2301662.4 | D69: 4141168.3 | E69: =AVERAGE(B69:D69) -> 3476920.8 | F69: =_xlfn.STDEV.S(B69:D69) -> 1020683.4 | G69: =_xlfn.CONFIDENCE.NORM(0.05, F69, 3) -> 1154990.7 | H69: =E69-2*F69 -> 1435554 | I69: =E69+2*F69 -> 5518287.5 | J69: =+IF(OR(B69<H69,B69>I69),"Valeur aberrante","") | K69: =+IF(OR(C69<H69,C69>I69),"Valeur aberrante","") | L69: =+IF(OR(D69<H69,D69>I69),"Valeur aberrante","") | N69: 3800215.5 | O69: 2251307.3 | P69: 3253335.4 | Q69: =AVERAGE(N69:P69) -> 3101619.4 | R69: =_xlfn.STDEV.S(N69:P69) -> 785520.51 | S69: =_xlfn.CONFIDENCE.NORM(0.05, R69, 3) -> 888883.8 | T69: =Q69-2*R69 -> 1530578.4 | U69: =Q69+2*R69 -> 4672660.4 | V69: =+IF(OR(N69<T69,N69>U69),"Valeur aberrante","") | W69: =+IF(OR(O69<T69,O69>U69),"Valeur aberrante","") | X69: =+IF(OR(P69<T69,P69>U69),"Valeur aberrante","") | Z69: =_xlfn.T.TEST(B69:D69,N69:P69,2,1) -> 0.28477051 | AA69: =IF(Z69<0.05,"YES","NO") -> NO
A70: NaOCl 3% | B70: 1437179.4 | C70: 5097702.9 | D70: 1896656.7 | E70: =AVERAGE(B70:D70) -> 2810513 | F70: =_xlfn.STDEV.S(B70:D70) -> 1994043.1 | G70: =_xlfn.CONFIDENCE.NORM(0.05, F70, 3) -> 2256430.8 | H70: =E70-2*F70 -> -1177573.3 | I70: =E70+2*F70 -> 6798599.3 | J70: =+IF(OR(B70<H70,B70>I70),"Valeur aberrante","") | K70: =+IF(OR(C70<H70,C70>I70),"Valeur aberrante","") | L70: =+IF(OR(D70<H70,D70>I70),"Valeur aberrante","") | N70: 1350468.5 | O70: 4998855.7 | P70: 2903934.9 | Q70: =AVERAGE(N70:P70) -> 3084419.7 | R70: =_xlfn.STDEV.S(N70:P70) -> 1830877.7 | S70: =_xlfn.CONFIDENCE.NORM(0.05, R70, 3) -> 2071795.1 | T70: =Q70-2*R70 -> -577335.76 | U70: =Q70+2*R70 -> 6746175.2 | V70: =+IF(OR(N70<T70,N70>U70),"Valeur aberrante","") | W70: =+IF(OR(O70<T70,O70>U70),"Valeur aberrante","") | X70: =+IF(OR(P70<T70,P70>U70),"Valeur aberrante","") | Z70: =_xlfn.T.TEST(B70:D70,N70:P70,2,1) -> 0.5329701 | AA70: =IF(Z70<0.05,"YES","NO") -> NO
A71: H2O2 30% RT | B71: 3170457 | C71: 2953599.9 | D71: 5504553.9 | E71: =AVERAGE(B71:D71) -> 3876203.6 | F71: =_xlfn.STDEV.S(B71:D71) -> 1414355.1 | G71: =_xlfn.CONFIDENCE.NORM(0.05, F71, 3) -> 1600464 | H71: =E71-2*F71 -> 1047493.4 | I71: =E71+2*F71 -> 6704913.8 | J71: =+IF(OR(B71<H71,B71>I71),"Valeur aberrante","") | K71: =+IF(OR(C71<H71,C71>I71),"Valeur aberrante","") | L71: =+IF(OR(D71<H71,D71>I71),"Valeur aberrante","") | N71: 3973721.6 | O71: 4182097.1 | P71: 5389941.3 | Q71: =AVERAGE(N71:P71) -> 4515253.3 | R71: =_xlfn.STDEV.S(N71:P71) -> 764633.48 | S71: =_xlfn.CONFIDENCE.NORM(0.05, R71, 3) -> 865248.34 | T71: =Q71-2*R71 -> 2985986.4 | U71: =Q71+2*R71 -> 6044520.3 | V71: =+IF(OR(N71<T71,N71>U71),"Valeur aberrante","") | W71: =+IF(OR(O71<T71,O71>U71),"Valeur aberrante","") | X71: =+IF(OR(P71<T71,P71>U71),"Valeur aberrante","") | Z71: =_xlfn.T.TEST(B71:D71,N71:P71,2,1) -> 0.24818988 | AA71: =IF(Z71<0.05,"YES","NO") -> NO
A72: CWPO | B72: 1421228.3 | C72: 2917705.5 | D72: 804085.21 | E72: =AVERAGE(B72:D72) -> 1714339.7 | F72: =_xlfn.STDEV.S(B72:D72) -> 1086868.6 | G72: =_xlfn.CONFIDENCE.NORM(0.05, F72, 3) -> 1229885 | H72: =E72-2*F72 -> -459397.51 | I72: =E72+2*F72 -> 3888076.8 | J72: =+IF(OR(B72<H72,B72>I72),"Valeur aberrante","") | K72: =+IF(OR(C72<H72,C72>I72),"Valeur aberrante","") | L72: =+IF(OR(D72<H72,D72>I72),"Valeur aberrante","") | N72: 2332233.9 | O72: 1739842.5 | P72: 927205.1 | Q72: =AVERAGE(N72:P72) -> 1666427.2 | R72: =_xlfn.STDEV.S(N72:P72) -> 705385.6 | S72: =_xlfn.CONFIDENCE.NORM(0.05, R72, 3) -> 798204.28 | T72: =Q72-2*R72 -> 255655.97 | U72: =Q72+2*R72 -> 3077198.4 | V72: =+IF(OR(N72<T72,N72>U72),"Valeur aberrante","") | W72: =+IF(OR(O72<T72,O72>U72),"Valeur aberrante","") | X72: =+IF(OR(P72<T72,P72>U72),"Valeur aberrante","") | Z72: =_xlfn.T.TEST(B72:D72,N72:P72,2,1) -> 0.9444584 | AA72: =IF(Z72<0.05,"YES","NO") -> NO
A73: KOH | B73: 3742709.9 | C73: 2562291.9 | D73: 1144647.7 | E73: =AVERAGE(B73:D73) -> 2483216.5 | F73: =_xlfn.STDEV.S(B73:D73) -> 1300834.9 | G73: =_xlfn.CONFIDENCE.NORM(0.05, F73, 3) -> 1472006.2 | H73: =E73-2*F73 -> -118453.3 | I73: =E73+2*F73 -> 5084886.3 | J73: =+IF(OR(B73<H73,B73>I73),"Valeur aberrante","") | K73: =+IF(OR(C73<H73,C73>I73),"Valeur aberrante","") | L73: =+IF(OR(D73<H73,D73>I73),"Valeur aberrante","") | N73: 3404241.1 | O73: 2424924.3 | P73: 1358683.6 | Q73: =AVERAGE(N73:P73) -> 2395949.6 | R73: =_xlfn.STDEV.S(N73:P73) -> 1023086.5 | S73: =_xlfn.CONFIDENCE.NORM(0.05, R73, 3) -> 1157710.1 | T73: =Q73-2*R73 -> 349776.69 | U73: =Q73+2*R73 -> 4442122.6 | V73: =+IF(OR(N73<T73,N73>U73),"Valeur aberrante","") | W73: =+IF(OR(O73<T73,O73>U73),"Valeur aberrante","") | X73: =+IF(OR(P73<T73,P73>U73),"Valeur aberrante","") | Z73: =_xlfn.T.TEST(B73:D73,N73:P73,2,1) -> 0.64298245 | AA73: =IF(Z73<0.05,"YES","NO") -> NO
A74: H2O2 40°C | B74: 1626836.2 | C74: 916434.99 | D74: 1575860.1 | E74: =AVERAGE(B74:D74) -> 1373043.8 | F74: =_xlfn.STDEV.S(B74:D74) -> 396255.38 | G74: =_xlfn.CONFIDENCE.NORM(0.05, F74, 3) -> 448396.94 | H74: =E74-2*F74 -> 580533.01 | I74: =E74+2*F74 -> 2165554.5 | J74: =+IF(OR(B74<H74,B74>I74),"Valeur aberrante","") | K74: =+IF(OR(C74<H74,C74>I74),"Valeur aberrante","") | L74: =+IF(OR(D74<H74,D74>I74),"Valeur aberrante","") | N74: 1819172.3 | O74: 771970.06 | P74: 1599742.4 | Q74: =AVERAGE(N74:P74) -> 1396961.6 | R74: =_xlfn.STDEV.S(N74:P74) -> 552266.38 | S74: =_xlfn.CONFIDENCE.NORM(0.05, R74, 3) -> 624936.76 | T74: =Q74-2*R74 -> 292428.81 | U74: =Q74+2*R74 -> 2501494.3 | V74: =+IF(OR(N74<T74,N74>U74),"Valeur aberrante","") | W74: =+IF(OR(O74<T74,O74>U74),"Valeur aberrante","") | X74: =+IF(OR(P74<T74,P74>U74),"Valeur aberrante","") | Z74: =_xlfn.T.TEST(B74:D74,N74:P74,2,1) -> 0.82862383 | AA74: =IF(Z74<0.05,"YES","NO") -> NO
A75: NaOH 40°C | B75: 2835465.8 | C75: 4586628.5 | D75: 5320344.3 | E75: =AVERAGE(B75:D75) -> 4247479.5 | F75: =_xlfn.STDEV.S(B75:D75) -> 1276683.9 | G75: =_xlfn.CONFIDENCE.NORM(0.05, F75, 3) -> 1444677.3 | H75: =E75-2*F75 -> 1694111.8 | I75: =E75+2*F75 -> 6800847.3 | J75: =+IF(OR(B75<H75,B75>I75),"Valeur aberrante","") | K75: =+IF(OR(C75<H75,C75>I75),"Valeur aberrante","") | L75: =+IF(OR(D75<H75,D75>I75),"Valeur aberrante","") | N75: 3359954.1 | O75: 3007077.8 | P75: 4019147.6 | Q75: =AVERAGE(N75:P75) -> 3462059.8 | R75: =_xlfn.STDEV.S(N75:P75) -> 513702.71 | S75: =_xlfn.CONFIDENCE.NORM(0.05, R75, 3) -> 581298.66 | T75: =Q75-2*R75 -> 2434654.4 | U75: =Q75+2*R75 -> 4489465.3 | V75: =+IF(OR(N75<T75,N75>U75),"Valeur aberrante","") | W75: =+IF(OR(O75<T75,O75>U75),"Valeur aberrante","") | X75: =+IF(OR(P75<T75,P75>U75),"Valeur aberrante","") | Z75: =_xlfn.T.TEST(B75:D75,N75:P75,2,1) -> 0.35606777 | AA75: =IF(Z75<0.05,"YES","NO") -> NO
A76: Enzymatic | B76: 2860852.2 | C76: 4162464.1 | D76: 1622885.3 | E76: =AVERAGE(B76:D76) -> 2882067.2 | F76: =_xlfn.STDEV.S(B76:D76) -> 1269922.3 | G76: =_xlfn.CONFIDENCE.NORM(0.05, F76, 3) -> 1437026 | H76: =E76-2*F76 -> 342222.58 | I76: =E76+2*F76 -> 5421911.9 | J76: =+IF(OR(B76<H76,B76>I76),"Valeur aberrante","") | K76: =+IF(OR(C76<H76,C76>I76),"Valeur aberrante","") | L76: =+IF(OR(D76<H76,D76>I76),"Valeur aberrante","") | N76: 2595367.1 | O76: 2779441.7 | P76: 1355958.1 | Q76: =AVERAGE(N76:P76) -> 2243589 | R76: =_xlfn.STDEV.S(N76:P76) -> 774201.05 | S76: =_xlfn.CONFIDENCE.NORM(0.05, R76, 3) -> 876074.86 | T76: =Q76-2*R76 -> 695186.88 | U76: =Q76+2*R76 -> 3791991.1 | V76: =+IF(OR(N76<T76,N76>U76),"Valeur aberrante","") | W76: =+IF(OR(O76<T76,O76>U76),"Valeur aberrante","") | X76: =+IF(OR(P76<T76,P76>U76),"Valeur aberrante","") | Z76: =_xlfn.T.TEST(B76:D76,N76:P76,2,1) -> 0.2284654 | AA76: =IF(Z76<0.05,"YES","NO") -> NO
A77: ASTM protocol | B77: 6929544.8 | C77: 9365398.1 | D77: 15571655 | E77: =AVERAGE(B77:D77) -> 10622199 | F77: =_xlfn.STDEV.S(B77:D77) -> 4456027.5 | G77: =_xlfn.CONFIDENCE.NORM(0.05, F77, 3) -> 5042377.1 | H77: =E77-2*F77 -> 1710144.5 | I77: =E77+2*F77 -> 19534254 | N77: 6473114.4 | O77: 8553715.4 | P77: 16069170 | Q77: =AVERAGE(N77:P77) -> 10365333 | R77: =_xlfn.STDEV.S(N77:P77) -> 5048023.3 | S77: =_xlfn.CONFIDENCE.NORM(0.05, R77, 3) -> 5712271.2 | T77: =Q77-2*R77 -> 269286.56 | U77: =Q77+2*R77 -> 20461380 | Z77: =_xlfn.T.TEST(B77:D77,N77:P77,2,1) -> 0.57860155 | AA77: =IF(Z77<0.05,"YES","NO") -> NO
A78: Blank | B78: 1628184.7 | C78: 2059006.8 | D78: 2904735.2 | E78: =AVERAGE(B78:D78) -> 2197308.9 | F78: =_xlfn.STDEV.S(B78:D78) -> 649415.81 | G78: =_xlfn.CONFIDENCE.NORM(0.05, F78, 3) -> 734869.66 | H78: =E78-2*F78 -> 898477.28 | I78: =E78+2*F78 -> 3496140.5 | J78: =+IF(OR(B78<H78,B78>I78),"Valeur aberrante","") | K78: =+IF(OR(C78<H78,C78>I78),"Valeur aberrante","") | L78: =+IF(OR(D78<H78,D78>I78),"Valeur aberrante","") | N78: 1137674.6 | O78: 1728753 | P78: 2892669.8 | Q78: =AVERAGE(N78:P78) -> 1919699.2 | R78: =_xlfn.STDEV.S(N78:P78) -> 892943.08 | S78: =_xlfn.CONFIDENCE.NORM(0.05, R78, 3) -> 1010441.7 | T78: =Q78-2*R78 -> 133813 | U78: =Q78+2*R78 -> 3705585.3 | V78: =+IF(OR(N78<T78,N78>U78),"Valeur aberrante","") | W78: =+IF(OR(O78<T78,O78>U78),"Valeur aberrante","") | X78: =+IF(OR(P78<T78,P78>U78),"Valeur aberrante","") | Z78: =_xlfn.T.TEST(B78:D78,N78:P78,2,1) -> 0.18702502 | AA78: =IF(Z78<0.05,"YES","NO") -> NO
A79: Microplastic type | B79: PUR BEFORE | N79: PUR AFTER | W79: =+IF(OR(O79<T79,O79>U79),"Valeur aberrante","") | X79: =+IF(OR(P79<T79,P79>U79),"Valeur aberrante","")
A80: Measured parameter | B80: Particle area (µm2) | N80: Particle area (µm2)² | W80: =+IF(OR(O80<T80,O80>U80),"Valeur aberrante","") | X80: =+IF(OR(P80<T80,P80>U80),"Valeur aberrante","")
A81: N° Replicate | B81: 1 | C81: 2 | D81: 3 | E81: Mean | F81: Standard deviation | G81: 95% confidence interval (mean ± indicated value) | H81: Mean-2*standard deviation | I81: Mean+2*standard deviation | J81: Outliers Replicate 1 | K81: Outliers Replicate 2 | L81: Outliers Replicate 3 | M81: Normality Shapiro-Wilk test | N81: 1 | O81: 2 | P81: 3 | Q81: Mean | R81: Standard deviation | S81: 95% confidence interval (mean ± indicated value) | T81: Mean-2*standard deviation | U81: Mean+2*standard deviation | V81: Outliers Replicate 1 | W81: Outliers Replicate 2 | X81: Outliers Replicate 3
A82: NaOH 10M RT | B82: 848575.33 | C82: 1067299.5 | D82: 524098.81 | E82: =AVERAGE(B82:D82) -> 813324.56 | F82: =_xlfn.STDEV.S(B82:D82) -> 273310.66 | G82: =_xlfn.CONFIDENCE.NORM(0.05, F82, 3) -> 309274.45 | H82: =E82-2*F82 -> 266703.23 | I82: =E82+2*F82 -> 1359945.9 | J82: =+IF(OR(B82<H82,B82>I82),"Valeur aberrante","") | K82: =+IF(OR(C82<H82,C82>I82),"Valeur aberrante","") | L82: =+IF(OR(D82<H82,D82>I82),"Valeur aberrante","") | N82: 962983.51 | O82: 1238938.3 | P82: 617622.6 | Q82: =AVERAGE(N82:P82) -> 939848.12 | R82: =_xlfn.STDEV.S(N82:P82) -> 311303.26 | S82: =_xlfn.CONFIDENCE.NORM(0.05, R82, 3) -> 352266.33 | T82: =Q82-2*R82 -> 317241.6 | U82: =Q82+2*R82 -> 1562454.7 | V82: =+IF(OR(N82<T82,N82>U82),"Valeur aberrante","") | W82: =+IF(OR(O82<T82,O82>U82),"Valeur aberrante","") | X82: =+IF(OR(P82<T82,P82>U82),"Valeur aberrante","") | Z82: =_xlfn.T.TEST(B82:D82,N82:P82,2,1) -> 0.032410348 | AA82: =IF(Z82<0.05,"YES","NO") -> YES
A83: NaOCl 3% | B83: 1457692.2 | C83: 2359348.8 | D83: 659705.17 | E83: =AVERAGE(B83:D83) -> 1492248.7 | F83: =_xlfn.STDEV.S(B83:D83) -> 850348.6 | G83: =_xlfn.CONFIDENCE.NORM(0.05, F83, 3) -> 962242.34 | H83: =E83-2*F83 -> -208448.49 | I83: =E83+2*F83 -> 3192945.9 | J83: =+IF(OR(B83<H83,B83>I83),"Valeur aberrante","") | K83: =+IF(OR(C83<H83,C83>I83),"Valeur aberrante","") | L83: =+IF(OR(D83<H83,D83>I83),"Valeur aberrante","") | N83: 1789042.9 | O83: 2614939 | P83: 753701.6 | Q83: =AVERAGE(N83:P83) -> 1719227.8 | R83: =_xlfn.STDEV.S(N83:P83) -> 932580.72 | S83: =_xlfn.CONFIDENCE.NORM(0.05, R83, 3) -> 1055295 | T83: =Q83-2*R83 -> -145933.6 | U83: =Q83+2*R83 -> 3584389.3 | V83: =+IF(OR(N83<T83,N83>U83),"Valeur aberrante","") | W83: =+IF(OR(O83<T83,O83>U83),"Valeur aberrante","") | X83: =+IF(OR(P83<T83,P83>U83),"Valeur aberrante","") | Z83: =_xlfn.T.TEST(B83:D83,N83:P83,2,1) -> 0.08337699 | AA83: =IF(Z83<0.05,"YES","NO") -> NO
A84: H2O2 30% RT | B84: 210142.78 | C84: 1336970.2 | D84: 746245.55 | E84: =AVERAGE(B84:D84) -> 764452.85 | F84: =_xlfn.STDEV.S(B84:D84) -> 563634.33 | G84: =_xlfn.CONFIDENCE.NORM(0.05, F84, 3) -> 637800.56 | H84: =E84-2*F84 -> -362815.8 | I84: =E84+2*F84 -> 1891721.5 | J84: =+IF(OR(B84<H84,B84>I84),"Valeur aberrante","") | K84: =+IF(OR(C84<H84,C84>I84),"Valeur aberrante","") | L84: =+IF(OR(D84<H84,D84>I84),"Valeur aberrante","") | N84: 253228.5 | O84: 1459209 | P84: 934645.93 | Q84: =AVERAGE(N84:P84) -> 882361.15 | R84: =_xlfn.STDEV.S(N84:P84) -> 604687.97 | S84: =_xlfn.CONFIDENCE.NORM(0.05, R84, 3) -> 684256.28 | T84: =Q84-2*R84 -> -327014.78 | U84: =Q84+2*R84 -> 2091737.1 | V84: =+IF(OR(N84<T84,N84>U84),"Valeur aberrante","") | W84: =+IF(OR(O84<T84,O84>U84),"Valeur aberrante","") | X84: =+IF(OR(P84<T84,P84>U84),"Valeur aberrante","") | Z84: =_xlfn.T.TEST(B84:D84,N84:P84,2,1) -> 0.10693816 | AA84: =IF(Z84<0.05,"YES","NO") -> NO
A85: CWPO | B85: 1014084 | C85: 2248311.2 | D85: 1169310.3 | E85: =AVERAGE(B85:D85) -> 1477235.2 | F85: =_xlfn.STDEV.S(B85:D85) -> 672266.72 | G85: =_xlfn.CONFIDENCE.NORM(0.05, F85, 3) -> 760727.43 | H85: =E85-2*F85 -> 132701.72 | I85: =E85+2*F85 -> 2821768.6 | J85: =+IF(OR(B85<H85,B85>I85),"Valeur aberrante","") | K85: =+IF(OR(C85<H85,C85>I85),"Valeur aberrante","") | L85: =+IF(OR(D85<H85,D85>I85),"Valeur aberrante","") | N85: 1099227.6 | O85: 2508881.8 | P85: 1431578.1 | Q85: =AVERAGE(N85:P85) -> 1679895.8 | R85: =_xlfn.STDEV.S(N85:P85) -> 736903.99 | S85: =_xlfn.CONFIDENCE.NORM(0.05, R85, 3) -> 833870.04 | T85: =Q85-2*R85 -> 206087.83 | U85: =Q85+2*R85 -> 3153703.8 | V85: =+IF(OR(N85<T85,N85>U85),"Valeur aberrante","") | W85: =+IF(OR(O85<T85,O85>U85),"Valeur aberrante","") | X85: =+IF(OR(P85<T85,P85>U85),"Valeur aberrante","") | Z85: =_xlfn.T.TEST(B85:D85,N85:P85,2,1) -> 0.074762758 | AA85: =IF(Z85<0.05,"YES","NO") -> NO
A86: KOH | B86: 1711414.1 | C86: 1009261.9 | D86: 1419083.1 | E86: =AVERAGE(B86:D86) -> 1379919.7 | F86: =_xlfn.STDEV.S(B86:D86) -> 352710.55 | G86: =_xlfn.CONFIDENCE.NORM(0.05, F86, 3) -> 399122.23 | H86: =E86-2*F86 -> 674498.58 | I86: =E86+2*F86 -> 2085340.8 | J86: =+IF(OR(B86<H86,B86>I86),"Valeur aberrante","") | K86: =+IF(OR(C86<H86,C86>I86),"Valeur aberrante","") | L86: =+IF(OR(D86<H86,D86>I86),"Valeur aberrante","") | N86: 1704555.1 | O86: 1071667.6 | P86: 1383458.9 | Q86: =AVERAGE(N86:P86) -> 1386560.5 | R86: =_xlfn.STDEV.S(N86:P86) -> 316455.16 | S86: =_xlfn.CONFIDENCE.NORM(0.05, R86, 3) -> 358096.14 | T86: =Q86-2*R86 -> 753650.19 | U86: =Q86+2*R86 -> 2019470.8 | V86: =+IF(OR(N86<T86,N86>U86),"Valeur aberrante","") | W86: =+IF(OR(O86<T86,O86>U86),"Valeur aberrante","") | X86: =+IF(OR(P86<T86,P86>U86),"Valeur aberrante","") | Z86: =_xlfn.T.TEST(B86:D86,N86:P86,2,1) -> 0.84065478 | AA86: =IF(Z86<0.05,"YES","NO") -> NO
A87: H2O2 40°C | B87: 1318608.7 | C87: 2977614.5 | D87: 2305345.4 | E87: =AVERAGE(B87:D87) -> 2200522.9 | F87: =_xlfn.STDEV.S(B87:D87) -> 834455.42 | G87: =_xlfn.CONFIDENCE.NORM(0.05, F87, 3) -> 944257.84 | H87: =E87-2*F87 -> 531612.02 | I87: =E87+2*F87 -> 3869433.7 | J87: =+IF(OR(B87<H87,B87>I87),"Valeur aberrante","") | K87: =+IF(OR(C87<H87,C87>I87),"Valeur aberrante","") | L87: =+IF(OR(D87<H87,D87>I87),"Valeur aberrante","") | M87: NO | N87: 1291810.8 | O87: 2870157 | P87: 2328740.4 | Q87: =AVERAGE(N87:P87) -> 2163569.4 | R87: =_xlfn.STDEV.S(N87:P87) -> 802031.97 | S87: =_xlfn.CONFIDENCE.NORM(0.05, R87, 3) -> 907567.94 | T87: =Q87-2*R87 -> 559505.47 | U87: =Q87+2*R87 -> 3767633.4 | V87: =+IF(OR(N87<T87,N87>U87),"Valeur aberrante","") | W87: =+IF(OR(O87<T87,O87>U87),"Valeur aberrante","") | X87: =+IF(OR(P87<T87,P87>U87),"Valeur aberrante","") | Z87: =_xlfn.T.TEST(B87:D87,N87:P87,2,1) -> 0.43454539 | AA87: =IF(Z87<0.05,"YES","NO") -> NO | AB87: NO
A88: NaOH 40°C | B88: 3331180 | C88: 3382524.9 | D88: 1274370.9 | E88: =AVERAGE(B88:D88) -> 2662692 | F88: =_xlfn.STDEV.S(B88:D88) -> 1202595.3 | G88: =_xlfn.CONFIDENCE.NORM(0.05, F88, 3) -> 1360839.7 | H88: =E88-2*F88 -> 257501.28 | I88: =E88+2*F88 -> 5067882.7 | J88: =+IF(OR(B88<H88,B88>I88),"Valeur aberrante","") | K88: =+IF(OR(C88<H88,C88>I88),"Valeur aberrante","") | L88: =+IF(OR(D88<H88,D88>I88),"Valeur aberrante","") | N88: 3367176.4 | O88: 3409943.2 | P88: 1316357.8 | Q88: =AVERAGE(N88:P88) -> 2697825.8 | R88: =_xlfn.STDEV.S(N88:P88) -> 1196577.4 | S88: =_xlfn.CONFIDENCE.NORM(0.05, R88, 3) -> 1354030 | T88: =Q88-2*R88 -> 304670.93 | U88: =Q88+2*R88 -> 5090980.7 | V88: =+IF(OR(N88<T88,N88>U88),"Valeur aberrante","") | W88: =+IF(OR(O88<T88,O88>U88),"Valeur aberrante","") | X88: =+IF(OR(P88<T88,P88>U88),"Valeur aberrante","") | Z88: =_xlfn.T.TEST(B88:D88,N88:P88,2,1) -> 0.014172372 | AA88: =IF(Z88<0.05,"YES","NO") -> YES
A89: Enzymatic | B89: 943062.92 | D89: 2017126.3 | E89: =AVERAGE(B89:D89) -> 1480094.6 | F89: =_xlfn.STDEV.S(B89:D89) -> 759477.47 | G89: =_xlfn.CONFIDENCE.NORM(0.05, F89, 3) -> 859413.87 | H89: =E89-2*F89 -> -38860.343 | I89: =E89+2*F89 -> 2999049.5 | J89: =+IF(OR(B89<H89,B89>I89),"Valeur aberrante","") | K89: =+IF(OR(C89<H89,C89>I89),"Valeur aberrante","") | L89: =+IF(OR(D89<H89,D89>I89),"Valeur aberrante","") | N89: 662579.14 | P89: 1740333.9 | Q89: =AVERAGE(N89:P89) -> 1201456.5 | R89: =_xlfn.STDEV.S(N89:P89) -> 762087.68 | S89: =_xlfn.CONFIDENCE.NORM(0.05, R89, 3) -> 862367.55 | T89: =Q89-2*R89 -> -322718.86 | U89: =Q89+2*R89 -> 2725631.9 | V89: =+IF(OR(N89<T89,N89>U89),"Valeur aberrante","") | W89: =+IF(OR(O89<T89,O89>U89),"Valeur aberrante","") | X89: =+IF(OR(P89<T89,P89>U89),"Valeur aberrante","") | Z89: =_xlfn.T.TEST(B89:D89,N89:P89,2,1) -> 0.0042169156 | AA89: =IF(Z89<0.05,"YES","NO") -> YES
A90: ASTM protocol | B90: 1607944.4 | C90: 1755914.3 | D90: 2203181.5 | E90: =AVERAGE(B90:D90) -> 1855680.1 | F90: =_xlfn.STDEV.S(B90:D90) -> 309905.98 | G90: =_xlfn.CONFIDENCE.NORM(0.05, F90, 3) -> 350685.18 | H90: =E90-2*F90 -> 1235868.1 | I90: =E90+2*F90 -> 2475492 | N90: 1573983.1 | O90: 1653234.6 | P90: 2207693.7 | Q90: =AVERAGE(N90:P90) -> 1811637.2 | R90: =_xlfn.STDEV.S(N90:P90) -> 345276.41 | S90: =_xlfn.CONFIDENCE.NORM(0.05, R90, 3) -> 390709.86 | T90: =Q90-2*R90 -> 1121084.3 | U90: =Q90+2*R90 -> 2502190 | Z90: =_xlfn.T.TEST(B90:D90,N90:P90,2,1) -> 0.29525594 | AA90: =IF(Z90<0.05,"YES","NO") -> NO
A91: Blank | B91: 844312.42 | C91: 1128844.5 | E91: =AVERAGE(B91:D91) -> 986578.47 | F91: =_xlfn.STDEV.S(B91:D91) -> 201194.58 | G91: =_xlfn.CONFIDENCE.NORM(0.05, F91, 3) -> 227668.92 | H91: =E91-2*F91 -> 584189.31 | I91: =E91+2*F91 -> 1388967.6 | J91: =+IF(OR(B91<H91,B91>I91),"Valeur aberrante","") | K91: =+IF(OR(C91<H91,C91>I91),"Valeur aberrante","") | N91: 878686.95 | O91: 1302693 | Q91: =AVERAGE(N91:P91) -> 1090690 | R91: =_xlfn.STDEV.S(N91:P91) -> 299817.58 | S91: =_xlfn.CONFIDENCE.NORM(0.05, R91, 3) -> 339269.3 | T91: =Q91-2*R91 -> 491054.83 | U91: =Q91+2*R91 -> 1690325.2 | V91: =+IF(OR(N91<T91,N91>U91),"Valeur aberrante","") | W91: =+IF(OR(O91<T91,O91>U91),"Valeur aberrante","") | Z91: =_xlfn.T.TEST(B91:D91,N91:P91,2,1) -> 0.37572613 | AA91: =IF(Z91<0.05,"YES","NO") -> NO
A92: Microplastic type | B92: PE BEFORE | N92: PE AFTER | W92: =+IF(OR(O92<T92,O92>U92),"Valeur aberrante","") | X92: =+IF(OR(P92<T92,P92>U92),"Valeur aberrante","")
A93: Measured parameter | B93: Mean diameter (µm) | N93: Mean diameter (µm) | W93: =+IF(OR(O93<T93,O93>U93),"Valeur aberrante","") | X93: =+IF(OR(P93<T93,P93>U93),"Valeur aberrante","")
A94: N° Replicate | B94: 1 | C94: 2 | D94: 3 | E94: Mean | F94: Standard deviation | G94: 95% confidence interval (mean ± indicated value) | H94: Mean-2*standard deviation | I94: Mean+2*standard deviation | J94: Outliers Replicate 1 | K94: Outliers Replicate 2 | L94: Outliers Replicate 3 | M94: Normality Shapiro-Wilk test | N94: 1 | O94: 2 | P94: 3 | Q94: Mean | R94: Standard deviation | S94: 95% confidence interval (mean ± indicated value) | T94: Mean-2*standard deviation | U94: Mean+2*standard deviation | V94: Outliers Replicate 1 | W94: Outliers Replicate 2 | X94: Outliers Replicate 3
A95: NaOH 10M RT | B95: =AVERAGE('Raw results fibers'!T4:T9) -> 19.876667 | C95: =AVERAGE('Raw results fibers'!U4:U9) -> 21.046667 | D95: =AVERAGE('Raw results fibers'!V4:V9) -> 20.111667 | E95: =AVERAGE(B95:D95) -> 20.345 | F95: =_xlfn.STDEV.S(B95:D95) -> 0.61891706 | G95: =_xlfn.CONFIDENCE.NORM(0.05, F95, 3) -> 0.70035772 | H95: =E95-2*F95 -> 19.107166 | I95: =E95+2*F95 -> 21.582834 | J95: =+IF(OR(B95<H95,B95>I95),"Valeur aberrante","") | K95: =+IF(OR(C95<H95,C95>I95),"Valeur aberrante","") | L95: =+IF(OR(D95<H95,D95>I95),"Valeur aberrante","") | N95: =AVERAGE('Raw results fibers'!W4:W9) -> 20.146667 | O95: =AVERAGE('Raw results fibers'!X4:X9) -> 21.466667 | P95: =AVERAGE('Raw results fibers'!Y4:Y9) -> 21.391667 | Q95: =AVERAGE(N95:P95) -> 21.001667 | R95: =_xlfn.STDEV.S(N95:P95) -> 0.7414007 | S95: =_xlfn.CONFIDENCE.NORM(0.05, R95, 3) -> 0.83895846 | T95: =Q95-2*R95 -> 19.518865 | U95: =Q95+2*R95 -> 22.484468 | V95: =+IF(OR(N95<T95,N95>U95),"Valeur aberrante","") | W95: =+IF(OR(O95<T95,O95>U95),"Valeur aberrante","") | X95: =+IF(OR(P95<T95,P95>U95),"Valeur aberrante","") | Z95: =_xlfn.T.TEST(B95:D95,N95:P95,2,1) -> 0.17217391 | AA95: =IF(Z95<0.05,"YES","NO") -> NO
A96: NaOCl 3% | B96: =AVERAGE('Raw results fibers'!T10:T15) -> 19.583333 | C96: =AVERAGE('Raw results fibers'!U10:U15) -> 19.771667 | D96: =AVERAGE('Raw results fibers'!V10:V15) -> 20.696667 | E96: =AVERAGE(B96:D96) -> 20.017222 | F96: =_xlfn.STDEV.S(B96:D96) -> 0.59590345 | G96: =_xlfn.CONFIDENCE.NORM(0.05, F96, 3) -> 0.67431585 | H96: =E96-2*F96 -> 18.825415 | I96: =E96+2*F96 -> 21.209029 | J96: =+IF(OR(B96<H96,B96>I96),"Valeur aberrante","") | K96: =+IF(OR(C96<H96,C96>I96),"Valeur aberrante","") | L96: =+IF(OR(D96<H96,D96>I96),"Valeur aberrante","") | M96: NO | N96: =AVERAGE('Raw results fibers'!W10:W15) -> 18.09 | O96: =AVERAGE('Raw results fibers'!X10:X15) -> 21.361667 | P96: =AVERAGE('Raw results fibers'!Y10:Y15) -> 20.33 | Q96: =AVERAGE(N96:P96) -> 19.927222 | R96: =_xlfn.STDEV.S(N96:P96) -> 1.6726097 | S96: =_xlfn.CONFIDENCE.NORM(0.05, R96, 3) -> 1.8927013 | T96: =Q96-2*R96 -> 16.582003 | U96: =Q96+2*R96 -> 23.272442 | V96: =+IF(OR(N96<T96,N96>U96),"Valeur aberrante","") | W96: =+IF(OR(O96<T96,O96>U96),"Valeur aberrante","") | X96: =+IF(OR(P96<T96,P96>U96),"Valeur aberrante","") | Z96: =_xlfn.T.TEST(B96:D96,N96:P96,2,1) -> 0.92952521 | AA96: =IF(Z96<0.05,"YES","NO") -> NO
A97: H2O2 30% RT | B97: =AVERAGE('Raw results fibers'!T16:T21) -> 20.813333 | C97: =AVERAGE('Raw results fibers'!U16:U21) -> 20.793333 | D97: =AVERAGE('Raw results fibers'!V16:V21) -> 18.878333 | E97: =AVERAGE(B97:D97) -> 20.161667 | F97: =_xlfn.STDEV.S(B97:D97) -> 1.1114443 | G97: =_xlfn.CONFIDENCE.NORM(0.05, F97, 3) -> 1.2576945 | H97: =E97-2*F97 -> 17.938778 | I97: =E97+2*F97 -> 22.384555 | J97: =+IF(OR(B97<H97,B97>I97),"Valeur aberrante","") | K97: =+IF(OR(C97<H97,C97>I97),"Valeur aberrante","") | L97: =+IF(OR(D97<H97,D97>I97),"Valeur aberrante","") | N97: =AVERAGE('Raw results fibers'!W16:W21) -> 19.953333 | O97: =AVERAGE('Raw results fibers'!X16:X21) -> 19.58 | P97: =AVERAGE('Raw results fibers'!Y16:Y21) -> 19.34 | Q97: =AVERAGE(N97:P97) -> 19.624444 | R97: =_xlfn.STDEV.S(N97:P97) -> 0.30907269 | S97: =_xlfn.CONFIDENCE.NORM(0.05, R97, 3) -> 0.34974224 | T97: =Q97-2*R97 -> 19.006299 | U97: =Q97+2*R97 -> 20.24259 | V97: =+IF(OR(N97<T97,N97>U97),"Valeur aberrante","") | W97: =+IF(OR(O97<T97,O97>U97),"Valeur aberrante","") | X97: =+IF(OR(P97<T97,P97>U97),"Valeur aberrante","") | Z97: =_xlfn.T.TEST(B97:D97,N97:P97,2,1) -> 0.40246075 | AA97: =IF(Z97<0.05,"YES","NO") -> NO
A98: CWPO | B98: =AVERAGE('Raw results fibers'!T22:T27) -> 21.68 | C98: =AVERAGE('Raw results fibers'!U22:U27) -> 19.685 | D98: =AVERAGE('Raw results fibers'!V22:V27) -> 21.056667 | E98: =AVERAGE(B98:D98) -> 20.807222 | F98: =_xlfn.STDEV.S(B98:D98) -> 1.0206239 | G98: =_xlfn.CONFIDENCE.NORM(0.05, F98, 3) -> 1.1549234 | H98: =E98-2*F98 -> 18.765974 | I98: =E98+2*F98 -> 22.84847 | J98: =+IF(OR(B98<H98,B98>I98),"Valeur aberrante","") | K98: =+IF(OR(C98<H98,C98>I98),"Valeur aberrante","") | L98: =+IF(OR(D98<H98,D98>I98),"Valeur aberrante","") | N98: =AVERAGE('Raw results fibers'!W22:W27) -> 19.566667 | O98: =AVERAGE('Raw results fibers'!X22:X27) -> 20.3 | P98: =AVERAGE('Raw results fibers'!Y22:Y27) -> 19.765 | Q98: =AVERAGE(N98:P98) -> 19.877222 | R98: =_xlfn.STDEV.S(N98:P98) -> 0.37932811 | S98: =_xlfn.CONFIDENCE.NORM(0.05, R98, 3) -> 0.42924228 | T98: =Q98-2*R98 -> 19.118566 | U98: =Q98+2*R98 -> 20.635878 | V98: =+IF(OR(N98<T98,N98>U98),"Valeur aberrante","") | W98: =+IF(OR(O98<T98,O98>U98),"Valeur aberrante","") | X98: =+IF(OR(P98<T98,P98>U98),"Valeur aberrante","") | Z98: =_xlfn.T.TEST(B98:D98,N98:P98,2,1) -> 0.36881086 | AA98: =IF(Z98<0.05,"YES","NO") -> NO
A99: KOH | B99: =AVERAGE('Raw results fibers'!T28:T33) -> 21.11 | C99: =AVERAGE('Raw results fibers'!U28:U33) -> 19.515 | D99: =AVERAGE('Raw results fibers'!V28:V33) -> 19.858333 | E99: =AVERAGE(B99:D99) -> 20.161111 | F99: =_xlfn.STDEV.S(B99:D99) -> 0.83950106 | G99: =_xlfn.CONFIDENCE.NORM(0.05, F99, 3) -> 0.94996743 | H99: =E99-2*F99 -> 18.482109 | I99: =E99+2*F99 -> 21.840113 | J99: =+IF(OR(B99<H99,B99>I99),"Valeur aberrante","") | K99: =+IF(OR(C99<H99,C99>I99),"Valeur aberrante","") | L99: =+IF(OR(D99<H99,D99>I99),"Valeur aberrante","") | N99: =AVERAGE('Raw results fibers'!W28:W33) -> 19.968333 | O99: =AVERAGE('Raw results fibers'!X28:X33) -> 19.16 | P99: =AVERAGE('Raw results fibers'!Y28:Y33) -> 19.456667 | Q99: =AVERAGE(N99:P99) -> 19.528333 | R99: =_xlfn.STDEV.S(N99:P99) -> 0.40890436 | S99: =_xlfn.CONFIDENCE.NORM(0.05, R99, 3) -> 0.46271034 | T99: =Q99-2*R99 -> 18.710525 | U99: =Q99+2*R99 -> 20.346142 | V99: =+IF(OR(N99<T99,N99>U99),"Valeur aberrante","") | W99: =+IF(OR(O99<T99,O99>U99),"Valeur aberrante","") | X99: =+IF(OR(P99<T99,P99>U99),"Valeur aberrante","") | Z99: =_xlfn.T.TEST(B99:D99,N99:P99,2,1) -> 0.13102159 | AA99: =IF(Z99<0.05,"YES","NO") -> NO
A100: H2O2 40°C | B100: =AVERAGE('Raw results fibers'!T34:T39) -> 19.648333 | C100: =AVERAGE('Raw results fibers'!U34:U39) -> 20.62 | D100: =AVERAGE('Raw results fibers'!V34:V39) -> 20.883333 | E100: =AVERAGE(B100:D100) -> 20.383889 | F100: =_xlfn.STDEV.S(B100:D100) -> 0.6504749 | G100: =_xlfn.CONFIDENCE.NORM(0.05, F100, 3) -> 0.73606811 | H100: =E100-2*F100 -> 19.082939 | I100: =E100+2*F100 -> 21.684839 | J100: =+IF(OR(B100<H100,B100>I100),"Valeur aberrante","") | K100: =+IF(OR(C100<H100,C100>I100),"Valeur aberrante","") | L100: =+IF(OR(D100<H100,D100>I100),"Valeur aberrante","") | M100: NO | N100: =AVERAGE('Raw results fibers'!W34:W39) -> 19.938333 | O100: =AVERAGE('Raw results fibers'!X34:X39) -> 20.66 | P100: =AVERAGE('Raw results fibers'!Y34:Y39) -> 19.348333 | Q100: =AVERAGE(N100:P100) -> 19.982222 | R100: =_xlfn.STDEV.S(N100:P100) -> 0.65693381 | S100: =_xlfn.CONFIDENCE.NORM(0.05, R100, 3) -> 0.74337693 | T100: =Q100-2*R100 -> 18.668355 | U100: =Q100+2*R100 -> 21.29609 | V100: =+IF(OR(N100<T100,N100>U100),"Valeur aberrante","") | W100: =+IF(OR(O100<T100,O100>U100),"Valeur aberrante","") | X100: =+IF(OR(P100<T100,P100>U100),"Valeur aberrante","") | Z100: =_xlfn.T.TEST(B100:D100,N100:P100,2,1) -> 0.55479477 | AA100: =IF(Z100<0.05,"YES","NO") -> NO
...

Sheet CI and COI
B1: Carbonyl | D1: Reference | H1: MP | I1: Carbonyl | K1: Reference | M1: CI or COI | N1: SD
A2: MP | B2: Wavelength (cm-1) | C2: Absorbance | D2: Wavelength (cm-1) | E2: Absorbance | F2: CI | I2: Wavelength (cm-1) | J2: Absorbance | K2: Wavelength (cm-1) | L2: Absorbance | Q2: T-Test CI BEFORE/AFTER | R2: Significant variation
A3: PES BEFORE1 | B3: 1713 | C3: 0.0915 | D3: 1408 | E3: 0.0322 | F3: =C3/E3 -> 2.8416149 | H3: PES BEFORE | I3: =AVERAGE(B3:B5) -> 1713.6667 | J3: =AVERAGE(C3:C5) -> 0.10376667 | K3: =AVERAGE(D3:D5) -> 1408 | L3: =AVERAGE(E3:E5) -> 0.0351 | M3: =AVERAGE(F3:F5) -> 2.9283655 | N3: =_xlfn.STDEV.S(F3:F5) -> 0.13655708 | P3: PES | Q3: =_xlfn.T.TEST(F3:F5,F6:F8,2,1) -> 0.58874184 | R3: =IF(Q3<0.05,"YES","NO") -> NO
A4: PES BEFORE2 | B4: 1714 | C4: 0.1475 | D4: 1408 | E4: 0.0478 | F4: =C4/E4 -> 3.0857741 | H4: PES AFTER | I4: =AVERAGE(B6:B8) -> 1713 | J4: =AVERAGE(C6:C8) -> 0.0998 | K4: =AVERAGE(D6:D8) -> 1408.6667 | L4: =AVERAGE(E6:E8) -> 0.034766667 | M4: =AVERAGE(F6:F8) -> 2.8724255 | N4: =_xlfn.STDEV.S(F6:F8) -> 0.031815801 | P4: PA | Q4: =_xlfn.T.TEST(F9:F11,F12:F14,2,1) -> 0.12549708 | R4: =IF(Q4<0.05,"YES","NO") -> NO
A5: PES BEFORE3 | B5: 1714 | C5: 0.0723 | D5: 1408 | E5: 0.0253 | F5: =C5/E5 -> 2.8577075 | H5: PA BEFORE | I5: =AVERAGE(B9:B11) -> 1635.3333 | J5: =AVERAGE(C9:C11) -> 0.0921 | K5: =AVERAGE(D9:D11) -> 1461.3333 | L5: =AVERAGE(E9:E11) -> 0.048566667 | M5: =AVERAGE(F9:F11) -> 1.8987155 | N5: =_xlfn.STDEV.S(F9:F11) -> 0.036762365 | P5: PMMA | Q5: =_xlfn.T.TEST(F15:F17,F18:F20,2,1) -> 0.25356851 | R5: =IF(Q5<0.05,"YES","NO") -> NO
A6: PES AFTER1 | B6: 1713 | C6: 0.1292 | D6: 1408 | E6: 0.0453 | F6: =C6/E6 -> 2.8520971 | H6: PA AFTER | I6: =AVERAGE(B12:B14) -> 1636 | J6: =AVERAGE(C12:C14) -> 0.0955 | K6: =AVERAGE(D12:D14) -> 1461 | L6: =AVERAGE(E12:E14) -> 0.046466667 | M6: =AVERAGE(F12:F14) -> 2.0423381 | N6: =_xlfn.STDEV.S(F12:F14) -> 0.10140996 | P6: SBR | Q6: =_xlfn.T.TEST(F21:F23,F24:F26,2,1) -> 0.96665545 | R6: =IF(Q6<0.05,"YES","NO") -> NO
A7: PES AFTER2 | B7: 1713 | C7: 0.0774 | D7: 1409 | E7: 0.0271 | F7: =C7/E7 -> 2.8560886 | H7: PMMA BEFORE | I7: =AVERAGE(B15:B17) -> 1736.3333 | J7: =AVERAGE(C15:C17) -> 0.012433333 | K7: =AVERAGE(D15:D17) -> 1410 | L7: =AVERAGE(E15:E17) -> 0.0066666667 | M7: =AVERAGE(F15:F17) -> 1.8110945 | N7: =_xlfn.STDEV.S(F15:F17) -> 0.16098143 | P7: PE | Q7: =_xlfn.T.TEST(F27:F29,F30:F32,2,1) -> 0.17319478 | R7: =IF(Q7<0.05,"YES","NO") -> NO
A8: PES AFTER3 | B8: 1713 | C8: 0.0928 | D8: 1409 | E8: 0.0319 | F8: =C8/E8 -> 2.9090909 | H8: PMMA AFTER | I8: =AVERAGE(B18:B20) -> 1738.3333 | J8: =AVERAGE(C18:C20) -> 0.0097 | K8: =AVERAGE(D18:D20) -> 1411.6667 | L8: =AVERAGE(E18:E20) -> 0.0067333333 | M8: =AVERAGE(F18:F20) -> 1.3427896 | N8: =_xlfn.STDEV.S(F18:F20) -> 0.45705263 | P8: PET | Q8: =_xlfn.T.TEST(F33:F35,F36:F38,2,1) -> 0.010616546 | R8: =IF(Q8<0.05,"YES","NO") -> YES
A9: PA BEFORE1 | B9: 1635 | C9: 0.0823 | D9: 1461 | E9: 0.0424 | F9: =C9/E9 -> 1.9410377 | H9: SBR BEFORE | I9: =AVERAGE(B21:B23) -> 1730.6667 | J9: =AVERAGE(C21:C23) -> 0.1511 | K9: =AVERAGE(D21:D23) -> 1462 | L9: =AVERAGE(E21:E23) -> 0.23716667 | M9: =AVERAGE(F21:F23) -> 0.63712724 | N9: =_xlfn.STDEV.S(F21:F23) -> 0.018499695 | P9: PP
A10: PA BEFORE2 | B10: 1635 | C10: 0.0808 | D10: 1461 | E10: 0.0431 | F10: =C10/E10 -> 1.87471 | H10: SBR AFTER | I10: =AVERAGE(B24:B26) -> 1732.6667 | J10: =AVERAGE(C24:C26) -> 0.15186667 | K10: =AVERAGE(D24:D26) -> 1431 | L10: =AVERAGE(E24:E26) -> 0.238 | M10: =AVERAGE(F24:F26) -> 0.63813623 | N10: =_xlfn.STDEV.S(F24:F26) -> 0.02163051 | P10: PU | Q10: =_xlfn.T.TEST(F45:F47,F48:F50,2,1) -> 0.091128805 | R10: =IF(Q10<0.05,"YES","NO") -> NO
A11: PA BEFORE3 | B11: 1636 | C11: 0.1132 | D11: 1462 | E11: 0.0602 | F11: =C11/E11 -> 1.8803987 | H11: PE BEFORE | I11: =AVERAGE(B27:B29) -> 973 | J11: =AVERAGE(C27:C29) -> 0.027933333 | K11: =AVERAGE(D27:D29) -> 2918 | L11: =AVERAGE(E27:E29) -> 0.1281 | M11: =AVERAGE(F27:F29) -> 0.22128875 | N11: =_xlfn.STDEV.S(F27:F29) -> 0.020882159 | P11: PVC | Q11: =_xlfn.T.TEST(F51:F53,F54:F56,2,1) -> 0.036002318 | R11: =IF(Q11<0.05,"YES","NO") -> YES
A12: PA AFTER1 | B12: 1636 | C12: 0.0817 | D12: 1461 | E12: 0.0392 | F12: =C12/E12 -> 2.0841837 | H12: PE AFTER | I12: =AVERAGE(B30:B32) -> 972 | J12: =AVERAGE(C30:C32) -> 0.030466667 | K12: =AVERAGE(D30:D32) -> 2918 | L12: =AVERAGE(E30:E32) -> 0.1165 | M12: =AVERAGE(F30:F32) -> 0.26627666 | N12: =_xlfn.STDEV.S(F30:F32) -> 0.041167578
A13: PA AFTER2 | B13: 1636 | C13: 0.1312 | D13: 1461 | E13: 0.062 | F13: =C13/E13 -> 2.116129 | H13: PET BEFORE | I13: =AVERAGE(B33:B35) -> 1714.3333 | J13: =AVERAGE(C33:C35) -> 0.45236667 | K13: =AVERAGE(D33:D35) -> 1408.6667 | L13: =AVERAGE(E33:E35) -> 0.1193 | M13: =AVERAGE(F33:F35) -> 3.7914885 | N13: =_xlfn.STDEV.S(F33:F35) -> 0.093301538
A14: PA AFTER3 | B14: 1636 | C14: 0.0736 | D14: 1461 | E14: 0.0382 | F14: =C14/E14 -> 1.9267016 | H14: PET AFTER | I14: =AVERAGE(B36:B38) -> 1714 | J14: =AVERAGE(C36:C38) -> 0.30586667 | K14: =AVERAGE(D36:D38) -> 1408 | L14: =AVERAGE(E36:E38) -> 0.0904 | M14: =AVERAGE(F36:F38) -> 3.3836096 | N14: =_xlfn.STDEV.S(F36:F38) -> 0.020979513
A15: PMMA BEFORE1 | B15: 1737 | C15: 0.0211 | D15: 1410 | E15: 0.0107 | F15: =C15/E15 -> 1.9719626 | H15: PP BEFORE
A16: PMMA BEFORE2 | B16: 1736 | C16: 0.0096 | D16: 1410 | E16: 0.0053 | F16: =C16/E16 -> 1.8113208 | H16: PP AFTER
A17: PMMA BEFORE3 | B17: 1736 | C17: 0.0066 | D17: 1410 | E17: 0.004 | F17: =C17/E17 -> 1.65 | H17: PU BEFORE | I17: =AVERAGE(B45:B47) -> 1730 | J17: =AVERAGE(C45:C47) -> 0.54866667 | K17: =AVERAGE(D45:D47) -> 1414 | L17: =AVERAGE(E45:E47) -> 0.29936667 | M17: =AVERAGE(F45:F47) -> 1.8327159 | N17: =_xlfn.STDEV.S(F45:F47) -> 0.013339262
A18: PMMA AFTER1 | B18: 1736 | C18: 0.006 | D18: 1415 | E18: 0.006 | F18: =C18/E18 -> 1 | H18: PU AFTER | I18: =AVERAGE(B48:B50) -> 1730 | J18: =AVERAGE(C48:C50) -> 0.5256 | K18: =AVERAGE(D48:D50) -> 1414 | L18: =AVERAGE(E48:E50) -> 0.28103333 | M18: =AVERAGE(F48:F50) -> 1.8710487 | N18: =_xlfn.STDEV.S(F48:F50) -> 0.034733283
A19: PMMA AFTER2 | B19: 1737 | C19: 0.0175 | D19: 1411 | E19: 0.0094 | F19: =C19/E19 -> 1.8617021 | H19: PVC BEFORE | I19: =AVERAGE(B51:B53) -> 1732.3333 | J19: =AVERAGE(C51:C53) -> 0.0686 | K19: =AVERAGE(D51:D53) -> 961.33333 | L19: =AVERAGE(E51:E53) -> 0.13076667 | M19: =AVERAGE(F51:F53) -> 0.52481989 | N19: =_xlfn.STDEV.S(F51:F53) -> 0.019416782
A20: PMMA AFTER3 | B20: 1742 | C20: 0.0056 | D20: 1409 | E20: 0.0048 | F20: =C20/E20 -> 1.1666667 | H20: PVC AFTER | I20: =AVERAGE(B54:B56) -> 1735.3333 | J20: =AVERAGE(C54:C56) -> 0.088566667 | K20: =AVERAGE(D54:D56) -> 963 | L20: =AVERAGE(E54:E56) -> 0.13993333 | M20: =AVERAGE(F54:F56) -> 0.63375878 | N20: =_xlfn.STDEV.S(F54:F56) -> 0.04768531
A21: SBR BEFORE1 | B21: 1729 | C21: 0.1535 | D21: 1462 | E21: 0.238 | F21: =C21/E21 -> 0.64495798
A22: SBR BEFORE2 | B22: 1733 | C22: 0.1535 | D22: 1462 | E22: 0.236 | F22: =C22/E22 -> 0.65042373
A23: SBR BEFORE3 | B23: 1730 | C23: 0.1463 | D23: 1462 | E23: 0.2375 | F23: =C23/E23 -> 0.616
A24: SBR AFTER1 | B24: 1730 | C24: 0.1469 | D24: 1431 | E24: 0.2388 | F24: =C24/E24 -> 0.61515913
A25: SBR AFTER2 | B25: 1734 | C25: 0.1524 | D25: 1431 | E25: 0.2377 | F25: =C25/E25 -> 0.6411443
A26: SBR AFTER3 | B26: 1734 | C26: 0.1563 | D26: 1431 | E26: 0.2375 | F26: =C26/E26 -> 0.65810526 | I26: Replicate
A27: PE BEFORE1 | B27: 973 | C27: 0.0324 | D27: 2918 | E27: 0.1613 | F27: =C27/E27 -> 0.20086795 | H27: MP | I27: 1 | J27: 2 | K27: 3 | L27: Means of errors | M27: Variation of standard deviation
A28: PE BEFORE2 | B28: 973 | C28: 0.0268 | D28: 2918 | E28: 0.1216 | F28: =C28/E28 -> 0.22039474 | H28: PES | I28: =(F6-F3)/F3 -> 0.0036888262 | J28: =(F7-F4)/F4 -> -0.074433673 | K28: =(F8-F5)/F5 -> 0.017980636 | L28: =AVERAGE(I28:K28) -> -0.01758807 | M28: =_xlfn.STDEV.S(I28:K28) -> 0.049745662
A29: PE BEFORE3 | B29: 973 | C29: 0.0246 | D29: 2918 | E29: 0.1014 | F29: =C29/E29 -> 0.24260355 | H29: PA | I29: =(F12-F9)/F9 -> 0.073747117 | J29: =(F13-F10)/F10 -> 0.12877675 | K29: =(F14-F11)/F11 -> 0.02462398 | L29: =AVERAGE(I29:K29) -> 0.075715949 | M29: =_xlfn.STDEV.S(I29:K29) -> 0.05210429
A30: PE AFTER1 | B30: 972 | C30: 0.0328 | D30: 2918 | E30: 0.1205 | F30: =C30/E30 -> 0.27219917 | H30: PMMA | I30: =(F18-F15)/F15 -> -0.492891 | J30: =(F19-F16)/F16 -> 0.027814716 | K30: =(F20-F17)/F17 -> -0.29292929 | L30: =AVERAGE(I30:K30) -> -0.25266852 | M30: =_xlfn.STDEV.S(I30:K30) -> 0.26267719
A31: PE AFTER2 | B31: 972 | C31: 0.0301 | D31: 2918 | E31: 0.1353 | F31: =C31/E31 -> 0.22246859 | H31: SBR | I31: =(F24-F21)/F21 -> -0.046202784 | J31: =(F25-F22)/F22 -> -0.014266745 | K31: =(F26-F23)/F23 -> 0.0683527 | L31: =AVERAGE(I31:K31) -> 0.0026277238 | M31: =_xlfn.STDEV.S(I31:K31) -> 0.059116893
A32: PE AFTER3 | B32: 972 | C32: 0.0285 | D32: 2918 | E32: 0.0937 | F32: =C32/E32 -> 0.30416222 | H32: PE | I32: =(F30-F27)/F27 -> 0.355115 | J32: =(F31-F28)/F28 -> 0.0094097142 | K32: =(F32-F29)/F29 -> 0.25374183 | L32: =AVERAGE(I32:K32) -> 0.20608885 | M32: =_xlfn.STDEV.S(I32:K32) -> 0.17771084
A33: PET BEFORE1 | B33: 1714 | C33: 0.4462 | D33: 1409 | E33: 0.1179 | F33: =C33/E33 -> 3.7845632 | H33: PET | I33: =(F36-F33)/F33 -> -0.10456698 | J33: =(F37-F34)/F34 -> -0.092204766 | K33: =(F38-F35)/F35 -> -0.12514436 | L33: =AVERAGE(I33:K33) -> -0.10730537 | M33: =_xlfn.STDEV.S(I33:K33) -> 0.016639661
A34: PET BEFORE2 | B34: 1715 | C34: 0.442 | D34: 1408 | E34: 0.1194 | F34: =C34/E34 -> 3.7018425 | H34: PP
A35: PET BEFORE3 | B35: 1714 | C35: 0.4689 | D35: 1409 | E35: 0.1206 | F35: =C35/E35 -> 3.8880597 | H35: PU | I35: =(F48-F45)/F45 -> 0.034008981 | J35: =(F49-F46)/F46 -> 0.016337164 | K35: =(F50-F47)/F47 -> 0.012236065 | L35: =AVERAGE(I35:K35) -> 0.020860737 | M35: =_xlfn.STDEV.S(I35:K35) -> 0.011569875
A36: PET AFTER1 | B36: 1714 | C36: 0.285 | D36: 1408 | E36: 0.0841 | F36: =C36/E36 -> 3.3888228 | H36: PVC | I36: =(F54-F51)/F51 -> 0.21681297 | K36: =(F56-F53)/F53 -> 0.26822002 | L36: =AVERAGE(I36:K36) -> 0.24251649 | M36: =_xlfn.STDEV.S(I36:K36) -> 0.036350268
A37: PET AFTER2 | B37: 1714 | C37: 0.3132 | D37: 1408 | E37: 0.0932 | F37: =C37/E37 -> 3.360515 | H37: PVC COI | I37: =(F60-F57)/F57 -> 1.6817504 | K37: =(F62-F59)/F59 -> 1.953925 | L37: =AVERAGE(I37:K37) -> 1.8178377 | M37: =_xlfn.STDEV.S(I37:K37) -> 0.19245648
A38: PET AFTER3 | B38: 1714 | C38: 0.3194 | D38: 1408 | E38: 0.0939 | F38: =C38/E38 -> 3.4014909
A39: PP BEFORE1
A40: PP BEFORE2
A41: PP BEFORE3
A42: PP AFTER1
A43: PP AFTER2
A44: PP AFTER3
A45: PU BEFORE1 | B45: 1730 | C45: 0.5508 | D45: 1414 | E45: 0.2982 | F45: =C45/E45 -> 1.8470825
A46: PU BEFORE2 | B46: 1730 | C46: 0.561 | D46: 1414 | E46: 0.3065 | F46: =C46/E46 -> 1.8303426
A47: PU BEFORE3 | B47: 1730 | C47: 0.5342 | D47: 1414 | E47: 0.2934 | F47: =C47/E47 -> 1.8207226
A48: PU AFTER1 | B48: 1730 | C48: 0.5151 | D48: 1414 | E48: 0.2697 | F48: =C48/E48 -> 1.9098999
A49: PU AFTER2 | B49: 1730 | C49: 0.5311 | D49: 1414 | E49: 0.2855 | F49: =C49/E49 -> 1.8602452
A50: PU AFTER3 | B50: 1730 | C50: 0.5306 | D50: 1414 | E50: 0.2879 | F50: =C50/E50 -> 1.843001
A51: PVC BEFORE1 | B51: 1732 | C51: 0.0668 | D51: 963 | E51: 0.1325 | F51: =C51/E51 -> 0.50415094
A52: PVC BEFORE2 | B52: 1732 | C52: 0.0697 | D52: 961 | E52: 0.1321 | F52: =C52/E52 -> 0.52763058
A53: PVC BEFORE3 | B53: 1733 | C53: 0.0693 | D53: 960 | E53: 0.1277 | F53: =C53/E53 -> 0.54267815
A54: PVC AFTER1 | B54: 1735 | C54: 0.0857 | D54: 965 | E54: 0.1397 | F54: =C54/E54 -> 0.61345741
A55: PVC AFTER2 | B55: 1735 | C55: 0.0864 | D55: 960 | E55: 0.1441 | F55: =C55/E55 -> 0.59958362
A56: PVC AFTER3 | B56: 1736 | C56: 0.0936 | D56: 964 | E56: 0.136 | F56: =C56/E56 -> 0.68823529
... A62: PVC COI AFTER3 | B62: 964 | C62: 0.136 | D62: 2916 | E62: 0.0296 | F62: =C62/E62 -> 4.5945946

Sheet PET and PVC FTIR validation
A1: Correlations in the PerkinElmer software after compared with before
C2: Mean | D2: Standard deviation
A3: PET 1 | B3: 0.985509 | C3: =AVERAGE(B3:B5) -> 0.98702533 | D3: =_xlfn.STDEV.S(B3:B5) -> 0.0045970513
A4: PET 2 | B4: 0.992189
A5: PET 3 | B5: 0.983378
A7: PVC 1 | B7: 0.959952 | C7: =AVERAGE(B7:B9) -> 0.96054167 | D7: =_xlfn.STDEV.S(B7:B9) -> 0.022663254
A8: PVC 2 | B8: 0.983494
A9: PVC 3 | B9: 0.938179
