Workbook

Sheet index
A1: ("ball milling" OR "milling ball" OR mechanochemistry) AND (lca OR "life cycle analysis" OR "life cycle assessment")
A2: Source | B2: Topic | C2: Keywords | D2: Main info | E2: Comments
A3: Arun Ghosh (2021) | B3: Thermoplastics recycling | C3: Recycling; Thermoplastic; Blend; Compatibilizer; Impact modifier; Mechanical performance; Morphology | D3: This is a review paper which makes mention of the promising application of mechanochemistry in thermoplastics recycling: - The more a chain is stretched, the more the kinetic and thermodynamic stabilities of its chemical components are changed, which accelerate the chain fragmentation (Boulatov, 2017). Mechanochemistry is a potentially good alternative for the reactive compatibilization of waste thermoplastic blends without using any additives. The mechanical effects produced in this process, such as impact, compression, fracture, extension, and shearing, can result in chain scission and free radical formation, which can react with each other to induce chemical cross-linking or coupling (Liu et al., 2013; Yin et al., 2015). - The liquid CO2-assisted high-energy ball milling was applied to the blends of PP and PE, where a graft copolymer was formed through the recombination of free radicals (Cavalieri and Padella, 2002; Cavalieri et al., 2002). In another study, PP/PS blend was compatibilized and homogenized using the ball-mill technique at ambient temperature (Li et al., 2011) Using the Solid State Shear Pulverization technique, followed by melt-mixing and extrusion, various blends based on PS/PP, PS/PE, and PS/HDPE were prepared, where significant reductions of particle sizes of the minor phases were observed (Furgiuele et al., 2000; Lebovitz et al., 2003). Interestingly, the use of SEBS as a compatibilizer reduced the size of the dispersed phase in the PS/HDPE blends during the SSSP technique (Tao et al., 2005). | E3: Page 14 in advance
A4: Cavalieri & Padella (2002) | B4: Thermoplastics recycling | C4: Development of composite materials by mechanochemical treatment of post-consumer plastic waste | D4: In this work, a polymer milling process with liquid CO2 was applied to polymeric mixed waste, obtaining a powder material which was successfully utilized as a matrix for a new composite material. The method consists in enhancing mechanochemical effects promoted by the milling action through the insertion of a quantity of liquid CO2 in the milling vial. In this condition, the energy transfer from the milling device to the milled system, that is achieved at each hit event, promotes repeated microexplosive evaporation of liquid CO2 which is trapped between the ball and the vial wall. The described phenomena enhance the effectiveness of energy transfer and the mechanochemical compatibilization of the blend occurs in a very short milling time (10–60min)
A5: Cavalieri et al (2002) | B5: Thermoplastics recycling | C5: High-energy mechanical alloying of thermoplastic polymers in carbon dioxide | D5: Mechanical tests confirm an overall improvement in blend properties by mechanical alloying. Experimental evidences are presented to suggest that CO2 high energy ball milling causes a self-compatibilization of the blend LDPE-iPP polymer chains and allowing them to recombine with the neighboring LDPE chains
A6: (Ojijo and Pillai, 2020) | B6: Thermoplastics recycling | C6: Compatibilization of polymer blends by shear pulverization | D6: Solid-state shear pulverization (SSSP) can be used to enhance compatibilization of immiscible polymer blends exhibiting phase separation and inferior properties
A7: (Furgiuele et al., 2000) | B7: Thermoplastics recycling | C7: Novel Strategy for Polymer Blend Compatibilization: Solid-State Shear Pulverization | D7: na
A8: (Lebovitz et al., 2003) | B8: Thermoplastics recycling | C8: Sub-micron dispersed-phase particle size in polymer blends: overcoming the Taylor limit via solid-state shear pulverization | D8: na
A9: (Tao et al., 2005) | B9: Thermoplastics recycling | C9: Compatibilizing effects of block copolymer mixed with immiscible polymer blends by solid-state shear pulverization: stabilizing the dispersed phase to static coarsening | D9: na
A10: (Kumar et al., 2020) | B10: Novel biochar nanomaterials | C10: Engineered biochar; Carbon nanomaterials; Environmental remediation; Sustainable waste management; Green chemistry | D10: Novel integration of mechanochemical technology for biochar modification and functionalization can produce advanced materials for eco-friendly applications. ball milling technology were demonstrated for tailoring the biochar properties by improving surface area (Lyu et al., 2017), reducing particle sizes (Naghdi et al., 2017), enriching oxygen-containing functional groups (Lyu et al., 2018a), and enhancing the adsorption and catalytic efficiency (Wang et al., 2018a). This new research area of ballmilled biochar is still in its infancy with challenges and opportunities ahead. The kinetic energy generated during the motion of moving balls is applied to the powder charge, thus breaking down chemical bonds of the involved molecules and reducing particle size. The kinetic energy generated during the motion of moving balls is applied to the powder charge, thus breaking down chemical bonds of the involved molecules and reducing particle size. A comparative study on wet and dry mechanical ball milling of sawdust biochar showed that ball milling of biochar with water resulted in smaller and more dispersed particles as well as more diverse functional groups than dry ball milling for the same treatment time (12 h) For example, a study investigated the treatment of pine wood biochar with a planetary ball mill under various conditions and found the smallest particle size (60 nm) of ballmilled biochar at optimum conditions of 1.6 h and 575 rpm rotational speed
A11: (Yang et al., 2020) | B11: Novel biochar nanomaterials | C11: Solvent-free synthesis; Heterogeneous catalysis; Engineered biochar; Metal-carbon interactions; Sustainable waste management | D11: The synthesis of the SnBC catalysts consisted of two steps: (1) the uniform dispersion of the Sn source onto the supporting materials using ball milling; and (2) the activation of the Sn-support mixture at different annealing temperatures.
A12: (Vinukumar et al., 2018) | B12: Biodiesel | C12: Biodiesel; Pungamia pinnata; Transesterification; Coconut shell; Diesel engine | D12: The aim of this work is to decrease emissions in compression ignition engines fueled with diesel and biodiesel blends and also addition of coconut shell (CS) nano particles were prepared by mechanical ball milling process. The organic nano particle was characterized by Transmission Electron Microscopy (TEM), and energy dispersive analysis of X-rays (EDAX) technique. The biodiesel was prepared by using Pungamia pinnata non-edible oil through transesterification process. The average particle size of coconut shell nano particles was found as 20 nm in diameter. Without changing the engine design the performance and emission test was conducted in single cylinder diesel engine with fuels of 100%DF, 20%BD, 80%DF and 20%BD, 80%DF with CS. Nanoparticles of coconut shell are used for biodiesel additives. They are obtained after 5 h ball milling, blended with biodiesel and filtered to remove larger particles.
A13: (Glowniak et al., 2021) | B13: MOF | C13: Mechanochemistry: Toward green synthesis of Metal–organic frameworks | D13: Metal–organic frameworks (MOFs) have attracted a special attention due to outstanding porosity, adjustable pore sizes, and huge opportunities in varying organic–inorganic compositions. Enormous studies conducted so far on MOFs indicate their high potential in catalysis, gas adsorption, drug delivery, water treatment, energy storage, among others. However, mass production of MOFs is still limited mainly due to the non-economic, non-green and complex synthesis methods. Mechanochemistry is an alternative solution for efficient and environmentally friendly syntheses of various MOFs. Fast and solvent-free or solvent-less mechanosynthesis seems to be a very powerful versatile method for obtaining these advanced porous materials. The mechanochemical concept was used for the preparation of various MOFs including the most popular structures: MOF-5, ZIF-8, HKUST-1, MIL-101, UiO-66. These MOFs feature high specific surface areas, comparable to those prepared by conventional solvent-based methods. Furthermore, mechanochemistry was successfully used for the synthesis of non-conventional multimetallic MOFs and previously unreported solid phases. This review shows the recent developments, challenges and perspectives of green synthesis of diverse MOF structures using mechanochemistry. Besides describing the mechanochemical synthesis of MOFs, some achievements in green applications are also summarized. Importantly, current trends in research suggests for further development of these fields i.e., harmful gas adsorption, water treatment, and energy storage.
A14: (Baláz et al., 2019) | B14: Nanomaterials | C14: Cu- and Co-based chalcogenides for energy conversion | D14: Photovoltaic and thermoelectricmaterials offer the viable way to convert solar and thermal energy directly to electrical energy without hazardous side products. Nanocrystalline chalcogenides, namely sulfides and selenides, are the great candidates for these applications and mechanochemistry is a great tool for their synthesis
A15: (Gil-Gonzalez et al., 2020) | B15: Kinetics | C15: Modelling ball milling kinetics | D15: Check if these equations might be used to validate energy consumption estimations!
... A18: (Oliveira et al., 2020) | B18: Bio-polymer | C18: Mechanochemical polymerization; Biodegradable polymers; Urea; Citric acid; Planetary ball mill; Cleaner production | D18: The copolymerization reaction of biodegradable monomers urea and citric acid was performed for the first time via mechanochemistry using a planetary mill with controlled variables analysis (time and stirring velocity). The copolymer was characterized by Infrared Spectroscopy (FTIR), Matrix-Assisted Laser Desorption Ionization Process - (MALDI-TOF), X-ray Crystallography – XRC, Nuclear Magnetic Resonance – NMR, Thermogravimetry Analysis – TGA, Differential Scanning Calorimetry– DSC and Scanning Electron Microscopy – SEM. The polymeric material was produced involving a selective reaction of the terminal units of the carboxylic acids of citric acid with urea, and the central COOH remained intact. The copolymerization reaction was also investigated under solution condition with water as solvent, to compare the polymer production performance in both conditions. The yield of urea-citric copolymer under mechanochemistry condition (82%) is superior to the solution condition (70%). The product has low molecular weight, high crystallinity, and good thermal stability, and these two characteristics are superior to the mechanochemical product in comparison to that produced in solution. In this way, it was demonstrated a technologically feasible, catalyst and solvent-free clean route to produce ureacitric copolymer using mechanochemistry, without the formation of wastewater.

Sheet 2-arylindoles

Sheet MOF
N20: 1-2 hours
N21: 200 ºC sublimation
P40: 30 min

Sheet Cavaglieri & Padella, 2002

Sheet LRP1 General
A1: SCIENCE DIRECT | L1: JOURNALS
A2: 2021 | B2: 179 | L2: Chemical Engineering Journal | M2: =COUNTIF('LRP2 Table'!F:F,'LRP1 General'!L2) -> 16
A3: 2020 | B3: 120 | L3: Journal of Cleaner Production | M3: =COUNTIF('LRP2 Table'!F:F,'LRP1 General'!L3) -> 9
A4: 2019 | B4: 70 | L4: Chemosphere | M4: =COUNTIF('LRP2 Table'!F:F,'LRP1 General'!L4) -> 3
A5: 2018 | B5: 66 | L5: Process Safety and Environmental Protection | M5: =COUNTIF('LRP2 Table'!F:F,'LRP1 General'!L5) -> 3
A6: 2017 | B6: 52 | L6: Science of the Total Environment | M6: =COUNTIF('LRP2 Table'!F:F,'LRP1 General'!L6) -> 3
A7: 2016 | B7: 35 | L7: Journal of Environmental Chemical Engineering | M7: =COUNTIF('LRP2 Table'!F:F,'LRP1 General'!L7) -> 3
A8: 2015 | B8: 18 | L8: Cleaner Engineering and Technology | M8: =COUNTIF('LRP2 Table'!F:F,'LRP1 General'!L8) -> 1
A9: 2022 | B9: 55 | C9: =B9/B2 -> 0.30726257 | D9: January | L9: Green and Sustainable Chemistry | M9: =COUNTIF('LRP2 Table'!F:F,'LRP1 General'!L9) -> 1
L10: Journal of Environmental Sciences | M10: =COUNTIF('LRP2 Table'!F:F,'LRP1 General'!L10) -> 1
A11: In the study before screening | L11: Ecotoxicology and Environmental Safety | M11: =COUNTIF('LRP2 Table'!F:F,'LRP1 General'!L11) -> 1
B12: =B9+B2+B3 -> 354 | L12: Environmental Pollution | M12: =COUNTIF('LRP2 Table'!F:F,'LRP1 General'!L12) -> 1
L13: Journal of Environmental Management | M13: =COUNTIF('LRP2 Table'!F:F,'LRP1 General'!L13) -> 1
A14: In the study after abstract and title screening
A15: 2022 | B15: =COUNTIF(Table2[Year],'LRP1 General'!A15) -> 8
A16: 2021 | B16: =COUNTIF(Table2[Year],'LRP1 General'!A16) -> 28
A17: 2020 | B17: =COUNTIF(Table2[Year],'LRP1 General'!A17) -> 18
A18: total | B18: =B15+B16+B17 -> 54

Sheet LRP2 Table
B1: GENERAL DATA | G1: Chemicals | J1: Reaction conditions | V1: Other data
A2: Item | B2: Title | C2: Corresponding author | D2: Doi | E2: Year | F2: Journal | G2: Reactant | H2: Product | I2: Other | J2: Time | K2: Temper. | L2: Rotate speed | M2: Conversion | N2: Selectivity | O2: Process | P2: Other2 | Q2: Milling ball material | R2: Milling ball size | S2: Chamber material | T2: Chamber size | U2: Other3 | V2: Application | W2: Other4
A3: 1 | B3: Release characteristics of phosphate from ball-milled biochar and its potential effects on plant growth | C3: Zhipeng Zhao | D3: https://doi.org/10.1016/j.scitotenv.2022.153256 | E3: 2022 | F3: Science of the Total Environment | G3: Distillers grains | H3: Biochar | I3: Rice straw and Eupatorium adenophorum were also used as a raw material (lower performance) | J3: 12 h | K3: 300 - 450 - 600 ºC | L3: nan | M3: na | N3: na | O3: 1. Feedstock dried 24h at 80 ºC 2. Pyrolysis at 300 - 450 - 600 ºC 3. Ball milling | P3: time tested: 2-24 h this is not a mechanical reaction (properties modification) | Q3: nan | R3: nan | S3: nan | T3: nan | U3: not specified | V3: Ball milling could increase the phosphate release capacity of P-containing biochar by changing the physicochemical properties of biochar, and affect the germination and growth of plants. [GC7][GC10] | W3: As a comparison, DG and distillers grains biochar without ball milling
A4: =A3+1 -> 2 | B4: Ball-milled biochar for efficient neutral electrosynthesis of hydrogen peroxide | C4: Miao Gao | D4: https://doi.org/10.1016/j.cej.2022.134788 | E4: 2022 | F4: Chemical Engineering Journal | G4: Peanut shell | H4: Biochar | I4: Similar enhancement effects of ball milling were also found for other types of biochars | J4: 4 - 8 - 12 h | K4: 25 ºC | L4: 300 rpm | M4: na | N4: na | O4: 1. Feedstock was washed with deionized water (3 times) 2. Dried 12h at 60 ºC 3. Crush and screen through a 36-mesh screen 4. 3 g powder was carbonized 2h at 600ºC (rate of 5ºC/min) in N2 atmosphere (400 mL/min) 5. Cooling to room temperature and ball milling | P4: - carbon material modification - mass ratio of BC to zirconia pellet 1:30 - quant ratio of large, mid & small pellet 5:25:125 | Q4: nan | R4: nan | S4: nan | T4: nan | U4: not specified | V4: Low-cost electrocatalysts for hydrogen peroxide (H2O2) electrosynthesis. Ball milling increased the material packing density and introduced rich defects and oxygen-containing functional groups. [GC9] | W4: electrocatalyst for h2o2
A5: =A4+1 -> 3 | B5: Ferrous oxalate covered ZVI through ball-milling for enhanced catalytic oxidation of organic contaminants with persulfate | C5: Shuxuan Wu | D5: https://doi.org/10.1016/j.chemosphere.2021.132421 | E5: 2022 | F5: Chemosphere | G5: Zero-valent iron (ZVI) Oxalic acid dihydrate | H5: BZVI@OA | I5: 5.60 g iron powder 0.63 g Oxalic acid dihydrate | J5: 2 h | K5: nan | L5: 550 rpm | M5: nan | N5: nan | O5: 1. Ball milling 2. Washed with water and absolute ethanol for 3 times 3. Dried in vacuum oven 4h at 60 ºC | P5: - Ar atmosphere to reduce oxidation of ZVI - Planetary ball mill | Q5: agate beads | R5: 6 mm diam | S5: agate jar | T5: 100 mL | U5: not specified | V5: Activator for persulfate in remediation of organic pollutants. The generated shell significantly improved persulfate activated capacity, through which degradation rates of various contaminants were enhanced for 1.64 to 2.33 times [GC3] | W5: High tolerance over wide initial pH range and promising reusability within 6 cycles. Fe powder ball milled without oxalic acid used for comparison
A6: =A5+1 -> 4 | B6: BaTiO3-assisted exfoliation of boron nitride nanosheets for high-temperature energy storage dielectrics and thermal management | C6: Min Wu | D6: https://doi.org/10.1016/j.cej.2021.131860 | E6: 2022 | F6: Chemical Engineering Journal | G6: bulk h-BN | H6: boron nitride nanosheets (BNNSs) | I6: Ball-milled BaTiO3 can assist in order to ball mill the BNNSs at mass ratio of 1:5 | J6: 8 h | K6: nan | L6: 500 rpm | M6: 0.912 | N6: nan | O6: 1. Ball milling 2. Added to 400 ml deion water and sonicated for 4 h 3. After 30 min, whashing 5 timer to separate chemicals 4. Centrifuged 30 min at 10,000 rpm 5. Dried 12 h at 80 ºC | P6: Planetary ball mill | Q6: nan | R6: nan | S6: Seel tank | T6: nan | U6: not specified | V6: BNNSs are attractive for extensive applications in selective separation, biocompatible engineering, especially recently the area of polymer-based thermal management, energy storage, and optoelectronics. [GC6bat] | W6: For comparison, the raw h-BN powder was milled without BaTiO3 under the same processing conditions.
A7: =A6+1 -> 5 | B7: FeN4-doped carbon nanotubes derived from metal organic frameworks for effective degradation of organic dyes by peroxymonosulfate: Impacts of FeN4 spin states | C7: Meng Li | D7: https://doi.org/10.1016/j.cej.2021.133339 | E7: 2022 | F7: Chemical Engineering Journal | G7: MIL-101 & ZIF-8 | H7: FeN4-doped carbon nanotubes | I7: na | J7: nan | K7: nan | L7: nan | M7: nan | N7: nan | O7: 1. Mixing, and ground by ball milling under N2 atmosphere at mass ratios (1:15, 1:20, and 1:25) 2. Powders placed in a tube furnace at 900 ◦C under a N2 atmosphere for 2 h 3. Second heating treatment in an NH3 atmosphere at 950 ◦C for half an hour to increase the amount of N doping | P7: [risk of explosion] | Q7: nan | R7: nan | S7: nan | T7: nan | U7: not specified | V7: AOP, water treatment, catalyst [GC3] | W7: AOP
A8: =A7+1 -> 6 | B8: Desert beetle-like microstructures bridged by magnetic Fe3O4 grains for enhancing oil-in-water emulsion separation performance and solar-assisted recyclability of graphene oxide | C8: Yong Xu | D8: https://doi.org/10.1016/j.cej.2021.130904 | E8: 2022 | F8: Chemical Engineering Journal | G8: Graphene oxides & carbon black particles & Fe3O4 | H8: Fe3O4/GO @C-SR particles | I8: different weight ratios (Fe3O4/GO: C-SR = 1:0, 10:1, 5:1, 3:1, 1:1, 1:3, and 0:1, the total weight of 0.18 g) | J8: 1 h | K8: nan | L8: 400 rpm | M8: nan | N8: nan | O8: 1. 1 g carbon black particles dispersed in 50 mL alcohol. 1 mL of 1–dodecanethiol was slowly dripped into the above particle suspension and stirred for 5 h. The products (C-SR) were washed with absolute alcohol three times and dried at 70 ◦C for overnight. 2. Graphene oxide sheets (GO) were fabricated from flake graphite based on the modified hummer’s method 3. The Fe3O4/GO was synthesized by a one-step solvothermal process. 4. Ball milling | P8: Planetary ball mill | Q8: agate balls | R8: 2-4-10 mm diam | S8: agate tank | T8: 50 mL | U8: not specified | V8: Advanced demulsifiers in the field of oil–water emulsion separation. Oily wastewater treatments. [GC3] | W8: AOP
A9: =A8+1 -> 7 | B9: Novel process for deep removal of chlorine and recycling of chlorinated tailings from titanium-bearing blast-furnace slag | C9: Xiaodong Lv | D9: https://doi.org/10.1016/j.psep.2022.01.056 | E9: 2022 | F9: Process Safety and Environmental Protection | G9: Na + chlorinated tailings | H9: NaCl | I9: Process modification more than a reaction | J9: 0.33-1 h | K9: 25 ºC | L9: nan | M9: nan | N9: nan | O9: 1. Mixing at molar ratio of R = 0.5 - 2.5 2. Ball milling 3. Heated to 100-500 ºC (heating rate of 10°C/min and held for 60 min) 4. The mixed slag was immersed in water at room temperature (liquid-solid ratio = 10 and immersion time = 60 min). | P9: na | Q9: nan | R9: nan | S9: nan | T9: nan | U9: not specified | V9: Removal of chloride ions from chlorinated tailings with additives (furnace waste slag). Adding additives and balling chlorinated tailing before leaching help with chloride ions removal. Avoida the need of water treatment dechlorination (which in energy intensive and spends too many resources). [GC3] | W9: Currently, most of these chlorinated tailings are treated by stacking and burying, which occupies a substantial amount of land and harms the surrounding environment
A10: =A9+1 -> 8 | B10: Deciphering CaO-induced peroxydisulfate activation for destruction of halogenated organic pollutants in a low energy vibrational mill | C10: Zimo Lou | D10: https://doi.org/10.1016/j.cej.2021.134090 | E10: 2022 | F10: Chemical Engineering Journal | G10: Calcium oxide & peroxydisulfate | H10: PDS activation | I10: CaO is used to activate the PDS and destruct typical HOPs such as 2,4-dichlorophenol (2,4-DCP). Mass ratio of: - CaO : PDS : 2,4-DCP == 6.3 : 6.7 : 1 | J10: nan | K10: 25 ºC | L10: 20,5 Hz | M10: nan | N10: nan | O10: nan | P10: Low energy vibrational mill. Atmospheric pressure After each 30-min operation, the device would cool down for 5 min to avoid excess temperature increases [risk of high T] | Q10: Stainless steel | R10: 8-10 mm | S10: Stainless steal pot | T10: 200 mL | U10: the pot was charged with mixture of 8 mm (290 g) and 10 mm (130 g) stainless steel balls, and materials of 14 g to achieve a fixed ball-to-powder mass ratio of 30:1. | V10: Halogenated organic pollutants (HOPs) destruction. Pure substance degradation and contaminated soil remediation [GC3] | W10: na
A11: =A10+1 -> 9 | B11: Sulfamic acid catalyzed oxonium-ene reactions under ball milling conditions: Straightforward access to highly functionalized Oxabicyclo[3.2.1]octenes | C11: Trimurti L. Lambat | D11: https://doi.org/10.1016/j.crgsc.2021.100118 | E11: 2021 | F11: Green and Sustainable Chemistry | G11: sulfamic acid 20 mol% (catalyst) & ( )-terpinen-4-ol (1) and propionaldehyde | H11: oxabicyclo [3.2.1]-octenes | I11: na | J11: 50 min | K11: nan | L11: 600 rpm | M11: 0.97 | N11: nan | O11: nan | P11: Initially stirred in a conical flask for 90 min without ball milling with no detectable yield | Q11: 6 hardened steel shot balls | R11: 10 mm diam | S11: hardened steel vial | T11: nan | U11: not specified | V11: effective methodology for the synthesis of important functionalized cyclic ethers as products by the activation of the C–H bond and formation of new C–C bond (intermediate product) [GC4]?? | W11: na
A12: =A11+1 -> 10 | B12: Mechanochemical remediation of perfluorooctanesulfonic acid (PFOS) and perfluorooctanoic acid (PFOA) amended sand and aqueous film-forming foam (AFFF) impacted soil by planetary ball milling | C12: Lauren P. Turner | D12: https://doi.org/10.1016/j.scitotenv.2020.142722 | E12: 2021 | F12: Science of the Total Environment | G12: Nepheline syenite sand (20/40) | H12: soil remediation | I12: Efficacy of remediation of organic contaminants through mechanochemical processes via ball milling was first realized on chlorinated compounds. This includes polychlorinated biphenyls (PCBs), pentachlorophenol (PCP), trichlorobenzene (TCB), dichlorodiphenyltrichloroethane (DDT) and hexachlorobenzene (HCB) | J12: 4 h | K12: nan | L12: 275 rpm | M12: nan | N12: nan | O12: 1- Nepheline syenite sand (20/40) acid washed 2- Dried at 60ºC for 48 h 3- milling | P12: Planetary ball mill KOH co-milling agent (0-10g added KOH pellets). KOH:PFAS mass ratio of 1.3 · 10^5:1 or 5 · 10^4:1 | Q12: Stainless steel | R12: 10-15 mm | S12: Stainless steal grinding jar | T12: 250 mL | U12: not specified | V12: low-risk, effective and economically viable remediation technologies for PFAS impacted soils to reduce risk to communities, the environment and wildlife [GC3] | W12: 1) evaluating the effect of three factors (sand mass, deionizedwater saturation, and inclusion of KOHas a co-milling reagent) on PFOS and PFOA destruction in amended sand using a 23 factorial design and 2) demonstrating PFAS destruction in AFFF impacted FFTA soils.
A13: =A12+1 -> 11 | B13: Efficient liberation of electrode materials in spent lithium-ion batteries using a cryogenic ball mill | C13: Jiangshan Liu | D13: https://doi.org/10.1016/j.jece.2021.106017 | E13: 2021 | F13: Journal of Environmental Chemical Engineering | G13: Lithium ion batteries | H13: recycling | I13: na | J13: 15-30 s (cathode) & 2 min (battery) | K13: 235 K | L13: nan | M13: nan | N13: nan | O13: 1) The cathode electrode plates (CEPs) were individually ground. 2) The anode electrode plates (AEPs) were individually ground. 3) The battery was ground in small sections. | P13: cryogenic ball milling (liquid nitrogen). The pre-freezing time of the cathode electrode plates were set to be 0, 2, 3, 4 and 5 min for the cathode. The pre-freezing time was set to be 3, 5, 7, 9 and 11 min for the battery | Q13: nan | R13: 26 mm (only 1 ball) | S13: nan | T13: 50 mL | U13: Novel cryogenic grinding method in a cryogenic ball mill | V13: Recycling of the electrode materials in spent lithium-ion batteries (LIBs). [GC6bat]?? | W13: na
A14: =A13+1 -> 12 | B14: CO2 hydrogenation to lower olefins over Mn2O3-ZnO/SAPO-34 tandem catalysts | C14: Jun Mou | D14: https://doi.org/10.1016/j.cej.2021.129978 | E14: 2021 | F14: Chemical Engineering Journal | G14: Mn2O3-ZnO & SAPO-34 | H14: Mn2O3-ZnO /SAPO-34 | I14: mass ratio 3:1 catalys for CO2 hydrogenation to methanol | J14: 15 min | K14: nan | L14: nan | M14: 0.3 | N14: 0.802 | O14: 1- Co precipitation preparation of Mn2O3-ZnO 2- Hydro thermal synthesis of SAPO-34 3- Preparation of Mn2O3-ZnO/SAPO-34 tandem catalysts by ball milling | P14: na | Q14: nan | R14: nan | S14: nan | T14: nan | U14: not specified | V14: The direct conversion of CO2 hydrogenation to lower olefins via methanol as an intermediate [GC4]??? | W14: na
A15: =A14+1 -> 13 | B15: Recover lithium and prepare nano-cobalt from spent lithium ion batteries using a one-pot mechanochemical reaction | C15: Bang Li | D15: https://doi.org/10.1016/j.clet.2021.100282 | E15: 2021 | F15: Cleaner Engineering and Technology | G15: Li batteries NaBH4 (reducing agent) and LiCoO2 | H15: Grinded LiCoO2 | I15: The optimum lithium leaching rate of nearly 100% can be achieved from the sample milled at NaBH4 to LiCoO2 mass ratio at 2.5:10 (g/g), | J15: 1.5 h (15 to 150 min) | K15: 25 ºC | L15: 400 rpm | M15: nan | N15: nan | O15: nan | P15: Planetary ball mill | Q15: Zircon | R15: 10 mm diam | S15: zirconia pot | T15: 50 mL | U15: Ball-to-powder mass ratio is fixed at 65:1 (g/g) | V15: Recover lithium and prepare nano-cobalt from spent lithium ion batteries using a one-pot mechanochemical reaction [GC6bat] | W15: na
A16: =A15+1 -> 14 | B16: Microwave assisted hydrothermal conversion of waste cardboard | C16: Rui Zhang | D16: https://doi.org/10.1016/j.psep.2021.10.005 | E16: 2021 | F16: Process Safety and Environmental Protection | G16: cardboard conversion | H16: cardboard conversion | I16: pretreatment method for carboard waste before treating it with microwave hydrothermal process (It activates the reaction) | J16: 15 min | K16: nan | L16: 300 rpm | M16: nan | N16: nan | O16: nan | P16: na | Q16: nan | R16: nan | S16: nan | T16: nan | U16: not specified | V16: pre-treatment method for cardboard | W16: Microwave assisted hydrothermal conversion of waste cardboard
A17: =A16+1 -> 15 | B17: Selective recovery of manganese from electrolytic manganese residue by using water as extractant under mechanochemical ball grinding: Mechanism and kinetics | C17: Jirong Lan | D17: https://doi.org/10.1016/j.jhazmat.2021.125556 | E17: 2021 | F17: Journal of Hazardous Materials | G17: electrolytic manganese residue | H17: manganes | I17: EMR contains Si, S, Mn, Fe, Al, O, and Ca, among other elements (ammonium). | J17: 30 min | K17: nan | L17: 250 rpm | M17: 0.98 | N17: nan | O17: nan | P17: Planetary ball mill | Q17: zirconium balls | R17: nan | S17: zirconium tank | T17: nan | U17: Vmaterials-Vballs ratio: 0.8 fill factor Vballs-Vpot: 12% | V17: Selective recovery of manganese from electrolytic manganese residue by using water as extractant oxalic acid under mechanochemical ball grinding [GC3] | W17: AOP
A18: =A17+1 -> 16 | B18: Mechanochemical conversion of graphite to highly Cross-linked alkynyl carbon material as excellent mercury (II) sorbent | C18: YingYing Wang | D18: https://doi.org/10.1016/j.cej.2021.129009 | E18: 2021 | F18: Chemical Engineering Journal | G18: 1- KMnO4 and KHSO4 2- MGO and CaC2 [graph] | H18: 1- MGO 2- AMGO | I18: mechanochemical graphite oxide (MGO) was prepared by ball milling graphite, KMnO4, and KHSO4 simultaneously. And an alkynyl cross-linked 3D carbon material (AMGO) was prepared via mechanochemical reaction of MGO and CaC2 (1:4 mass ratio) | J18: 1- 2-4-6 h 2- 6 h | K18: 25 ºC | L18: 1- 700 rpm 2- 600 rpm | M18: nan | N18: nan | O18: 1- Ball mill 2- Filtration and vacuum drying at 353 K | P18: Planetary ball mill | Q18: Stainless steel | R18: 5-15 mm | S18: nan | T18: 250 mL | U18: not specified | V18: 3D functional carbon materials are widely used in supercapacitors, chemical battery, water treatment and catalysis owing to their highly cross-linked structure, hierarchical porosity, high specific area, and mechanical stability [GC6bat] | W18: Graphite oxides
A19: =A18+1 -> 17 | B19: Synthesis of nano-FeS2 and its application as an effective activator of ozone and peroxydisulfate in the electrochemical process for ofloxacin degradation: A comparative study | C19: Elham Aseman-Bashiz | D19: https://doi.org/10.1016/j.chemosphere.2021.129772 | E19: 2021 | F19: Chemosphere | G19: FeS2 | H19: nano-FeS2 | I19: na | J19: 2-4-6-8 h | K19: nan | L19: 160-300 rpm | M19: nan | N19: nan | O19: After ball milling, the resulting powder was ultrasound in 95% ethanol for 5 min and then washed with nitric acid (1 M) and insed with deionized water to remove surface impurities. Finally, the samples were dried at 30 C | P19: High energy planetary ball mill ballmass to powder-mass = 10:1 | Q19: nan | R19: nan | S19: Teflon | T19: nan | U19: not specified | V19: effective activator of ozone and peroxydisulfate in the electrochemical process for ofloxacin degradation. According to the researchers, the use of modified heterogeneous iron catalysts in activation-based AOPs has advantages such as lower consumption of stoichiometric amounts of Fe2þ and no iron sludge production [GC10] | W19: Pharmaceutic companies / antibiotic
A20: =A19+1 -> 18 | B20: Clean polycondensation through mechanochemistry: Catalyst-free production of new urea-citric acid copolymer | C20: Eval Oliveira Miranda Júnior | D20: https://doi.org/10.1016/j.jclepro.2021.127569 | E20: 2021 | F20: Journal of Cleaner Production | G20: Urea and citric acid | H20: urea-citric acid copolymer | I20: (molar ratio is 1:1) | J20: 1 h | K20: nan | L20: 550 rpm | M20: 82% (conventional yield 70%) | N20: nan | O20: 1- Ball milling 2- Filtration 3- Drying | P20: Planetary mill 1 min pause every 5 min [risk of high T] | Q20: Stainless steel | R20: 10 mm diam | S20: Stainless steel reactor | T20: 50 cm3 | U20: not specified | V20: catalyst and solvent-free clean route to produce urea-citric copolymer using mechanochemistry. | W20: na
A21: =A20+1 -> 19 | B21: Mechanochemical Alkali-Metal-Salt-mediated synthesis of ZnO nanocrystals with abundant oxygen Vacancies: An efficient support for Pd-based catalyst | C21: Yuan Shu | D21: https://doi.org/10.1016/j.cej.2021.131757 | E21: 2021 | F21: Chemical Engineering Journal | G21: 2 mmol ZnCl2 and 1 g KCl | H21: ZnO nanocrystals with abundant oxygen Vacancies | I21: na | J21: 30 min | K21: nan | L21: nan | M21: nan | N21: nan | O21: After finishing the first-round ball milling, the stoichiometric K2CO3 (2 mmol) was added to the resulting mixture and then continued to grind for 0.5 h. The obtained powder was calcined at 300 ◦C for 2 h at a heating rate of 3 ◦C/min and washed with 40 mL deionized water for 2 h. After centrifuged and water washed 3 times, the ZnO was dried for 12 h at 80 ◦C. | P21: High speed vibrating ball miller | Q21: 4 big stainless steel, 12 medium ss | R21: 0,6 to 1,2 cm | S21: Stainless steel pot | T21: 100 ml | U21: not specified | V21: This product can be used fo hydrogen chemical storage. Enhance catalysts performance [GC6hyd] | W21: na
A22: =A21+1 -> 20 | B22: Synergistically enhanced activation of persulfate for efficient oxidation of organic contaminants using a microscale zero-valent aluminum/Fe-bearing clay composite | C22: Ran Yang | D22: https://doi.org/10.1016/j.cej.2021.133682 | E22: 2021 | F22: Chemical Engineering Journal | G22: mZVAI and clay (Na saturated) | H22: mZVAI-clay | I22: mZVAl powder and Na-saturated clays were mixed with a specific mass ratio (1:2 to 8:1) | J22: 60 min | K22: nan | L22: 600 rpm | M22: nan | N22: nan | O22: nan | P22: Planetary ball mill | Q22: nan | R22: nan | S22: Agate milling jar | T22: 50 mL | U22: ball-to-powder weight ratio of 20:1. | V22: Enhanced activation of persulfate for efficient oxidation of organic contaminants using a microscale zero-valent aluminum/Fe-bearing clay composite [GC3] | W22: AOP
A23: =A22+1 -> 21 | B23: Pyrolysis-free, facile mechanochemical strategy toward cobalt single-atom/nitrogen-doped carbon for highly efficient water splitting | C23: Tian (Leo) Jin | D23: https://doi.org/10.1016/j.cej.2021.134089 | E23: 2021 | F23: Chemical Engineering Journal | G23: 100 mg cobalt (II) 5,10,15,20-tetrakis-(4′-bromophenyl)porphyrin (Co-TPP-Br) with 70 mg calcium carbide | H23: Co SACs supported by nitrogen-doped carbon (Co-BM-C) | I23: na | J23: 15 min | K23: nan | L23: 1800 rpm | M23: nan | N23: nan | O23: nan | P23: na | Q23: nan | R23: nan | S23: Stainless steel jar | T23: 30 mL | U23: not specified | V23: Cobalt single-atom/nitrogen-doped carbon for highly efficient water splitting | W23: Single-atom catalysts (SACs), a family of isolated metal atoms anchored on solid supports water split
A24: =A23+1 -> 22 | B24: Bisphenol A cleanup over MIL-100(Fe)/CoS composites: Pivotal role of Fe–S bond in regenerating Fe2+ ions for boosted degradation performance | C24: Lin Wu | D24: https://doi.org/10.1016/j.chemosphere.2021.130659 | E24: 2021 | F24: Chemosphere | G24: MIL-100(Fe) and CoS | H24: MIL-100(Fe)/CoS composites | I24: na | J24: 20 min | K24: nan | L24: 30 HZ | M24: nan | N24: nan | O24: nan | P24: na | Q24: nan | R24: nan | S24: nan | T24: nan | U24: not specified | V24: Water treatment of emerging organic contaminants [GC3] | W24: AOP
A25: =A24+1 -> 23 | B25: Mechanochemical activation on selective leaching of arsenic from copper smelting flue dusts | C25: Li Guo | D25: https://doi.org/10.1016/j.jhazmat.2021.125436 | E25: 2021 | F25: Journal of Hazardous Materials | G25: Bulk CSFU and Sulfides | H25: Mechanical activated CSFU | I25: Na2S/CSFUs mass ratio of 0.3:1 | J25: 30 min | K25: 25 to 75 ºC | L25: 600 rpm | M25: nan | N25: nan | O25: nan | P25: na | Q25: nan | R25: nan | S25: nan | T25: nan | U25: not specified | V25: Arsenic selective leaching [GC3] | W25: na
A26: =A25+1 -> 24 | B26: Boosted bisphenol A and Cr(VI) cleanup over Z-scheme WO3/MIL-100(Fe) composites under visible light | C26: Jia-Wei Wang | D26: https://doi.org/10.1016/j.jclepro.2020.123408 | E26: 2021 | F26: Journal of Cleaner Production | G26: WO3 and MIL-100(Fe) | H26: WO3/MIL-100(Fe) (MxWy) composites | I26: na | J26: 20 min | K26: nan | L26: 30 HZ | M26: nan | N26: nan | O26: nan | P26: na | Q26: nan | R26: nan | S26: nan | T26: nan | U26: not specified | V26: To develop a new efficient catalyst for contaminant removal and sustainable environment, series Zscheme WO3/MIL-100(Fe) (MxWy) composites were easily prepared by ball-milling strategy [GC3][GC9] | W26: AOP, Fenton, water treatment
A27: =A26+1 -> 25 | B27: Multifunctional superhydrophobic adsorbents by mixed-dimensional particles assembly for polymorphic and highly efficient oil-water separation | C27: Yong Xu | D27: https://doi.org/10.1016/j.jhazmat.2020.124374 | E27: 2021 | F27: Journal of Hazardous Materials | G27: GrapheNe and soot particles | H27: Soot modified GN | I27: weight ratio 1:1 | J27: 1 h | K27: 25 ºC | L27: 400 rpm | M27: nan | N27: nan | O27: 1- agate mortar pretreatment 2- beaker containing cyclohexane (ultrasonic treatment 10 min) 3- ball milling 4- Steamed at 90 ºC for 30 min | P27: High energy ball milling in planetary ball mill | Q27: Agate | R27: 14 agate balls of 10 mm 130 agate balls of 4 mm 580 agate balls of 2 mm | S27: agate pot | T27: 50 mL | U27: + agate mortar | V27: Multifunctional superhydrophobic adsorbents by mixed-dimensional particles assembly for polymorphic and highly efficient oil-water separation [GC3] | W27: AOP
A28: =A27+1 -> 26 | B28: Optimisation of photo-fermentative biohydrogen production from corn stover through the synergetic effect of ultrafine grinding and SnO2 nanomaterials | C28: Nadeem Tahir | D28: https://doi.org/10.1016/j.jclepro.2021.129631 | E28: 2021 | F28: Journal of Cleaner Production | G28: Corn Stover and SnO2 | H28: Pre-treatment of the biomass | I28: na | J28: nan | K28: nan | L28: nan | M28: nan | N28: nan | O28: nan | P28: na | Q28: nan | R28: nan | S28: nan | T28: nan | U28: na | V28: Bio-H2 production optimisation with nanomaterials and ball milling [GC7] | W28: Optimisation of photo-fermentative biohydrogen production from corn stover through the synergetic effect of ultrafine grinding and SnO2 nanomaterials
A29: =A28+1 -> 27 | B29: Construction of direct Z-scheme Bi5O7I/UiO-66-NH2 heterojunction photocatalysts for enhanced degradation of ciprofloxacin: Mechanism insight, pathway analysis and toxicity evaluation | C29: Chen Zhao | D29: https://doi.org/10.1016/j.jhazmat.2021.126466 | E29: 2021 | F29: Journal of Hazardous Materials | G29: UiO-66-NH2 and Bi5O7I | H29: UiO-66-NH2/Bi5O7I heterojunctions | I29: na | J29: 20 min | K29: nan | L29: 30 HZ | M29: nan | N29: nan | O29: Prepare precursors via chemical or solvothermal processes and produce MOF via ball milling | P29: Planet type milling instrument | Q29: Stainless steel | R29: 10-20 mm | S29: Stainless steel | T29: nan | U29: na | V29: Pharmaceutical industry- Pharmaceutical wastewater treatment. MOF are one of the main applications of mechanochemistry! [GC3] | W29: Construction of direct Z-scheme Bi5O7I/UiO-66-NH2 heterojunction photocatalysts for enhanced degradation of ciprofloxacin
... A39: =A38+1 -> 37 | B39: One-pot eco-friendly synthesis of edge-carboxylate graphene via dry ball milling for enhanced removal of acid and basic dyes from single or mixed aqueous solution | C39: Mani Sivakumar | D39: https://doi.org/10.1016/j.jclepro.2020.121498 | E39: 2020 | F39: Journal of Cleaner Production | G39: Graphene oxide and carboxylate. GO and COOH [graph] | H39: edge-carboxylate graphene | I39: flake-like graphite-derived edge-carboxylate graphene for the simultaneous removal of oppositely charged dye ions. metaleorganic and covalent organic frameworks | J39: 4-8 h | K39: nan | L39: 600 rpm | M39: nan | N39: nan | O39: 1- Graphite is dry -ball-milled at a ratio of 7:1 2- Wash 0.1 M HCl DI water | P39: Planetary ball mill | Q39: steel | R39: 10 mm diam | S39: stainless steel | T39: 250 mL | U39: ball to graphene powder ratio of 7:1 | V39: water treatment. Industrial water effluent [GC3] | W39: AOP
A40: =A39+1 -> 38 | B40: Mechanochemical activation of titanium slag for effective selective catalytic reduction of nitric oxide | C40: Hao Hou | D40: https://doi.org/10.1016/j.scitotenv.2020.140733 | E40: 2020 | F40: Science of The Total Environment | G40: Ti-bearing blast furnace slag | H40: Ti catalyst | I40: wet ball milling. No waste is produced | J40: 120 min | K40: nan | L40: 100 rpm | M40: nan | N40: nan | O40: nan | P40: Surface area increased by 10-15 times | Q40: Agate | R40: 5-10 mm diam | S40: nan | T40: nan | U40: na | W40: Mechanochemical activation of titanium slag for effective selective catalytic reduction of nitric oxide
A41: =A40+1 -> 39 | B41: Cr(VI) removal by micron-scale iron-carbon composite induced by ball milling: The role of activated carbon | C41: Wenhao Wang | D41: https://doi.org/10.1016/j.cej.2019.122633 | E41: 2020 | F41: Chemical Engineering Journal | G41: mZVI & AC | H41: mZVI/AC | I41: The mixed 5.6 g mZVI and different quality activated carbon (60 mg, 120 mg, 300 mg, and 660 mg) | J41: 30 min | K41: nan | L41: 300 rpm | M41: nan | N41: nan | O41: nan | P41: high-energy ball milling method, which performed in a planetary ball mill in air | Q41: Zirconia | R41: 6-10 mm | S41: Stainless steel | T41: nan | U41: 4:1 number ratio between small and big milling balls | V41: Cr(VI) removal by micron-scale iron-carbon composite induced by ball milling [GC3] | W41: AOP
A42: =A41+1 -> 40 | B42: Preparation of C-MOx nanocomposite for efficient adsorption of heavy metal ions via mechanochemical reaction of CaC2 and transitional metal oxides | C42: Luyan Xia | D42: https://doi.org/10.1016/j.jhazmat.2020.122487 | E42: 2020 | F42: Journal of Hazardous Materials | G42: CaC2 and metal oxides | H42: C-MOx nanocomposite | I42: Analytical grade chemicals were used as received without further purification, which include CaC2, MnO2, Pb(NO3)2, Hg(NO3)2, Cu(NO3)2, Cd(NO3)2, Cr(NO3)3, Zn(NO3)2, HNO3, Fe2O3, MoO3, Co2O3, V2O5, TiO2, CrO3, CuO, NaOH, hydrochloric acid, Xylenol orange disodium salt, hexamethylenetetramine, hexadecylpyridinium chloride monohydrate, ethanol absolute, and deionized water. | J42: 6 h | K42: nan | L42: 600 rpm | M42: nan | N42: nan | O42: Ball milling and cooled down to room T. Drying and filtration | P42: Planetary ball mill. A small amount of ethanol and water was added to the milling pot to decompose the residue CaC2 and to avoid possible explosion or ignition when directly exposed to air. [risk of explosion] | Q42: nan | R42: nan | S42: nan | T42: nan | U42: na | V42: efficient adsorption of heavy metal ions from water [GC3] | W42: AOP
A43: =A42+1 -> 41 | B43: An environmental-friendly process for recovery of tellurium and copper from copper telluride | C43: Liang Xu | D43: https://doi.org/10.1016/j.jclepro.2020.122723 | E43: 2020 | F43: Journal of Cleaner Production | G43: Copper teluride and H2O2 | H43: Copper telluride separation | I43: Leaching process. 185 g of copper telluride, and certain amounts of NaOH liquor and H2O2 oxidant were mixed and subsequently introduced into the reacting chamber together with stainless steel milling balls | J43: 5 h | K43: nan | L43: 180 rpm | M43: 93% (91% conventional) | N43: nan | O43: 1- Leaching enhanced with ball milling 2- Filtration 3- Dehydratation | P43: Conical ball mill | Q43: Stainless steel | R43: 15-35 mm | S43: nan | T43: nan | U43: na | V43: Recovery of tellurium and copper from copper telluride | W43: na
A44: =A43+1 -> 42 | B44: Mechanical exfoliation of boron carbide: A metal-free catalyst for aerobic oxidative desulfurization in fuel (THIS IS NICE AND FITS WITH BIODIESEL/SOLKETAL TOPIC) | C44: Peiwen Wu | D44: https://doi.org/10.1016/j.jhazmat.2020.122183 | E44: 2020 | F44: Journal of Hazardous Materials | G44: Fuel oil and and boron carbide (B4C) | H44: Dessulfurized fuel oil | I44: Hydrodesulfurization (HDS) vs oxidative desulfurization (ODS) | J44: 1-3-5 h (more time, better results) | K44: nan | L44: 200 rpm | M44: 99,5% sulfur removal (69% conventional) | N44: nan | O44: grinding, ball milling | P44: Planetary ball miller | Q44: Zirconium oxide | R44: nan | S44: Seel jar | T44: nan | U44: ball to powder weigh tratio 15:1 | V44: Aerobic oxidative desulfurization (ODS). In this work, exfoliated metal-free boron carbide with few-layered structure, small size, and abundant defects, was first employed in an aerobic ODS system for ultra-deep desulfurization [GC4] | W44: Mechanical exfoliation of boron carbide: A metal-free catalyst for aerobic oxidative desulfurization in fuel
A45: =A44+1 -> 43 | B45: Solvent-free pulverization and surface fatty acylation of pulp fiber for property-enhanced cellulose/polypropylene composites | C45: Lang Huang | D45: https://doi.org/10.1016/j.jclepro.2019.118811 | E45: 2020 | F45: Journal of Cleaner Production | G45: Natural cellulosic fiber | H45: Activated cellulosic fiber | I45: Ball milling, using mechanical energy to grind and change the thermodynamics of the charged materials with a combination of mechanical and chemical influences on a molecular scale (McNaught and McNaught, 1997), has been widely used due to the solvent-free and easy-process advantages. | J45: 30 min | K45: nan | L45: nan | M45: nan | N45: nan | O45: 1- Dried overnight at 80ºC 2- Ball milling of pulp fibers (30 min) to prepare activated cellulose powder 3- Mixture of acetic anhydride and oleic acid with the molar ratio of 2:1 were added into cellulose powder, with the presence of 10 wt % NaH2PO2 acting as the catalyst 4- co-milling for 30 and 240 min to obtain cellulose esters with different DS values | P45: Planetary ball miller | Q45: Stainless steel | R45: nan | S45: Stainless steel | T45: nan | U45: na | V45: Natural cellulosic fiber, which is abundant, low-cost and renewable, has a variety of applications in bio-based composites, acting as an important block for building a sustainable and green society. However, when preparing natural fiber reinforced polymer composites, the aggregation character and hydrophilic nature of cellulosic materials often lead to processing difficulty and incompatibility with most of the hydrophobic polymersc [GC7] | W45: Solvent-free pulverization and surface fatty acylation of pulp fiber for property-enhanced cellulose/polypropylene composites
A46: =A45+1 -> 44 | B46: Solvent-free and mechanochemical synthesis of N-doped mesoporous carbon from tannin and related gas sorption property | C46: Jiahua Zhao | D46: https://doi.org/10.1016/j.cej.2019.122579 | E46: 2020 | F46: Chemical Engineering Journal | G46: Tannin (organic biomass) + Nitrogen source compounds (urea, melamine…) | H46: nitrogen-doped mesoporous carbons | I46: The mechanical energy could induce mesophase self-assembly (via coordination polymerization and crosslinking between polymer and soft template F127, PEO-PPO-PEO). | J46: 0.5 h | K46: nan | L46: 30 Hz | M46: nan | N46: nan | O46: 1- tannin, F127 and nitrogen source (0.5 g: 0.4 g: 0.1~0.3 g) were mixed and mechanically ground. 2- Drying 12 h at 40 ºC | P46: na | Q46: Stainless steel | R46: nan | S46: nan | T46: nan | U46: na | V46: mesoporous carbons (MCs) have been intensively explored since they often exhibit unique properties (e.g., wide pore size, high surface area, large pore volume, excellent chemicalstability and adjustable channel structure), and thus hold great promise in various applications such as electrochemistry, membrane science, sorption and separation, catalysis and energy conversion | W46: N-doped MCs and its applications in gas sorption
A47: =A46+1 -> 45 | B47: Facile and green synthesis of highly dispersed tar-based heterogeneous Fenton catalytic nanoparticles for the degradation of methylene blue | C47: Dong Li | D47: https://doi.org/10.1016/j.jclepro.2019.119033 | E47: 2020 | F47: Journal of Cleaner Production | G47: waste biomass tar | H47: catalyst for H2O2 decomposition and subsequent methylene blue degradation in aqueous solution | I47: Thermochemical conversion. Catalytic nanoparticles from waste biomass tar via green solvent-free approach | J47: (10 min run + 5 min stop) x6 to ensure that the heat from milling could softened the tar and promoted the Fe(NO3)3 (cooling?) | K47: nan | L47: 400 rpm | M47: nan | N47: nan | O47: 1- biomass tar was crushed and then mixed with Fe(NO3)3-9H2O at a mass ratio of 5:2 2- ball milling 3- drying | P47: Planetary ball mill [risk of high T] | Q47: nan | R47: nan | S47: nan | T47: nan | U47: na | V47: Water treatment AOP Fenton. Fenton process is the most common method that using Fe2+ to catalyze the decomposition of H2O2 to produce highly reactive hydroxyl and hydroperoxyl radicals and then oxydize organic pollutants from wastewater [GC3] | W47: AOP
A48: =A47+1 -> 46 | B48: Methane production by mechanochemical processing of MgH2-Li2CO3 as sources of H2 and CO2 at room temperature | C48: María L. Grasso | D48: https://doi.org/10.1016/j.jcou.2020.101209 | E48: 2020 | F48: Journal of CO2 Utilization | G48: Li2CO3 and MgH2 | H48: MgH2-Li2CO3 | I48: Raw material are solid portable sources of CO2 and H2. MgH2:Li2CO3, 4:1 and 2:1 were prepared by ball milling (BM) | J48: stopped each 5 min | K48: 25ºC | L48: 750-1000 rpm | M48: nan | N48: nan | O48: nan | P48: [risk of high T] | Q48: Stainless steel | R48: nan | S48: stainless steel | T48: nan | U48: ball mass to powder, 1 to 4. Argon atmosphere | V48: Room temperature production of CH4/H2 fuel mixtures via mechanochemical activation of Li2CO3-MgH2 system was explored | W48: fuel production
A49: =A48+1 -> 47 | B49: Few-layer NbSe2@graphene heterostructures as anodes in lithium-ion half- and full-cell batteries | C49: Quoc Hai Nguyen | D49: https://doi.org/10.1016/j.cej.2019.122981 | E49: 2020 | F49: Chemical Engineering Journal | G49: bulk graphite and NbSe2 | H49: NbSe2@graphene heterostructures | I49: wet ball-milled NbSe2@graphene or WBMNG. Ball milling with ethanol | J49: 40 h (30 min break each hour) | K49: 25ºC | L49: 300 rpm | M49: nan | N49: nan | O49: 1- ball milling 2- ethanol washing 3- drying 70ºC 12 h | P49: [risk of high T] | Q49: zirconium oxide | R49: 3/8 in and 3/16 in | S49: zirconium oxide | T49: 80 cm3 | U49: ball-to-powder mass ratio of 20:1 | V49: anodes in lithium-ion halfand full-cell batteries [GC6bat] | W49: na
A50: =A49+1 -> 48 | B50: 4-Nitrobenzaldehyde removal by catalytic ozonation in the presence of CNT | C50: A. Sofia G. G. Santos | D50: https://doi.org/10.1016/j.jwpe.2020.101573 | E50: 2020 | F50: Journal of Water Process Engineering | G50: carbon nanotubes (CNT) | H50: CNT-BM | I50: na | J50: 2 h | K50: nan | L50: 15 vibration/s | M50: nan | N50: nan | O50: nan | P50: na | Q50: nan | R50: nan | S50: nan | T50: nan | U50: na | V50: 4-Nitrobenzaldehyde removal by catalytic ozonation in the presence of CNT [GC3] | W50: AOP
A51: =A50+1 -> 49 | B51: HCB dechlorination combined with heavy metals immobilization in MSWI fly ash by using n-Al/CaO dispersion mixture | C51: Shuyao Yu | D51: https://doi.org/10.1016/j.jhazmat.2020.122510 | E51: 2020 | F51: Journal of Hazardous Materials | G51: CaO and Al | H51: n-Al/CaO | I51: na | J51: 60 min; 20 cycles (3-min run and 2-min rest, forward and reverse running) | K51: nan | L51: 300-600 rpm | M51: nan | N51: nan | O51: nan | P51: Stearic acid was added as a process control agent to minimize excessive cold welding during the ball milling process. 0.1 g x 300 rpm & 0.2 g x 600 rpm [risk of high T] | Q51: Zirconia grinding balls | R51: 3-5 mm | S51: zirconia grinding bowl | T51: 80 mL | U51: Nitrogen gas atmosphere | V51: Municipal solid waste incineration fly ash (MSWI-FA) has been strictly controlled as hazardous waste globally because it contains various heavy metals and dioxins. This study prepared a nanometallic Al/CaO (n-Al/CaO) dispersion mixture via ball-milling as a reductive stabilization reagent for the simultaneous immobilization of heavy metals and detoxification of POPs like substance in MSWI-FA [GC3] | W51: na
A52: =A51+1 -> 50 | B52: A new route for manufacturing poly(aminophosphonic)-functionalized poly(glycidyl methacrylate)-magnetic nanocomposite - Application to uranium sorption from ore leachate | C52: Ahmed A. Galhoum | D52: https://doi.org/10.1016/j.envpol.2020.114797 | E52: 2020 | F52: Environmental Pollution | G52: magnetite nanoparticles with amino-phosphonic functionalized poly(-glycidyl methacrylate) polymer | H52: poly(aminophosphonic)-functionalized poly(glycidyl methacrylate)-magnetic nanocomposite | I52: highly efficient magnetic sorbent for U(VI) sorption from aqueous solutions | J52: 60 min (including 1-min stop every 20 min) | K52: nan | L52: 700 rpm | M52: nan | N52: nan | O52: nan | P52: High-energy planetary ball milling [risk of high T] | Q52: Yttrium Stabilized Zirconia | R52: 2 mm | S52: Yttrium Stabilized Zirconia | T52: nan | U52: na | V52: Application to uranium sorption from ore leachate [GC3] | W52: na
... A55: =A54+1 -> 53 | B55: Experimental and simulation study of copper recovery process from copper oxide ore using aspen plus software: Optimization and sensitivity analysis of effective parameters | C55: Majid Saidi | D55: https://doi.org/10.1016/j.jece.2020.103772 | E55: 2020 | F55: Journal of Environmental Chemical Engineering | G55: Copper oxide ore | H55: Copper oxide ore (ball milled) | I55: Pre-treatment for particle size reduction | J55: nan | K55: nan | L55: nan | M55: nan | N55: nan | O55: nan | P55: na | Q55: nan | R55: nan | S55: nan | T55: nan | U55: na | V55: Copper is widely used in electrical materials, electronic, mechanical, architecture and military industries | W55: na
A56: 54 | B56: Solvent-free synthesis of Rh/meso-Al2O3 via mechanochemistry for hydrolytic dehydrogenation of ammonia borane | C56: Junji Chen | D56: https://doi.org/10.1016/j.ijhydene.2021.11.137 | E56: 2021 | F56: International Journal of Hydrogen Energy | G56: RhCl3-3H2O, desired template of CTAB, F127, P123, or SDBS, and aluminum isopropoxide | H56: Rh/meso-Al2O3 | I56: hydrolytic dehydrogenation of ammonia borane. RhCl3-3H2O, desired template of CTAB, F127, P123, or SDBS, and aluminum isopropoxide were mixed in a ratio of 1: 50: 100 | J56: 30 min | K56: nan | L56: 500 rpm | M56: nan | N56: nan | O56: This process gives rise to the mechanochemical self-assembled mixture which driven by mechanical force and friction heating | P56: Planetary ball mill machine | Q56: Zirconia balls | R56: nan | S56: Zirconia | T56: 100 mL | U56: na | V56: Chemical hydrogen storage. High hydrogen content and stable under environmental conditions [GC6hyd] | W56: there are some disadvantages of physical hydrogen storage technology that limit its commercial application, such as low hydrogen storage density, harsh hydrogen storage conditions, and unsolved safety problems

Sheet SOME CONCLUSIONS
A1: 1- MOF is one of the most commonly applications of mechanochemistry
A3: 2- Even though mechanochemical reactions are very useful to promote green chemistry processes and reduce emissions,
A4: some times the precursors may be obtained with contaminant or less green solvothermal processes. LCA is a good approach to considere this point of view
A6: 3- If milling requires extra pre-treatment or post-treatment such as drying, calcination, size reduction or others energy intensive processes which are not required in the conventional process, this must be considered in the overall environmental study
A8: 4- Usually employ balls with different sizes at same time. Why?
A11: Temperature & pressure is difficult to control if mechanochemical reactor is seen as a black box. It is important to add safety valves and other if scaling it up to industrial scale
A14: Reactant | B14: Count | C14: % | D14: Product
A15: biomass | B15: 9 | C15: =B15/$B$63 -> 0.16666667
A16: Distiller grains | B16: 1 | D16: Biochar
A17: Peanut shell | B17: 1 | D17: Biochar
A18: Corn Stover and SnO2 | B18: 1 | D18: pretreatment of the biomass for bio-H2 production
A19: SNCl4 and wood | B19: 1 | D19: Sn-functionalisation of wood waste biochar for sugar conversion in food waste valorisation
A20: Activated cellulosic fiber | B20: 1 | D20: Natural cellulosic fiber, which is abundant, low-cost and renewable, has a variety of applications in bio-based composites, acting as an important block for building a sustainable and green society. However, when preparing natural fiber reinforced polymer composites, the aggregation character and hydrophilic nature of cellulosic materials often lead to processing difficulty and incompatibility with most of the hydrophobic polymersc
A21: Tannin (organic biomass) + Nitrogen source compounds (urea, melamine…) | B21: 1 | D21: nitrogen-doped mesoporous carbons. mesoporous carbons (MCs) have been intensively explored since they often exhibit unique properties (e.g., wide pore size, high surface area, large pore volume, excellent chemicalstability and adjustable channel structure), and thus hold great promise in various applications such as electrochemistry, membrane science, sorption and separation, catalysis and energy conversion
A22: waste biomass tar | B22: 1 | D22: catalyst for H2O2 decomposition and subsequent methylene blue degradation in aqueous solution
A23: Pulp and paper mill sludge | B23: 1 | D23: Pre-treatment for particle size reduction
A24: Copper oxide ore ball milled | B24: 1 | D24: Pre-treatment for particle size reduction / Copper is widely used in electrical materials, electronic, mechanical, architecture and military industries
A25: MOF or composite | B25: 16 | C25: =B25/$B$63 -> 0.2962963
A26: ZVI + oxalic acid | B26: 1
A27: mZVI & AC | B27: 1
A28: GO + carbon black particles + Fe3O4 | B28: 1
A29: GO and carboxylate. | B29: 1 | D29: flake-like graphite-derived edge-carboxylate graphene for the simultaneous removal of oppositely charged dye ions. Water treatment
A30: MIL-101+ZIF-8 | B30: 1
A31: MIL-100(Fe) and CoS | B31: 1
A32: Mn2O3-ZnO & SAPO-34 | B32: 1
A33: mZVAI-clay | B33: 1
A34: Urea and citric acid | B34: 1 | D34: copolymer
A35: Co SACs supported by nitrogen-doped carbon (Co-BM-C) | B35: 1
A36: WO3 and MIL-100(Fe) | B36: 1
A37: UiO-66-NH2 and Bi5O7I | B37: 1 | D37: Pharmaceutical industry- Pharmaceutical wastewater treatment. Construction of direct Z-scheme Bi5O7I/UiO-66-NH2 heterojunction photocatalysts for enhanced degradation of ciprofloxacin
A38: MAPbBr3 and carbon spheres | B38: 1
A39: Nanoperlite and MnO2 | B39: 1 | D39: Thanks to their excellent properties, nanoparticles (NPs) have widespread practical applications in various fields
A40: Li2CO3 and MgH2 | B40: 1
A41: Rh/meso-Al2O3 | B41: 1 | D41: Chemical hydrogen storage
A42: Advanced materials or composite | B42: 10 | C42: =B42/$B$63 -> 0.18518519
A43: bulk h-BN | B43: 1 | D43: Boron nitrides nanosheets
A44: 1- KMnO4 and KHSO4 2- MGO and CaC2 | B44: 1 | D44: mechanochemical graphite oxide (MGO) was prepared by ball milling graphite, KMnO4, and KHSO4 simultaneously. And an alkynyl cross-linked 3D carbon material (AMGO) was prepared via mechanochemical reaction of MGO and CaC2 (1:4 mass ratio). used in supercapacitors, chemical battery, water treatment and catalysis owing to their highly cross-linked structure, hierarchical porosity, high specific area, and mechanical stability
A45: FeS2 | B45: 1 | D45: nano FeS2. For pharmaceutical effluents. effective activator of ozone and peroxydisulfate in the electrochemical process for ofloxacin degradation. According to the researchers, the use of modified heterogeneous iron catalysts in activation-based AOPs has advantages such as lower consumption of stoichiometric amounts of Fe2þ and no iron sludge production
A46: ZnCl2 and KCl | B46: 1 | D46: ZnO nanocrystals with abundant oxygen vacancies
A47: GrapheNe and soot particles | B47: 1 | D47: Multifunctional superhydrophobic adsorbents by mixed-dimensional particles assembly for polymorphic and highly efficient oil-water separation
A48: Na2CO3, Mn2O3 and Fe2O3 | B48: 1 | D48: Artificial cathode electrolyte interphase. thick and stable cathode electrolyte interphase layer
A49: hydroxyapatite (HA), zincdoped HA (ZnHA), and ZnHA-graphene (ZnHA-rGO) nanoparticles | B49: 1 | D49: 3D bone scaffolds were built by a custom-built 3D printing system. The ball mill is employed for the synthesis of ZnHA-rGO nanocomposite. Effect of zinc-doped hydroxyapatite/graphene nanocomposite on the physicochemical properties and osteogenesis differentiation of 3D-printed polycaprolactone scaffolds for bone tissue engineering
A50: Fuel oil and and boron carbide (B4C) | B50: 1 | D50: Dessulfurized fuel oil
A51: NbSe2@graphene heterostructures | B51: 1 | D51: anodes in lithium-ion halfand full-cell batteries
A52: Carbon nanotubes | B52: 1 | D52: Water treatment
A53: Recycling of waste | B53: 13 | C53: =B53/$B$63 -> 0.24074074
A54: blast-furnace slag | B54: 2 | D54: NaCl; Ti
A55: Coal and fly ash landfilled in ash ponds | B55: 2 | D55: pretreatment for recycling
A56: Halogenated organic pollutants | B56: 1 | D56: CaO is used to activate the PDS and destruct typical HOPs such as 2,4-dichlorophenol (2,4-DCP)
A57: Nepheline syenite sand (20/40) | B57: 1 | D57: Efficacy of soil remediation of organic contaminants
A58: Lithium ion batteries | B58: 2 | D58: recycling of electrode materials
A59: Cardboard waste | B59: 1 | D59: pretreatment
A60: Heavy metals | B60: 3 | D60: Agglomeration and stabilization; C-MOx nanocomposite from CaC2 and metal oxides / This study prepared a nanometallic Al/CaO (n-Al/CaO) dispersion mixture via ball-milling as a reductive stabilization reagent for the simultaneous immobilization of heavy metals and detoxification of POPs like substance in MSWI-FA
A61: magnetite nanoparticles with amino-phosphonic functionalized poly(-glycidyl methacrylate) polymer | B61: 1 | D61: Uranium sorption
A62: Others | B62: 6 | C62: =B62/$B$63 -> 0.11111111
B63: =B15+B25+B42+B53+B62 -> 54
B65: jar | C65: ball
A66: agate | B66: =4/22 -> 0.18181818 | C66: =4/26 -> 0.15384615 | D66: 60
A67: zirconia oxide | B67: =6/22 -> 0.27272727 | C67: =8/26 -> 0.30769231
A68: stainless steel | B68: =10/22 -> 0.45454545 | C68: =13/26 -> 0.5
A69: tungsten carbide | C69: =1/26 -> 0.038461538
A70: teflon | B70: =1/22 -> 0.045454545
A71: alumina | B71: =1/22 -> 0.045454545
B72: =SUM(B66:B71) -> 1 | C72: =SUM(C66:C71) -> 1
A75: powder to ball | B75: 1 to 30
B76: 1 to 10 | C76: 2
B77: 1 to 3
B80: =(3+30+10*2)/4 -> 13.25
